{"text_format":"1","workbook":"xlsx","n_sheets":46,"sheets":["00 Alimenta","00 Aggregatore","00 CE","Tab 50-51","Dettaglio voce AA0280 ","Tab 52","Tab 52bis","Tab 53","Tab 53 riclassifica regionale","Tab 54","Tab 55","Tab 56-57","AB01-02-03","Tab-57 bis","Tab 58","Tab 58 bis","Tab 58 riclassifica regionale","Tab 59-60","Farmaceutica Convenzionata","AS01-AS02","Tab 60-bis","Tab 61","Tab 61bis","AS03","AS04","Tab 62","Tab 63","Tab 64-65","Tab 66-67-68-69","Tab 70","Personale in Comando","Personale Universitario","Altro Contratto","Personale - Conto annuale","Tabella 2 Consuntivo ","Riconciliazione Tabella 2 vs CE","Quota 2019_Rin. Contr. Dirig","Fondi CCNL - Consistenza","Fondi CCNL - Serie Storica","Tab 71","Punto 23","Commento Accantonamenti","Punti 24-25","Punto 26","PS02-03-04-05","PS06"],"not_rendered":{"charts":0,"images":0,"macros":0,"external_links":1,"defined_names":80,"comments":0,"pivot_tables":0},"unopened":[],"bounds":{"document_bytes":16777216,"sheet_cells":100000,"rows_first":2000,"rows_last":500,"rows_between":2000,"halvings":0,"cell_chars":16384,"cell_head_chars":4096},"cells_cut":0,"cells_raw":0,"read":"whole","date_system":"1900"}

{"sheet":"00 Alimenta","index":0,"n_rows":576,"n_cols":5,"rows_kept":576,"cut":false,"hidden":true,"merged":[]}
[]
["PRG",4]
[]
["CE","Conto","Descrizione conto","Esercizio 2018","Esercizio 2019"]
["AA0031","0301010101","Finanziamento indistinto",544141166.15999997,547046180.25]
["AA0031","0301010102","Finanziamento indistinto - Funzioni regionali",11338597.85,10707741.57]
["AA0032","0301010103","Finanziamento indistinto finalizzato da Regione",0,1262268.83]
["AA0040","0301010212","Quota per progetti di PSN L. 662/96",13751012.34,12924579.970000001]
["AA0040","0301010215","Quota per contributi da Regione per Emergenza Avicola L.205/2017, art.1, comma 509",13789.5,0]
["AA0070","0301020101","Contributi da Regione (extra fondo) vincolati",410404.72,964199.29]
["AA0100","0301020104","Contributi da Regione (extra fondo) - Altro",0,216918.16]
["AA0150","0301020302","Contributi da Comune (extra fondo) vincolati",0,7500]
["AA0150","0301020306","Contributi da altri enti pubblici - vincolati",168535.25,31200.59]
["AA0170","0301020313","Contributi da altri soggetti pubblici (extra fondo) - altro",0,0]
["AA0250","0716010101","Rettifica contributi in c/esercizio per destinazione ad investimenti - da Regione per quota F.S. regionale",-4347846.8099999996,-3379701.26]
["AA0280","0302010102","Utilizzo fondi per quote inutilizzate contributi di esercizi precedenti da Regione per quota emersione extracomunitari L. 102/09 art. 1 ter, comma 17 e D.Lgs. 109/2012 art. 5, comma 16",618167.12,0]
["AA0280","0302010103","Utilizzo fondi per quote inutilizzate contributi di esercizi precedenti da Regione per quota medicina Penitenziaria D.Lgs 230/99",47292,9458.4]
["AA0280","0302010104","Utilizzo fondi per quote inutilizzate contributi di esercizi precedenti per quota Medicina Penitenziaria art. 2 comma 283 L. 244/07",1278940.21,228242.33]
["AA0280","0302010107","Utilizzo fondi per quote inutilizzate contributi di esercizi precedenti da Regione per quota Extracomunitari irregolari L. 40/98",0,252907.55]
["AA0280","0302010108","Utilizzo fondi per quote inutilizzate contributi di esercizi precedenti da Regione per quota Fondo esclusività L 488/99",774519.17,0]
["AA0280","0302010111","Utilizzo fondi per quote inutilizzate contributi di esercizi precedenti da Regione per quota Aids L 135/90",291195.73,67983.009999999995]
["AA0280","0302010112","Utilizzo fondi per quote inutilizzate contributi di esercizi precedenti da Regione per quota Progetti di PSN L 662/96",4839865.09,16985783.32]
["AA0280","0302010117","Utilizzo fondi per quote inutilizzate contributi esercizi precedenti Regione per quota gioco d'azzardo patologico (GAP) Legge n. 190/2014 e ss.mm.ii.",220805,0]
["AA0290","0302020101","Utilizzo fondi per quote inutilizzate contributi di esercizi precedenti da soggetti pubblici (extra fondo) vincolati",0,242229.77]
["AA0350","0303010101","Prestazioni di ricovero",31411147.640000001,30459329.699999999]
["AA0350","0303010102","Per assistenza ospedaliera (erogate da privato accreditato)",32521005.16,34533204.640000001]
["AA0360","0303010103","Prestazioni di specialistica ambulatoriale",6072102.4699999997,6618754.7699999996]
["AA0360","0303010105","Per altra assistenza specialistica ambulatoriale (erogate da privato accreditato)",2423368.2000000002,2401196.7999999998]
["AA0370","0303010107","Prestazioni di psichiatria residenziale e semiresidenziale nelle Strutture Psicoriabilitative (erogate da privato accreditato)",4667985.8600000003,4699731.63]
["AA0380","0303010108","Prestazioni di File F",13551276.25,15293240.5]
["AA0390","0303010109","Prestazioni servizi MMG, PLS, Continuità assistenziale",76930.02,139164.66]
["AA0400","0303010110","Prestazioni servizi farmaceutica convenzionata",1554303.34,1464959.73]
["AA0410","0303010112","per assistenza termale (erogate da privato accreditato)",1071238.47,825373.77]
["AA0420","0303010113","Prestazioni trasporto ambulanze ed elisoccorso",176712.63,215493.58]
["AA0430","0303010118","Per assistenza riabilitativa schema tipo previsto ex art. 26  L. 833/78 ",3898231.58,3710722.07]
["AA0430","0303010119","Per prestazioni ad anziani non autosufficienti nei Centri Residenziali",154181.96,122485.96]
["AA0430","0303010120","Per prestazioni ad anziani non autosufficienti nelle Residenze Sanitarie Assistite",1931897.43,1992574.51]
["AA0440","0303010203","Altre prestazioni sanitarie e sociosanitarie a rilevanza sanitaria erogate ad altri soggetti pubblici",90381.5,56370.17]
["AA0460","0303010301","Prestazioni di ricovero",7320391.0700000003,11878307.279999999]
["AA0470","0303010302","Prestazioni ambulatoriali",1477229.91,2030527.06]
["AA0490","0303010304","Prestazioni di File F",2471453.08,1915086.72]
["AA0500","0303010305","Prestazioni servizi MMG, PLS, Continuità assistenziale Extraregione",56122.64,19433.84]
["AA0510","0303010306","Prestazioni servizi farmaceutica convenzionata Extraregione",506661.23,1142996.67]
["AA0520","0303010307","Prestazioni termali Extraregione",180073.68,237345.51]
["AA0530","0303010308","Prestazioni trasporto ambulanze ed elisoccorso Extraregione",469730.81,309535.11]
["AA0550","0303010311","Ricavi per cessione di emocomponenti e cellule staminali Extraregione",0,45357.06]
["AA0590","0303010314","Altre prestazioni sanitarie e socio-sanitarie a rilevanza sanitaria non soggette a compensazione Extraregione",2626.39,7192.04]
["AA0600","0303010315","Altre prestazioni sanitarie a rilevanza sanitaria - Mobilità attiva Internazionale",318967.76,393536.14]
["AA0620","0303020101","Prestazioni di ricovero da privati Extraregione in compensazione (mobilità attiva)",10285883.1,8426930.4800000004]
["AA0630","0303020201","Prestazioni ambulatoriali da privati Extraregione in compensazione (mobilità attiva)",201606.44,200940.4]
["AA0660","0303030101","Proventi per rilascio cartelle cliniche, radiografie e certificati",146436.07999999999,137733.32]
["AA0660","0303030102","Proventi per multe, ammende e contravvenzioni di vigili sanitari",2500,3673.47]
["AA0660","0303030103","Proventi per sanzioni in materia di lavoro",27593.38,85672.93]
["AA0660","0303030104","Proventi per prestazioni di medicina del lavoro",540.64,412.05]
["AA0660","0303030105","Proventi per sanzioni sanità pubblica veterinaria",9396.75,10084.41]
["AA0660","0303030106","Proventi per diritti veterinari ex art.3 D.lgs. 51/92",327976.69,338725.42]
["AA0660","0303030107","Proventi per sanzioni amministrative",140693.07,105772.24]
["AA0660","0303030108","Proventi sperimentazioni farmaci e cliniche",143256.79999999999,89468.33]
["AA0660","0303030109","Proventi per servizi di medicina legale",551600.1,483418.11]
["AA0660","0303030110","Ricavi per somministrazione di vaccini",118766.74,287074.93]
["AA0660","0303030111","Proventi per prestazioni di medicina sportiva",32128.55,34577.78]
["AA0660","0303030114","Altri ricavi per prestazioni sanitarie erogate a soggetti privati",312040.17,245389.61]
["AA0660","0303030115","Ricavi per prestazioni specialistiche ambulatoriali  (a privati paganti)",786234.17,631602.4]
["AA0660","0303030116","Ricavi per ricovero ospedaliero ",270609.03999999998,436048.28]
["AA0660","0303030117","Ricavi per prestazioni del dipartimento di prevenzione",401104.96,307693.03000000003]
["AA0660","0303030118","Ricavi per consulenze sanitarie mediche e veterinarie",11274.96,14080.95]
["AA0660","0303030122","Ricavi cessione sangue ed emoderivati vs privati",338352.21,408078.34]
["AA0680","0303040101","Ricavi per prestazioni sanitarie intramoenia - Area ospedaliera",80436.56,97957.71]
["AA0690","0303040201","Ricavi per prestazioni sanitarie intramoenia - Area specialistica",3326104,3340368]
["AA0700","0303040301","Ricavi per prestazioni sanitarie intramoenia - Area sanità pubblica",17534.57,16412.46]
["AA0710","0303040401","Ricavi per prestazioni sanitarie intramoenia - Consulenze (ex art. 55 c. 1 lett. c), d) ed ex art. 57-58)",677848.85,385532.67]
["AA0730","0303040601","Ricavi per prestazioni sanitarie intramoenia - Altro",130775.39,70557.929999999993]
["AA0740","0303040701","Ricavi per prestazioni sanitarie intramoenia - Altro (Aziende sanitarie pubbliche della Regione)",5779.7,17895.3]
["AA0760","0304010101","Rimborsi assicurativi",151672.57999999999,157878.72]
["AA0810","0304030101","Rimborso degli oneri stipendiali del personale dipendente dell'azienda in posizione di comando presso Aziende sanitarie pubbliche della Regione",23253.72,0]
["AA0830","0304030301","Altri concorsi, recuperi e rimborsi da parte di Aziende sanitarie pubbliche della Regione",180596.98,131694.35999999999]
["AA0850","0304040101","Rimborso degli oneri stipendiali del personale dipendente dell'azienda in posizione di comando presso altri soggetti pubblici",150326.43,0]
["AA0860","0304040201","Rimborsi per acquisto beni sanitari v/altri Enti Pubblici",8374.7800000000007,5464.29]
["AA0870","0304040303","Concorso da comuni per integr.rette RSA",81077.240000000005,42850.54]
["AA0870","0304040304","Altri concorsi, recuperi e rimborsi da parte di altri soggetti pubblici",13333.41,696.73]
["AA0920","0304050103","Ulteriore Pay-back",2615698.91,2477467.9500000002]
["AA0930","0304050201","Altri concorsi, recuperi e rimborsi da privati",634408.52,1081735.73]
["AA0950","0305010101","Compartecipazione alla spesa per prestazioni sanitarie - Ticket sulle prestazioni per visite specialistiche",3159047.66,3331463.55]
["AA0950","0305010102","Compartecipazione alla spesa per prestazioni sanitarie - Ticket sulle prestazioni per diagnostica strumentale",1443223.8,1525603.94]
["AA0950","0305010103","Compartecipazione alla spesa per prestazioni sanitarie - Ticket sulle prestazioni per analisi di laboratorio",1940873.85,2073318.77]
["AA0960","0305020101","Compartecipazione alla spesa per prestazioni sanitarie - Ticket sul pronto soccorso",386661.64,232978.25]
["AA0990","0306010101","Quota imputata all'esercizio dei finanziamenti per investimenti dallo Stato",54754.03,86964.13]
["AA1000","0306020101","Quota imputata all'esercizio dei finanziamenti per investimenti da Regione",1674245.68,1986864.15]
["AA1010","0306030101","Quota imputata all'esercizio dei finanziamenti per beni di prima dotazione",3577467.93,3577467.93]
["AA1020","0306040101","Quota imputata all'esercizio dei contributi in c/esercizio FSR destinati ad investimenti",5185207.28,5079640.42]
["AA1070","0308010102","Ricavi per consulenze, certificazioni e attestazioni non sanitarie",0,0]
["AA1070","0308010103","Ricavi per maggior comfort alberghiero",1738.6,6999.55]
["AA1080","0308020101","Affitti attivi ",186882.15,286977.87]
["AA1090","0308030102","Proventi per multe, ammende e contravvenzioni (non sanitarie)",34071.35,45589.919999999998]
["AA1090","0308030104","Proventi per gestione distributori automatici di bibite",3934.44,54250]
["AA1090","0308030105","Proventi per corsi di formazione",57821.38,71072.02]
["AA1090","0308030109","Altri proventi non sanitari",266999.03999999998,117761.96]
["BA0040","0701010101","Medicinali con AIC",-70487643.319999993,-73078171.640000001]
["BA0040","0701010102","Soluzioni infusionali con AIC",-17397.05,-6553.21]
["BA0040","0701010104","Altri gas medicali con AIC",-174947.81,-142673.48000000001]
["BA0040","0701010105","Emoderivati con AIC",-2011801.43,-2931637.74]
["BA0040","0701010108","Farmaci innovativi",-8485995.2699999996,-9025472.6999999993]
["BA0050","0701010106","Medicinali senza AIC",-752264.34,-679663.84]
["BA0051","0701010103","Ossigeno con AIC",-1358852.21,-476848.64000000001]
["BA0090","0701010202","Sangue ed emocomponenti da pubblico (Aziende sanitarie pubbliche extra Regione) - Mobilità extraregionale",-23080.75,0]
["BA0090","0701010204","Costi per plasmaderivazione da pubblico (Aziende sanitarie pubbliche extra Regione) - Mobilità extraregionale",0,0]
["BA0220","0701010301","Strumentazione per bioimmagini e radioterapia",-81557.27,-196888.57]
["BA0220","0701010302","Materiale per sterilizzazione",-46837.63,-117955.56]
["BA0220","0701010303","Dispositivi per chirurgia mini-invasiva ed elettrochirurgia",-1483448.22,-1686767.11]
["BA0220","0701010304","Protesi ortopediche e mezzi per osteosintesi e sintesi tendineo-legamentosa",-3078145.23,-3497983.41]
["BA0220","0701010305","Protesi oculistiche",-232024.76,-271090.24]
["BA0220","0701010306","Protesi vascolari e cardiache",-1843129.03,-2080981.68]
["BA0220","0701010307","Altri dispositivi protesici impiantabili e prodotti per osteosintesi",-53882.09,-91623.74]
["BA0220","0701010308","Supporti e ausili tecnici per persone disabili",-126750.9,-98927.97]
["BA0220","0701010309","Dispositivi per emotrasfusione ed ematologia",-429955.11,-414964.84]
["BA0220","0701010310","Dispositivi per dialisi",-1649439.47,-1565916.49]
["BA0220","0701010312","Dispositivi da somministrazione, prelievo e raccolta ",-3688519.83,-3966179.04]
["BA0220","0701010314","Strumentazione per esplorazioni funzionali ed interventi terapeutici",-988781.88,-1368814.64]
["BA0220","0701010315","Strumentazione per radiologia diagnostica ed interventistica",-1609.85,-5041.04]
["BA0220","0701010316","Strumentario chirurgico pluriuso o riusabile",-631469.93000000005,-707328.2]
["BA0220","0701010317","Dispositivi protesici impiantabili - vari",-196988.74,-220817.18]
["BA0220","0701010318","Dispositivi per sistema artero-venoso",-2170842.0099999998,-2030857.17]
["BA0220","0701010319","Guide per apparato cardiocircolatorio",-374481.76,-468633.68]
["BA0220","0701010320","Altri dispositivi per apparato cardiocircolatorio",-1021118.45,-979553.14]
["BA0220","0701010321","Disinfettanti, antisettici e proteolitici (D.Lgs. 46/97)",-117827.27,-109211.82]
["BA0220","0701010322","Dispositivi per apparato gastrointestinale",-362947.48,-361383.78]
["BA0220","0701010323","Dispositivi da sutura",-1286174,-1322853.7]
["BA0220","0701010324","Dispositivi per sistema nervoso e midollare",-120204.52,-93843.32]
["BA0220","0701010325","Dispositivi per odontoiatria, oftalmologoa e otorinolaringoiatria",-544399.05000000005,-582785.6]
["BA0220","0701010326","Dispositivi per apparato respiratorio e anestesia",-602906.88,-593718.24]
["BA0220","0701010327","Dispositivi di protezione e ausili per incontinenza (D.Lgs. 46/97)",-2080336.8,-2062570.49]
["BA0220","0701010328","Dispositivi per apparato urogenitale",-177026.73,-198647.88]
["BA0220","0701010329","Dispositivi vari",-1728420.73,-1737649.9]
["BA0220","0701010330","Dispositivi per medicazioni generali e specialistiche",-1894088.33,-2135183.4300000002]
["BA0230","0701010313","Dispositivi impiantabili attivi",-3071999.01,-3788645.64]
["BA0240","0701010311","Dispositivi medico-diagnostici in vitro (D.Lgs. 332/2000)",-12786548.720000001,-12483543.449999999]
["BA0250","0701010401","Prodotti dietetici",-37219.06,-50432.57]
["BA0250","0701010402","Alimenti per nutrizione artificiale senza AIC",-431741.6,-409532.18]
["BA0260","0701010502","Vaccini obbligatori",-575429.16,-355655.56]
["BA0260","0701010503","Altri vaccini",-1647355.95,-2329226.17]
["BA0280","0701010701","Medicinali ad uso veterinario",-11791.41,-9923.8700000000008]
["BA0280","0701010702","Materiali chirurgici, sanitari e diagnostici per uso veterinario",-8845,-5246.61]
["BA0290","0701010801","Vetrerie e materiale plastico per laboratorio (senza CND)",-54713.99,-31871.03]
["BA0290","0701010802","Altri materiali di consumo non specifici per strumentazione diagnostica (senza CND)",-805000.83,-752223.09]
["BA0290","0701010803","Altri beni e prodotti sanitari (senza CND)",-1333791.77,-1204020.5900000001]
["BA0320","0701020101","Prodotti alimentari",-83.52,-336.06]
["BA0330","0701020102","Materiali di guardaroba, di pulizia e di convivenza in genere",-64306.42,-34271.29]
["BA0340","0701020103","Combustibili, carburanti e lubrificanti",-172419.52,-145758.07999999999]
["BA0350","0701020104","Supporti informatici",-127864.8,-146562.57999999999]
["BA0350","0701020105","Cancelleria e stampati",-350110.1,-312120.43]
["BA0360","0701020106","Materiale per la manutenzione di immobili e loro pertinenze",-188488.95999999999,-205067.18]
["BA0360","0701020108","Materiale per la manutenzione di attrezzature tecnico scientifiche sanitarie",-44936.27,-36371.67]
["BA0360","0701020110","Materiale per la manutenzione di altro",-6459.14,-43089.9]
["BA0370","0701020111","Altri beni e prodotti non sanitari",-45073.96,-67162.759999999995]
["BA0430","0702010101","Costi per assistenza MMG",-24517314.75,-23959444.879999999]
["BA0440","0702010102","Costi per assistenza PLS",-6415070.5300000003,-5870213.8600000003]
["BA0450","0702010103","Costi per assistenza Continuità assistenziale",-3931463.93,-4254569.59]
["BA0460","0702010104","Costi per assistenza Medici 118",-653212.61,-860523.59]
["BA0460","0702010105","Altro (medicina dei servizi, psicologi, etc¿) (esclusa IRAP)",-136443.5,-131098.29]
["BA0470","0702010106","Costi per medicina di base da pubblico (Aziende sanitarie pubbliche della Regione) - Mobilità intraregionale",-38671,-51404.4]
["BA0480","0702010107","Costi per medicina di base da pubblico (Aziende sanitarie pubbliche Extraregione) - Mobilità extraregionale",-217107.5,-202760.17]
["BA0500","0702010201","Acquisti servizi sanitari per farmaceutica da convenzione",-50005470.409999996,-46484625.520000003]
["BA0500","0702010202","Acquisti servizi sanitari sussidi  Indennità per farmacie rurali ed altro",-124207.82,-137136.5]
["BA0510","0702010203","Costi per farmaceutica da pubblico (Aziende sanitarie pubbliche della Regione)- Mobilità intraregionale",-1277628.07,-1255010.99]
["BA0520","0702010204","Costi per farmaceutica da pubblico (Extraregione)",-457054.73,-504044.37]
["BA0540","0702010301","Costi per assistenza specialistica ambulatoriale da pubblico (Aziende sanitarie pubbliche della Regione)",-7623510.4000000004,-7802570.1900000004]
["BA0540","0702010302","Servizi sanitari da privato accreditato insito in Regione territorio extra ASL v/ cittadini residenti in territorio ASL  - rientranti nei contratti negoziali (branche a visita)",-81.98,0]
["BA0540","0702010303","Servizi sanitari da case di cura private insite in Regione territorio extra ASL v/ cittadini residenti in territorio ASL - rientranti nei contratti negoziali (assistenza specialistica ambulatoriale)",-1200763.1000000001,-1225406.8999999999]
["BA0540","0702010304","Servizi sanitari da altri soggetti privati insiti in Regione territorio extra ASL v/cittadini residenti nel territorio ASL rientranti nei contratti negoziali (assistenza specialistica ambulatoriale)",-55004.09,0]
["BA0550","0702010305","Costi per assistenza specialistica ambulatoriale da pubblico (altri soggetti pubblici della Regione)",-360209.89,-580281.24]
["BA0560","0702010306","Costi per assistenza specialistica ambulatoriale  da pubblico (Extraregione)",-4000753.58,-3402818.86]
["BA0560","0702010325","Costi per cessioni di emocomponenti e cellule staminali extraregione",0,0]
["BA0570","0702010307","Costi per assistenza specialistica ambulatoriale  da privato - Medici SUMAI",-4486744.21,-4184408.7]
["BA0590","0702010308","Servizi sanitari per assistenza specialistica da IRCCS privati e Policlinici privati",-83336.34,-55662.5]
["BA0610","0309010805","Compartecipazione alla spesa per prestazioni sanitarie - Ticket sulle prestazioni assistenza specialistica ambulatoriale da Case di Cura private",976058.35,948079.16]
["BA0610","0309010806","Quota fissa di cui all¿art. 17, comma 6, del D.L. 98/2011 per assistenza specialistica ambulatoriale da Case di Cura private ",337730,328410]
["BA0610","0702010310","Servizi sanitari da case di cura private insite nel territorio ASL v/ cittadini residenti  nel territorio ASL - rientranti nei contratti negoziali (assistenza specialistica ambulatoriale)",-4514981.5,-4409008.42]
["BA0610","0702010311","Servizi sanitari da case di cura private insite nel territorio ASL v/cittadini residenti nella Regione in territorio extra ASL rientranti nei contratti negoziali (assist. specialistica ambulatoriale)",-2248145.5099999998,-2211519.81]
["BA0610","0702010313","Servizi sanitari da case di cura private - per cittadini residenti acquistate fuori contratti negoziali in strutture entro Regione (assistenza specialistica ambulatoriale)",-14348.16,-518.26]
["BA0620","0309010807","Compartecipazione alla spesa per prestazioni sanitarie - Ticket sulle prestazioni assistenza specialistica ambulatoriale da altri privati",188629.47,174532.11]
["BA0620","0309010808","Quota fissa di cui all¿art. 17, comma 6, del D.L. 98/2011 per assistenza specialistica ambulatoriale da altri privati ",58256.15,53730]
["BA0620","0702010314","Servizi sanitari da privato accreditato insito nel territorio ASL v/ cittadini residenti in territorio ASL - rientranti nei contratti negoziali (branche a visita)",-32601.73,-34965.15]
["BA0620","0702010315","Servizi sanitari da privato accreditato insito nel territorio ASL v/ cittadini residenti nella Regione in territorio extra ASL - rientranti nei contratti negoziali (branche a visita)",-6587.94,-4345.51]
["BA0620","0702010316","Servizi sanitari da privato accreditato per cittadini residenti acquistate in strutture fuori Regione (branche a visita)",-3.2,-38.67]
["BA0620","0702010318","Servizi sanitari da altri soggetti privati insiti nel Territorio ASL v/ cittadini residenti nel territorio ASL - rientranti nei contratti negoziali (assistenza specialistica ambulatoriale)",-3035421.56,-2980812.43]
["BA0620","0702010319","Servizi sanitari da altri soggetti privati insiti nel territorio ASL v/cittadini residenti nella Regione in territorio extra ASL rientranti nei contratti negoziali (ass. specialistica ambulatoriale)",-506050.07,-505982.44]
["BA0620","0702010321","Servizi sanitari da altri soggetti privati - per cittadini residenti acquistate fuori contratti negoziali in strutture entro Regione (assistenza specialistica ambulatoriale)",-5003.97,0]
["BA0630","0309010809","Compartecipazione alla spesa per prestazioni sanitarie - Ticket sulle prestazioni assistenza specialistica ambulatoriale da privato per cittadini non residenti - Extraregione",3738.21,3038.89]
["BA0630","0309010810","Quota fissa di cui all¿art. 17, comma 6, del D.L. 98/2011 per assistenza specialistica ambulatoriale da privato per cittadini non residenti - Extraregione",1170,1020]
["BA0630","0702010322","Servizi sanitari da privato accreditato v/ cittadini non residenti - extraregione (mobilità attiva in compensazione) (branche a visita)",-108.07,-581.39]
["BA0630","0702010323","Servizi sanitari da case di cura private v/ cittadini non residenti - extraregione (mobilità attiva in compensazione)  (assistenza specialistica ambulatoriale)",-155652.49,-161626.46]
["BA0630","0702010324","Servizi sanitari da altri soggetti privati v/ cittadini non residenti - extraregione (mobilità attiva in compensazione) (assistenza specialistica ambulatoriale)",-45845.88,-38723.519999999997]
["BA0650","0702010402","Da privato accreditato insito in Regione territorio extra ASL v/ cittadini residenti in territorio ASL  - rientranti nei contratti negoziali (riabilitazione ex art. 26)",-4832965.95,-5168858.88]
["BA0680","0702010405","Da privato accreditato insito nel territorio ASL v/ cittadini residenti in territorio ASL - rientranti nei contratti negoziali (riabilitazione ex art. 26)",-10714220.15,-10812043.1]
["BA0680","0702010406","Da privato accreditato insito nel territorio ASL v/ cittadini residenti nella Regione in territorio extra ASL - rientranti nei contratti negoziali (riabilitazione ex art. 26)",-3898231.58,-3710722.07]
["BA0690","0702010408","Da privato accreditato per cittadini residenti acquistate in strutture fuori Regione (riabilitazione ex art. 26)",-545484.88,-583099.84]
["BA0740","0702010504","Da privato per assistenza integrativa",-1802068.84,-1733047.08]
["BA0790","0702010604","Da privato per assistenza protesica",-4852166.28,-5271573.9000000004]
["BA0790","0702010605","Da privato per materiale per incontinenza",-1451062.73,-1574521.81]
["BA0810","0702010701","Da pubblico per assistenza ospedaliera (Aziende sanitarie pubbliche della Regione)",-23797587,-25016249.309999999]
["BA0810","0702010702","Da privato accreditato per assistenza ospedaliera insito in Regione territorio extra ASL v/cittadini residenti in territorio ASL - rientranti nei contratti negoziali ",-2683945.39,-3035983.38]
["BA0830","0702010704","Da pubblico per assistenza ospedaliera (Extraregione)",-24057993.460000001,-30364599.559999999]
["BA0870","0309010905","Compartecipazione alla spesa per prestazioni sanitarie - Ticket sulle sulle prestaz. trasferite dal regime di ricovero ordinario in regime ambulatoriale (DCA 50/2011) da Case di Cura private",75661.95,84229.5]
["BA0870","0309010906","Quota fissa di cui all¿art. 17, comma 6, del D.L. 98/2011 per prestaz. trasferite dal regime di ricovero ordinario in regime ambulatoriale (DCA 50/2011) da Case di Cura private ",20930,23300]
["BA0870","0702010708","Da privato accreditato per assistenza ospedaliera insito nel territorio ASL v/ cittadini residenti in territorio ASL - rientranti nei contratti negoziali ",-30203429.02,-30124919.77]
["BA0870","0702010709","Da privato accreditato per assistenza ospedaliera insito nel territorio ASL v/ cittadini residenti nella Regione in territorio extra ASL - rientranti nei contratti negoziali ",-32557191.309999999,-34575475.649999999]
["BA0890","0702010705","Da privato accreditato per assistenza ospedaliera per cittadini non residenti - extraregione (mobilità attiva in compensazione) ",-10285883.140000001,-8426930.5099999998]
["BA0910","0702010802","Da privato accreditato insito in Regione territorio extra ASL v/ cittadini residenti in territorio ASL  - rientranti nei contratti negoziali  (Strutture Psicoriabilitative)",-1551575.5,-1735685.3]
["BA0930","0702010804","Da pubblico per psichiatria residenziale e semiresidenziale (Extraregione) - non soggette a compensazione",-81781.600000000006,-60576]
["BA0940","0702010805","Da privato accreditato insito nel territorio ASL v/cittadini residenti in territorio ASL - rientranti nei contratti negoziali (Strutture Psicoriabilitative) (intraregionale)",-4308037.8499999996,-3878604.71]
["BA0940","0702010806","Da privato accreditato insito nel territorio ASL v/cittadini residenti nella Regione in territorio extra ASL - rientranti nei contratti negoziali (Strutture psicoriabilitative) (intraregionale)",-4667985.8600000003,-4699731.63]
["BA0940","0702010807","Da privato accreditato per cittadini residenti acquistate fuori contratti negoziali in strutture entro Regione (Strutture Psicoriabilitative) (intraregionale)",-822496.13,-802255.34]
["BA0950","0702010809","Da privato accreditato per cittadini residenti acquistate in strutture fuori Regione (Strutture Psicoriabilitative) (extraregionale)",-1589885.46,-1665426.12]
["BA0970","0702010901","Da pubblico per prestazioni di distribuzione farmaci File F (Aziende sanitarie pubbliche della Regione) - Mobilità intraregionale",-4464112.37,-4858115.13]
["BA0990","0702010903","Da pubblico per prestazioni di distribuzione farmaci File F (Extraregione)",-2195879.04,-1901052.91]
["BA1000","0702010905","Da privato (intraregionale) - Servizio di distribuzione farmaci PHT (DPC)",-432985.28,-1712231.06]
["BA1040","0702011002","Da privato accreditato per prestazioni termali in convenzione insito in Regione territorio extra ASL v/ cittadini residenti in territorio ASL  - rientranti nei contratti negoziali ",0,-46.2]
["BA1060","0702011004","Da pubblico per prestazioni termali in convenzione (Extraregione)",-95302.31,-106826.2]
["BA1070","0309011001","Compartecipazione alla spesa per prestazioni sanitarie - Ticket sulle prestazioni termali in convenzione - da privato",436740.1,315420.2]
["BA1070","0702011005","Da privato accreditato per prestazioni termali in convenzione insito nel territorio ASL v/ cittadini residenti in territorio ASL - rientranti nei contratti negoziali ",-943261.34,-709625.21]
["BA1070","0702011006","Da privato accreditato per prestazioni termali in convenzione insito nel territorio ASL v/ cittadini residenti nella Regione in territorio extra ASL - rientranti nei contratti negoziali",-1315059.27,-1006920.07]
["BA1080","0309011003","Compartecipazione alla spesa per prestazioni sanitarie - Ticket sulle prestazioni termali in convenzione - da privato per cittadini non residenti - Extraregione",55622.1,38572]
["BA1080","0702011009","Da privato per prestazioni termali in convenzione per cittadini non residenti - Extraregione (mobilità attiva in compensazione)",-288244.99,-194918.39999999999]
["BA1100","0702011101","Da pubblico (Aziende sanitarie pubbliche della Regione) per trasporti sanitari per l'emergenza (Mobilità intraregionale)",-103216,-98634.25]
["BA1120","0702011105","Da pubblico per trasporti sanitari per l'emergenza (Extraregione)",-344124.9,-148466.56]
["BA1130","0702011107","Da privato per trasporti sanitari per l'emergenza",-6876548.2699999996,-6222110.0899999999]
["BA1130","0702011108","Da privato per altri tipi di trasporto sanitario ",-1459453.29,-1379213.55]
["BA1152","0702011205","Da privato accreditato insito in Regione territorio extra ASL v/ cittadini residenti in territorio ASL  - rientranti nei contratti negoziali  (Centri Residenziali)",-1445082.32,-1447599.2]
["BA1152","0702011206","Da privato accreditato insito in Regione territorio extra ASL v/ cittadini residenti in territorio ASL  - rientranti nei contratti negoziali  (Residenze Sanitarie Assistite)",-313438.06,-359806.26]
["BA1170","0702011211","Da pubblico per assistenza geriatrica (extraregione) non soggetto a compensazione",-160969.38,-163730.37]
["BA1180","0702011215","Da privato accreditato insito nel territorio ASL v/ cittadini residenti in territorio ASL - rientranti nei contratti negoziali (Centri Residenziali)",-618593.76,-650289.76]
["BA1180","0702011216","Da privato accreditato insito nel territorio ASL v/ cittadini residenti nella Regione in territorio extra ASL - rientranti nei contratti negoziali (Centri Residenziali)",-154181.96,-122485.96]
["BA1180","0702011218","Da privato accreditato insito nel territorio ASL v/ cittadini residenti in territorio ASL - rientranti nei contratti negoziali (Residenze Sanitarie Assistite)",-2817942.98,-2886632.25]
["BA1180","0702011219","Da privato accreditato insito nel territorio ASL v/ cittadini residenti nella Regione in territorio extra ASL - rientranti nei contratti negoziali (Residenze Sanitarie Assistite)",-1931897.43,-1992574.51]
["BA1180","0702011221","Da privato per assistenza ai tossicodipendenti e alcolisti  (intraregionale)",-1120984.6000000001,-1445209.79]
["BA1180","0702011224","Assistenza Domiciliare Integrata da privato (intraregionale)",-5163857.88,-5922378.0999999996]
["BA1180","0702011225","Altre prestazioni socio sanitarie a rilevanza sanitaria da privato (intraregionale e extraregionale)",-693177.29,-606420.29]
["BA1190","0702011226","Da privato accreditato per assistenza geriatrica per cittadini residenti acquistate in strutture fuori Regione (Centri Residenziali)",-57522.69,-70638.73]
["BA1190","0702011227","Da privato accreditato per assistenza geriatrica per cittadini residenti acquistate in strutture fuori Regione (Residenze Sanitarie Assistite)",-56827.64,-36463.5]
["BA1190","0702011228","Da privato per assistenza ai tossicodipendenti e alcolisti  (extraregionale)",-1753167.57,-1959862.64]
["BA1190","0702011229","Assistenza in Hospice da privato (extraregionale)",-19125.009999999998,0]
["BA1190","0702011230","Assistenza Domiciliare Integrata a privato (extraregionale)",-770,0]
["BA1210","0702011301","Compartecipazione al personale per attività libero professionale intramoenia - Area ospedaliera",-50718.76,-56304.06]
["BA1210","0702011302","Fondo perequativo per attività libero professionale intramoenia - Area ospedaliera",-3499.34,-3754.9]
["BA1220","0702011304","Compartecipazione al personale per attività libero professionale intramoenia - Area specialistica",-2386145.4900000002,-2350293.81]
["BA1220","0702011305","Fondo perequativo per attività libero professionale intramoenia - Area specialistica",-177601.98,-177138.82]
["BA1230","0702011307","Compartecipazione al personale per attività libero professionale intramoenia - Area sanità pubblica",-14348.49,-13577.75]
["BA1230","0702011308","Fondo perequativo per attività libero professionale intramoenia - Area sanità pubblica",-885.12,-767.55]
["BA1240","0702011310","Compartecipazione al personale per attività libero professionale intramoenia - Consulenze (ex art. 55 c. 1 lett. c), d) ed ex art. 57-58)",-570363.78,-335908.3]
["BA1240","0702011311","Fondo perequativo per attività libero. professionale intramoenia - Consulenze (ex art. 55 c. 1 lett. c), d) ed ex art. 57-58)",-8963.52,0]
["BA1260","0702011316","Compartecipazione al personale per attività libero professionale intramoenia - Altro",-108504.84,-53017.42]
["BA1290","0702011401","Contributi ad associazioni di volontariato",-349365.76000000001,-367251.39]
["BA1300","0702011402","Rimborsi per cure all'estero",-2069.39,-12227.29]
["BA1330","0702011407","Quota 3,5% a servizi veterinari della regione D.lgs 432/98",-8436.8700000000008,-8113.67]
["BA1330","0702011408","Quota 0,5% a laboratori nazionali D.lgs 432/98",-1512.17,-1850.59]
["BA1330","0702011410","Sussidi nefropatici",-168964.21,-158041.4]
["BA1330","0702011411","Contributi e sussidi per disabili psichici",-1364299.34,-1477738.37]
["BA1330","0702011412","Altri rimborsi, assegni e contributi",-249313.04,-315811.95]
["BA1360","0702011501","Consulenze sanitarie e sociosanitarie da Aziende sanitarie pubbliche della Regione",-416373.3,-386424.77]
["BA1370","0702011502","Consulenze sanitarie e sociosanitarie da terzi - Altri soggetti pubblici",0,-643.39]
["BA1390","0702011503","Consulenze sanitarie da privato - articolo 55, comma 2, CCNL 8 giugno 2000",-2164804.17,-2367368.34]
["BA1400","0702011504","Altre consulenze sanitarie e sociosanitarie da privato",-864.76,-11041.25]
["BA1400","0702011505","Consulenze sanitarie e sociosanitarie da privato",-3516.95,0]
["BA1420","0702011510","Indennità a personale universitario - area sanitaria",-256736.03,-253677.26]
["BA1430","0702011511","Lavoro interinale - area sanitaria",-2862789.15,-2555444.7999999998]
["BA1440","0702011515","Altre collaborazioni e prestazioni di lavoro - area sanitaria",-86.13,-24527.29]
["BA1440","0702011516","Personale tirocinante compresi oneri riflessi",-4295.41,-18048.87]
["BA1440","0702011517","Borsisti compresi oneri riflessi",-704958.07,-315314.96999999997]
["BA1440","0702011518","Personale religioso adibito a mansioni sanitarie ",-34465.339999999997,0]
["BA1440","0702011519","Medicina penitenziaria",-71961.81,0]
["BA1480","0702011522","Rimborso oneri stipendiali personale sanitario in comando da aziende di altre Regioni (Extraregione)",-53987.92,-8025.6]
["BA1530","0702011604","Altri servizi sanitari da privato",-3534647.28,-4913910.1399999997]
["BA1540","0702011605","Costi per servizi sanitari - Mobilità internazionale passiva",-2072369.5,-2330052.7799999998]
["BA1580","0702020101","Lavanderia",-4633285.6399999997,-4372468.2300000004]
["BA1590","0702020102","Pulizia",-6110953.9000000004,-6224643.75]
["BA1601","0702020103","Mensa dipendenti - CONTO ELIMINATO",-4253494.91,0]
["BA1601","0702020138","Mensa dipendenti",0,-285686.02]
["BA1602","0702020137","Mensa degenti",0,-3850598.79]
["BA1610","0702020104","Riscaldamento",-912590.81,-1031930.19]
["BA1620","0702020105","Servizi di assistenza informatica",-1812783.81,-1601064.93]
["BA1630","0702020106","Servizi trasporti (non sanitari)",-5892.6,-7252.41]
["BA1640","0702020107","Smaltimento rifiuti sanitari assimilati e assimilabili agli urbani",-1880.36,-2399.52]
["BA1640","0702020108","Smaltimento rifiuti sanitari speciali",-1390145.46,-1392325.21]
["BA1650","0702020109","Utenze telefoniche",-940270.67,-875622.55]
["BA1660","0702020110","Utenze elettricità",-3337366.78,-3335006.41]
["BA1670","0702020111","Altre utenze",-875740.52,-1175726.77]
["BA1690","0702020112","Premi di assicurazione - R.C. Professionale",-4450699.8499999996,-4450838.34]
["BA1700","0702020113","Premi di assicurazione per rischi su immobili",-97500,-97500]
["BA1700","0702020114","Premi di assicurazione RC automezzi",-66747.25,-68836.41]
["BA1700","0702020115","Premi di assicurazione altri premi di assicurazione",-113670,-153270.72]
["BA1740","0702020118","Servizio di vigilanza e sicurezza",-1895343.19,-1927984.29]
["BA1740","0702020119","Altri servizi appaltati",-4138097.74,-4575180.3600000003]
["BA1740","0702020120","Spese di rappresentanza",-181,-2466.4499999999998]
["BA1740","0702020121","Spese postali",-354747.32,-194488.14]
["BA1740","0702020122","Quote per spese condominiali",-32959.089999999997,-32252.639999999999]
["BA1740","0702020123","Spese legali",-77880.800000000003,-217446.32]
["BA1740","0702020124","Bolli e marchi",-55127.95,-720.1]
["BA1740","0702020125","Abbonamenti, riviste e libri",-21856.82,-18517.12]
["BA1740","0702020126","Spese per liti, arbitraggi e risarcimenti",-72,0]
["BA1740","0702020127","Altri servizi non sanitari da privato",-45140,-45140]
["BA1790","0702020204","Consulenze tecniche",-70269.509999999995,-155448.88]
["BA1790","0702020205","Consulenze legali",-327809.81,-150186.14000000001]
["BA1790","0702020206","Altre consulenze non sanitarie",-34447.33,0]
["BA1800","0702020215","Collaborazioni coordinate e continuative non sanitarie da privato - ruolo amministrativo",-31178.34,-30731.74]
["BA1830","0702020223","Personale religioso adibito a mansioni non sanitarie",-128297.41,-128829.68]
["BA1890","0702020301","Formazione (esternalizzata e non) da pubblico",-35012.980000000003,-39577.83]
["BA1900","0702020302","Formazione (esternalizzata e non) da privato",-626252.09,-531262.68000000005]
["BA1920","0703010101","Manutenzione e riparazione ai fabbricati e loro pertinenze immobili istituzionali o indisponibili",-8571730.1999999993,-8135678.5800000001]
["BA1930","0703020101","Manutenzione e riparazione agli impianti e macchinari",0,-11712]
["BA1940","0703030101","Manutenzione e riparazione alle attrezzature sanitarie e scientifiche",-6129147.0499999998,-5458525.2800000003]
["BA1960","0703050101","Manutenzione e riparazione agli automezzi",-125986.4,-83762.679999999993]
["BA1970","0703060101","Altre manutenzioni e riparazioni",-883986.33,-816680.65]
["BA2000","0704010101","Fitti passivi ",-1330887.46,-1240355.3500000001]
["BA2020","0704020102","Canoni di noleggio - area sanitaria - attrezzature sanitarie",-4981101.3600000003,-5083787.6500000004]
["BA2020","0704020103","Altri canoni di noleggio  area sanitaria",-34526,-12078]
["BA2030","0704020201","Canoni di noleggio - area non sanitaria - automezzi non sanitari",-138980.71,-92627.57]
["BA2030","0704020202","Canoni di noleggio - area non sanitaria - attrezzature non sanitarie",-290987.26,-147963.71]
["BA2120","0705010101","Costo del personale dirigente medico - tempo indeterminato - Competenze fisse",-43374913.770000003,-43844080.549999997]
["BA2120","0705010102","Costo del personale dirigente medico - tempo indeterminato - Indennità variabili",-1448634.79,-1425954.16]
["BA2120","0705010103","Costo del personale dirigente medico - tempo indeterminato - Premi e Incentivazioni",-3802287.61,-4149304.64]
["BA2120","0705010104","Costo del personale dirigente medico - tempo indeterminato - Straordinario",-919074.42,-896573.64]
["BA2120","0705010105","Costo del personale dirigente medico - tempo indeterminato - Oneri Sociali",-14746781.140000001,-14411890.51]
["BA2120","0705010107","Costo del personale dirigente medico - tempo indeterminato - Altri costi del personale",-27550.05,-27065.58]
["BA2130","0705010108","Costo del personale dirigente medico (non art. 15-septies D.Lgs. 502/92)- tempo determinato - Competenze fisse",-2200815,-2954004.63]
["BA2130","0705010109","Costo del personale dirigente medico (non art. 15-septies D.Lgs. 502/92)- tempo determinato - Indennità variabili",-102491.02,-129807.35]
["BA2130","0705010110","Costo del personale dirigente medico (non art. 15-septies D.Lgs. 502/92)- tempo determinato - Premi e Incentivazioni",-11385.88,-34895.43]
["BA2130","0705010111","Costo del personale dirigente medico (non art. 15-septies D.Lgs. 502/92)- tempo determinato - Straordinario",-55328.32,-68185.570000000007]
["BA2130","0705010112","Costo del personale dirigente medico (non art. 15-septies D.Lgs. 502/92)- tempo determinato - Oneri Sociali",-660634.39,-892210.27]
["BA2130","0705010114","Costo del personale dirigente medico (non art. 15-septies D.Lgs. 502/92)- tempo determinato - Altri costi del personale",-1974.33,-2263.7199999999998]
["BA2160","0705010201","Costo del personale dirigente non medico - tempo indeterminato - Competenze fisse",-3521279.86,-3455149.48]
["BA2160","0705010202","Costo del personale dirigente non medico - tempo indeterminato - Indennità variabili",-9170.7999999999993,-11133.23]
["BA2160","0705010203","Costo del personale dirigente non medico - tempo indeterminato - Premi e Incentivazioni",-226151.56,-274462.78000000003]
["BA2160","0705010204","Costo del personale dirigente non medico - tempo indeterminato - Straordinario",-65596.27,-57986.12]
["BA2160","0705010205","Costo del personale dirigente non medico - tempo indeterminato - Oneri Sociali",-1007940.26,-1002158.29]
["BA2160","0705010207","Costo del personale dirigente non medico - tempo indeterminato - Altri costi del personale",-1133.74,-1037.48]
["BA2170","0705010208","Costo del personale dirigente non medico (non art. 15-septies D.Lgs. 502/92)- tempo determinato - Competenze fisse",-256666.86,-545046.96]
["BA2170","0705010209","Costo del personale dirigente non medico (non art. 15-septies D.Lgs. 502/92)- tempo determinato - Indennità variabili",0,278.87]
["BA2170","0705010211","Costo del personale dirigente non medico (non art. 15-septies D.Lgs. 502/92)- tempo determinato - Straordinario",0,-101.67]
["BA2170","0705010212","Costo del personale dirigente non medico (non art. 15-septies D.Lgs. 502/92)- tempo determinato - Oneri Sociali",-72214.460000000006,-152878.06]
["BA2170","0705010216","Costo del personale dirigente non medico art. 15-septies D.Lgs. 502/92- tempo determinato - Competenze fisse",-46315.91,-35776.06]
["BA2170","0705010217","Costo del personale dirigente non medico art. 15-septies D.Lgs. 502/92- tempo determinato - Indennità variabili",0,-1.81]
["BA2170","0705010220","Costo del personale dirigente non medico art. 15-septies D.Lgs. 502/92- tempo determinato - Oneri Sociali",-13082.45,-10121.530000000001]
["BA2200","0705020101","Costo del personale comparto ruolo sanitario - tempo indeterminato - Competenze fisse",-45403639.130000003,-46291584.82]
["BA2200","0705020102","Costo del personale comparto ruolo sanitario - tempo indeterminato - Indennità variabili",-3108448.35,-3154783.43]
["BA2200","0705020103","Costo del personale comparto ruolo sanitario - tempo indeterminato - Premi e Incentivazioni",-2286325.67,-2307239.75]
["BA2200","0705020104","Costo del personale comparto ruolo sanitario - tempo indeterminato - Straordinario",-1013608.82,-1101913.46]
["BA2200","0705020105","Costo del personale comparto ruolo sanitario - tempo indeterminato - Oneri Sociali",-13690391.57,-13933652]
["BA2200","0705020107","Costo del personale comparto ruolo sanitario - tempo indeterminato - Altri costi del personale",-11748.97,-9989.08]
["BA2210","0705020201","Costo del personale comparto ruolo sanitario - tempo determinato - Competenze fisse",-1228490.2,-1355581.65]
["BA2210","0705020202","Costo del personale comparto ruolo sanitario - tempo determinato - Indennità variabili",-119445.35,-122436.57]
["BA2210","0705020203","Costo del personale comparto ruolo sanitario - tempo determinato - Premi e Incentivazioni",-10,0]
["BA2210","0705020204","Costo del personale comparto ruolo sanitario - tempo determinato - Straordinario",-11103.58,-19251.240000000002]
["BA2210","0705020205","Costo del personale comparto ruolo sanitario - tempo determinato - Oneri Sociali",-375916.61,-415250.17]
["BA2250","0706010101","Costo del personale dirigente ruolo professionale - tempo indeterminato - Competenze fisse",-235881.96,-271013.27]
["BA2250","0706010102","Costo del personale dirigente ruolo professionale - tempo indeterminato - Indennità variabili",-5667.58,-5728.66]
["BA2250","0706010103","Costo del personale dirigente ruolo professionale - tempo indeterminato - Premi e Incentivazioni",-51857.94,-17155.68]
["BA2250","0706010105","Costo del personale dirigente ruolo professionale - tempo indeterminato - Oneri Sociali",-74246.63,-74608.600000000006]
["BA2260","0706010208","Costo del personale dirigente ruolo professionale art. 15-septies D.Lgs. 502/92- tempo determinato - Competenze fisse",-51325.55,-55927.45]
["BA2260","0706010209","Costo del personale dirigente ruolo professionale art. 15-septies D.Lgs. 502/92- tempo determinato - Indennità variabili",-3077.62,-2929.37]
["BA2260","0706010210","Costo del personale dirigente ruolo professionale art. 15-septies D.Lgs. 502/92- tempo determinato - Premi e Incentivazioni",0,0]
["BA2260","0706010211","Costo del personale dirigente ruolo professionale art. 15-septies D.Lgs. 502/92- tempo determinato - Straordinario",-93.15,0]
["BA2260","0706010212","Costo del personale dirigente ruolo professionale art. 15-septies D.Lgs. 502/92- tempo determinato - Oneri Sociali",-15130.9,-16237.07]
["BA2290","0706020103","Costo del personale comparto ruolo professionale - tempo indeterminato - Premi e Incentivazioni",-1276.03,-1294.73]
["BA2290","0706020105","Costo del personale comparto ruolo professionale - tempo indeterminato - Oneri Sociali",-303.7,-308.14999999999998]
["BA2340","0707010101","Costo del personale dirigente ruolo tecnico - tempo indeterminato - Competenze fisse",-211092.7,-229844.68]
["BA2340","0707010103","Costo del personale dirigente ruolo tecnico - tempo indeterminato - Premi e Incentivazioni",-64822.42,-21444.6]
["BA2340","0707010105","Costo del personale dirigente ruolo tecnico - tempo indeterminato - Oneri Sociali",-69787.78,-63965.7]
["BA2380","0707020101","Costo del personale comparto ruolo tecnico - tempo indeterminato - Competenze fisse",-11802699.48,-12259238.449999999]
["BA2380","0707020102","Costo del personale comparto ruolo tecnico - tempo indeterminato - Indennità variabili",-648746.51,-689940.96]
["BA2380","0707020103","Costo del personale comparto ruolo tecnico - tempo indeterminato - Premi e Incentivazioni",-678032.7,-707522.24]
["BA2380","0707020104","Costo del personale comparto ruolo tecnico - tempo indeterminato - Straordinario",-243508.14,-292465.99]
["BA2380","0707020105","Costo del personale comparto ruolo tecnico - tempo indeterminato - Oneri Sociali",-3504465.99,-3653998.32]
["BA2380","0707020107","Costo del personale comparto ruolo tecnico - tempo indeterminato - Altri costi del personale",-4384.6899999999996,-1487.83]
["BA2390","0707020201","Costo del personale comparto ruolo tecnico - tempo determinato - Competenze fisse",-222310.37,-370832.12]
["BA2390","0707020202","Costo del personale comparto ruolo tecnico - tempo determinato - Indennità variabili",-5665.27,-3974.88]
["BA2390","0707020204","Costo del personale comparto ruolo tecnico - tempo determinato - Straordinario",-362.78,-942.34]
["BA2390","0707020205","Costo del personale comparto ruolo tecnico - tempo determinato - Oneri Sociali",-62963.98,-104933.33]
["BA2390","0707020207","Costo del personale comparto ruolo tecnico - tempo determinato - Altri costi del personale",0,-20]
["BA2430","0708010101","Costo del personale dirigente ruolo amministrativo - tempo indeterminato - Competenze fisse",-637949.44999999995,-816695.02]
["BA2430","0708010102","Costo del personale dirigente ruolo amministrativo - tempo indeterminato - Indennità variabili",-1.05,0]
["BA2430","0708010103","Costo del personale dirigente ruolo amministrativo - tempo indeterminato - Premi e Incentivazioni",-77786.899999999994,-25733.52]
["BA2430","0708010105","Costo del personale dirigente ruolo amministrativo - tempo indeterminato - Oneri Sociali",-206727.55,-215656.86]
["BA2440","0708010201","Costo del personale dirigente ruolo amministrativo (non art. 15-septies D.Lgs. 502/92)- tempo determinato - Competenze fisse",-11944.62,-41198.33]
["BA2440","0708010202","Costo del personale dirigente ruolo amministrativo (non art. 15-septies D.Lgs. 502/92)- tempo determinato - Indennità variabili",-1.05,0]
["BA2440","0708010204","Costo del personale dirigente ruolo amministrativo (non art. 15-septies D.Lgs. 502/92)- tempo determinato - Straordinario",-369,0]
["BA2440","0708010205","Costo del personale dirigente ruolo amministrativo (non art. 15-septies D.Lgs. 502/92)- tempo determinato - Oneri Sociali",-3280.61,-10959.2]
["BA2470","0708020101","Costo del personale comparto ruolo amministrativo - tempo indeterminato - Competenze fisse",-6671972.8499999996,-6405452.6100000003]
["BA2470","0708020102","Costo del personale comparto ruolo amministrativo - tempo indeterminato - Indennità variabili",-2283.5700000000002,-1761.54]
["BA2470","0708020103","Costo del personale comparto ruolo amministrativo - tempo indeterminato - Premi e Incentivazioni",-434508.77,-456048.7]
["BA2470","0708020104","Costo del personale comparto ruolo amministrativo - tempo indeterminato - Straordinario",-99657.4,-105300.35]
["BA2470","0708020105","Costo del personale comparto ruolo amministrativo - tempo indeterminato - Oneri Sociali",-1912568.33,-1851312.29]
["BA2470","0708020107","Costo del personale comparto ruolo amministrativo - tempo indeterminato - Altri costi del personale",-768.14,-636.04]
["BA2480","0708020201","Costo del personale comparto ruolo amministrativo - tempo determinato - Competenze fisse",-28294.28,-79313.61]
["BA2480","0708020202","Costo del personale comparto ruolo amministrativo - tempo determinato - Indennità variabili",0,-340.56]
["BA2480","0708020203","Costo del personale comparto ruolo amministrativo - tempo determinato - Premi e Incentivazioni",0,-375.09]
["BA2480","0708020205","Costo del personale comparto ruolo amministrativo - tempo determinato - Oneri Sociali",-7998.01,-22576.49]
["BA2480","0708020207","Costo del personale comparto ruolo amministrativo - tempo determinato - Altri costi del personale",-1195,-967.51]
["BA2510","0709010101","Imposta di registro",-45747.74,-14634.19]
["BA2510","0709010102","Imposta di bollo",-788,-52712.71]
["BA2510","0709010104","Imposte comunali",-1104203,-952154]
["BA2510","0709010106","Altre imposte, tasse e tributi (escluse IRAP e IRES) ",-96418.42,-126749.12]
["BA2540","0709030101","Indennità, rimborso spese e oneri sociali per il Direttore Generale",-137594.71,-109116.17]
["BA2540","0709030102","Indennità, rimborso spese e oneri sociali per il Direttore Amministrativo",-119782.98,-133605.47]
["BA2540","0709030103","Indennità, rimborso spese e oneri sociali per il Direttore Sanitario",-162687.92000000001,-169690.4]
["BA2540","0709030104","Indennità, rimborso spese e oneri sociali per i membri del Collegio sindacale",-42315.360000000001,-40517.21]
["BA2540","0709030105","Indennità, rimborso spese e oneri sociali per i membri delle Commissioni varie",-876525.05,-907402.59]
["BA2550","0709030201","Oneri diversi da decreti ingiuntivi, liti, arbitraggi e risarcimenti",-565.77,-2899.93]
["BA2550","0709030203","Altri oneri diversi di gestione",-251369.55,-336868.54]
["BA2570","0710010105","Ammortamento delle altre immobilizzazioni immateriali",-160938.81,-155437.62]
["BA2610","0711020101","Ammortamento fabbricati strumentali (indisponibili)",-4970458.6100000003,-5032903.95]
["BA2620","0712010101","Ammortamento impianti e macchinari",-243006.53,-319573.24]
["BA2620","0712010102","Ammortamento attrezzature sanitarie e scientifiche",-4807326.2300000004,-4807029.55]
["BA2620","0712010103","Ammortamento mobili e arredi",-354383.59,-361509.62]
["BA2620","0712010104","Ammortamento automezzi",-93539.1,-133711.75]
["BA2620","0712010105","Ammortamento altri beni materiali",-251784.97,-262023.61]
["BA2671","0309010401","Rimanenze finali medicinali con AIC",9637765.4000000004,8982739.9299999997]
["BA2671","0309010402","Rimanenze finali soluzioni infusionali con AIC",4720.8100000000004,299.85000000000002]
["BA2671","0309010403","Rimanenze finali ossigeno con AIC",1919.27,0]
["BA2671","0309010404","Rimanenze finali altri gas medicali con AIC",18281.7,0]
["BA2671","0309010405","Rimanenze finali emoderivati con AIC",299372.46999999997,305511.96000000002]
["BA2671","0309010406","Rimanenze finali medicinali senza AIC",153849.16,198124.1]
["BA2671","0714010101","Rimanenze iniziali medicinali con AIC",-4388956,-9637765.4000000004]
["BA2671","0714010102","Rimanenze iniziali soluzioni infusionali con AIC",-1398.76,-4720.8100000000004]
["BA2671","0714010103","Rimanenze iniziali ossigeno con AIC",-1633.04,-1919.27]
["BA2671","0714010104","Rimanenze iniziali altri gas medicali con AIC",-9993.4599999999991,-18281.7]
["BA2671","0714010105","Rimanenze iniziali emoderivati con AIC",-415087.34,-299372.46999999997]
["BA2671","0714010106","Rimanenze iniziali medicinali senza AIC",-220505.73,-153849.16]
["BA2671","0714010127","Rimanenze iniziali alimenti per nutrizione artificiale senza AIC",-58004.47,-66412.52]
["BA2671","0714010152","Rimanenze iniziali Farmaci innovativi",-796557.79,-425624.06]
["BA2673","0309010411","Rimanenze finali dispositivi per chirurgia mini-invasiva ed elettrochirurgia",237459.44,231885.55]
["BA2673","0309010412","Rimanenze finali protesi ortopediche e mezzi per osteosintesi e sintesi tendineo-legamentosa",125902.79,125694.46]
["BA2673","0309010416","Rimanenze finali supporti e ausili tecnici per persone disabili",15277.66,7705.5]
["BA2673","0309010418","Rimanenze finali strumentazione per esplorazioni funzionali ed interventi terapeutici",349679.38,395454.2]
["BA2673","0309010420","Rimanenze finali strumentazione per radiologia diagnostica ed interventistica",971.05,888.71]
["BA2673","0309010423","Rimanenze finali dispositivi protesici impiantabili - vari",36165.230000000003,20957.82]
["BA2673","0309010424","Rimanenze finali dispositivi per sistema artero-venoso",341902.99,263899.12]
["BA2673","0309010425","Rimanenze finali guide per apparato cardiocircolatorio",51496.86,54115.43]
["BA2673","0309010440","Rimanenze finali dispositivi impiantabili attivi",31197.03,34540.9]
["BA2673","0309010441","Rimanenze finali altri dispositivi per apparato cardiocircolatorio",192131.49,209610.57]
["BA2673","0309010442","Rimanenze finali disinfettanti, antisettici e proteolitici (D.Lgs. 46/97)",23214.09,20593.43]
["BA2673","0309010444","Rimanenze finali dispositivi da sutura",199430.7,159097.78]
["BA2673","0309010445","Rimanenze finali dispositivi per sistema nervoso e midollare",24648.400000000001,14507.51]
["BA2673","0309010446","Rimanenze finali dispositivi per odontoiatria, oftalmologoa e otorinolaringoiatria",77787.69,74179.94]
["BA2673","0309010447","Rimanenze finali dispositivi per apparato respiratorio e anestesia",226521.29,204390.15]
["BA2673","0309010448","Rimanenze finali dispositivi di protezione e ausili per incontinenza (D.Lgs. 46/97)",188552.61,194247.26]
["BA2673","0309010449","Rimanenze finali dispositivi per apparato urogenitale",58158.49,87545.74]
["BA2673","0309010450","Rimanenze finali dispositivi vari",302955.27,226897.32]
["BA2673","0309010451","Rimanenze finali dispositivi per medicazioni generali e specialistiche",347297.22,345477.22]
["BA2673","0309010452","Rimanenze finali Farmaci innovativi",425624.06,713717.44]
["BA2673","0714010111","Rimanenze iniziali dispositivi per chirurgia mini-invasiva ed elettrochirurgia",-191192.48,-237459.44]
["BA2673","0714010115","Rimanenze iniziali altri dispositivi protesici impiantabili e prodotti per osteosintesi",-15680.73,-8142.05]
["BA2673","0714010117","Rimanenze iniziali dispositivi per emotrasfusione ed ematologia",-58519.51,-43182.99]
["BA2673","0714010119","Rimanenze iniziali dispositivi per dialisi",-78184.86,-349609.43]
["BA2673","0714010122","Rimanenze iniziali dispositivi medico-diagnostici in vitro (D.Lgs. 332/2000)",-1482372.12,-1412543.58]
["BA2673","0714010123","Rimanenze iniziali dispositivi protesici impiantabili  - vari",-80004.3,-36165.230000000003]
["BA2673","0714010124","Rimanenze iniziali dispositivi per sistema artero-venoso",-196661.87,-341902.99]
["BA2673","0714010139","Rimanenze iniziali dispositivi da somministrazione, prelievo e raccolta",-569117.94999999995,-632496.81999999995]
["BA2673","0714010140","Rimanenze iniziali dispositivi impiantabili attivi",-30319.56,-31197.03]
["BA2673","0714010141","Rimanenze iniziali altri dispositivi per apparato cardiocircolatorio",-123103.54,-192131.49]
["BA2673","0714010143","Rimanenze iniziali dispositivi per apparato gastrointestinale",-83693.42,-108873.9]
["BA2673","0714010144","Rimanenze iniziali dispositivi da sutura",-349748.67,-199430.7]
["BA2673","0714010145","Rimanenze iniziali dispositivi per sistema nervoso e midollare",-28260.43,-24648.400000000001]
["BA2673","0714010146","Rimanenze iniziali dispositivi per odontoiatria, oftalmologoa e otorinolaringoiatria",-71817.279999999999,-77787.69]
["BA2673","0714010147","Rimanenze iniziali dispositivi per apparato respiratorio e anestesia",-182238.66,-226521.29]
["BA2673","0714010148","Rimanenze iniziali dispositivi di protezione e ausili per incontinenza (D.Lgs. 46/97)",-196921.3,-188552.61]
["BA2673","0714010149","Rimanenze iniziali dispositivi per apparato urogenitale",-51126.59,-58158.49]
["BA2673","0714010150","Rimanenze iniziali dispositivi vari",-304842.71999999997,-302955.27]
["BA2673","0714010151","Rimanenze iniziali dispositivi per medicazioni generali e specialistiche",-357449.92,-347297.22]
["BA2674","0309010427","Rimanenze finali alimenti per nutrizione artificiale senza AIC",66412.52,65062.74]
["BA2674","0714010126","Rimanenze iniziali prodotti dietetici",-5615.65,-5237.29]
["BA2675","0309010430","Rimanenze finali altri vaccini",2856.7,0]
["BA2675","0714010130","Rimanenze iniziali altri vaccini",-1112.76,-2856.7]
["BA2677","0309010436","Rimanenze finali vetrerie e materiale plastico per laboratorio",22568.66,11204.53]
["BA2677","0309010443","Rimanenze finali dispositivi per apparato gastrointestinale",108873.9,108756.84]
["BA2677","0714010142","Rimanenze iniziali disinfettanti, antisettici e proteolitici (D.Lgs. 46/97)",-22348.48,-23214.09]
["BA2678","0309010409","Rimanenze finali strumentazione per bioimmagini e radioterapia",57070.16,34041.11]
["BA2678","0309010410","Rimanenze finali materiale per sterilizzazione",8572.01,26034.46]
["BA2678","0309010413","Rimanenze finali protesi oculistiche",28295.8,106241.44]
["BA2678","0309010414","Rimanenze finali protesi vascolari e cardiache",4904.6400000000003,3595.95]
["BA2678","0309010415","Rimanenze finali altri dispositivi protesici impiantabili e prodotti per osteosintesi",8142.05,26339.17]
["BA2678","0309010417","Rimanenze finali dispositivi per emotrasfusione ed ematologia",43182.99,42793.34]
["BA2678","0309010419","Rimanenze finali dispositivi per dialisi",349609.43,414188.42]
["BA2678","0309010421","Rimanenze finali strumentario chirurgico pluriuso o riusabile",59941.67,43416.82]
["BA2678","0309010422","Rimanenze finali dispositivi medico-diagnostici in vitro (D.Lgs. 332/2000)",1412543.58,1378264.31]
["BA2678","0309010426","Rimanenze finali prodotti dietetici",5237.29,10440.25]
["BA2678","0309010437","Rimanenze finali materiali di consumo non specifici per strumentazione diagnostica",93627.14,68710.77]
["BA2678","0309010438","Rimanenze finali altri beni e prodotti sanitari",180987.44,248147.84]
["BA2678","0309010439","Rimanenze finali dispositivi da somministrazione, prelievo e raccolta",632496.81999999995,633711.89]
["BA2678","0714010109","Rimanenze iniziali strumentazione per bioimmagini e radioterapia",-22325.73,-57070.16]
["BA2678","0714010110","Rimanenze iniziali materiale per sterilizzazione",-44744.42,-8572.01]
["BA2678","0714010112","Rimanenze iniziali protesi ortopediche e mezzi per osteosintesi e sintesi tendineo-legamentosa",-156988.5,-125902.79]
["BA2678","0714010113","Rimanenze iniziali protesi oculistiche",-21294.52,-28295.8]
["BA2678","0714010114","Rimanenze iniziali protesi vascolari e cardiache",-7516.08,-4904.6400000000003]
["BA2678","0714010116","Rimanenze iniziali supporti e ausili tecnici per persone disabili",-32718.44,-15277.66]
["BA2678","0714010118","Rimanenze iniziali strumentazione per esplorazioni funzionali ed interventi terapeutici",-270520.31,-349679.38]
["BA2678","0714010120","Rimanenze iniziali strumentazione per radiologia diagnostica ed interventistica",-712.51,-971.05]
["BA2678","0714010121","Rimanenze iniziali strumentario chirurgico pluriuso o riusabile",-92097.5,-59941.67]
["BA2678","0714010125","Rimanenze iniziali guide per apparato cardiocircolatorio",-16525.53,-51496.86]
["BA2678","0714010136","Rimanenze iniziali vetrerie e materiale plastico per laboratorio",-42717.86,-22568.66]
["BA2678","0714010137","Rimanenze iniziali materiali di consumo non specifici per strumentazione diagnostica",-125485.73,-93627.14]
["BA2678","0714010138","Rimanenze iniziali altri beni e prodotti sanitari",-127988.56,-180987.44]
["BA2682","0309010602","Rimanenze finali materiali di guardaroba, di pulizia e di convivenza in genere",29504.9,30345.25]
["BA2682","0714020102","Rimanenze iniziali materiali di guardaroba, di pulizia e di convivenza in genere",-29727.94,-29504.9]
["BA2684","0309010604","Rimanenze finali supporti informatici",102147.29,108077.25]
["BA2684","0309010605","Rimanenze finali cancelleria e stampanti",107409.14,117179.4]
["BA2684","0714020104","Rimanenze iniziali supporti informatici",-192555.39,-102147.29]
["BA2684","0714020105","Rimanenze iniziali cancelleria e stampanti",-169734.96,-107409.14]
["BA2685","0309010606","Rimanenze finali materiali per la manutenzione di immobili e loro pertinenze",139324.97,6398.26]
["BA2685","0309010608","Rimanenze finali materiali per la manutenzione di attrezzature tecnico scientifiche sanitarie",15166.69,10429.76]
["BA2685","0309010610","Rimanenze finali di materiale per la manutenzione di altro",4064.04,4708.03]
["BA2685","0714020106","Rimanenze iniziali materiali per la manutenzione di immobili e loro pertinenze",-85875.45,-139324.97]
["BA2685","0714020108","Rimanenze iniziali materiali per la manutenzione di attrezzature tecnico scientifiche sanitarie",-26463.29,-15166.69]
["BA2685","0714020110","Rimanenze iniziali di materiale per la manutenzione di altro",-5031.3999999999996,-4064.04]
["BA2686","0309010611","Rimanenze finali altri beni e prodotti non sanitari",502.43,1157.96]
["BA2686","0714020111","Rimanenze iniziali altri beni e prodotti non sanitari",-1229.74,-502.43]
["BA2710","0715010101","Accantonamenti per cause civili ed oneri processuali",-1357811.38,-6378882.71]
["BA2720","0715010102","Accantonamenti per contenzioso personale dipendente",0,-811978.17]
["BA2730","0715010103","Accantonamenti per rischi connessi all'acquisto di prestazioni sanitarie da privato al fondo debiti in contestazione ",-272176.8,-1823614]
["BA2740","0715010104","Accantonamenti per copertura diretta dei rischi (autoassicurazione)",-2297725.7799999998,0]
["BA2741","0715010107","Accantonamenti per franchigia assicurativa",0,-4897037.83]
["BA2760","0715020101","Accantonamenti per premio di operosità (SUMAI)",-264664.11,-277851.92]
["BA2780","0715030112","Accantonamenti per quote inutilizzate contributi da Regione per quota Progetti di PSN L 662/96",-7216729.6299999999,-5204388.66]
["BA2790","0715030201","Accantonamenti per quote inutilizzate contributi da soggetti pubblici (extra fondo) vincolati",-53105.86,0]
["BA2840","0715040201","Accantonamenti rinnovi convenzioni MMG/PLS/MCA",-1507157,-1990220]
["BA2850","0715040301","Accantonamenti rinnovi convenzioni medici Sumai",-200998,-261948]
["BA2860","0715040401","Accantonamenti rinnovi contrattuali: dirigenza medica",-2419388,-579101.55000000005]
["BA2870","0715040501","Accantonamenti rinnovi contrattuali: dirigenza non medica ruolo sanitario ",-179109,-44809.51]
["BA2870","0715040502","Accantonamenti rinnovi contrattuali: dirigenza non medica ruolo professionale ",-14551,-18754.45]
["BA2870","0715040503","Accantonamenti rinnovi contrattuali: dirigenza non medica ruolo tecnico ",-17153,-19970.04]
["BA2870","0715040504","Accantonamenti rinnovi contrattuali: dirigenza non medica ruolo amministrativo ",-28471,-36018]
["BA2880","0715040601","Accantonamenti rinnovi contrattuali: comparto ruolo sanitario ",0,-87424]
["BA2880","0715040602","Accantonamenti rinnovi contrattuali: comparto ruolo professionale ",0,-2]
["BA2880","0715040603","Accantonamenti rinnovi contrattuali: comparto ruolo tecnico ",0,-22325]
["BA2880","0715040604","Accantonamenti rinnovi contrattuali: comparto ruolo amministrativo ",0,-11907]
["BA2890","0715040705","Altri accantonamenti ",-2400000,0]
["CA0030","0401020101","Interessi attivi su c/c postali",1395.3,0]
["CA0140","0801030101","Interessi moratori",-1449403.09,-367752.63]
["CA0160","0802010101","Altri oneri finanziari",-1932.36,-187.16]
["EA0060","0601020201","Sopravvenienze attive v/Aziende sanitarie pubbliche della Regione relative alla mobilità intraregionale",3032781,1348470.59]
["EA0060","0601020202","Altre sopravvenienze attive v/Aziende sanitarie pubbliche della Regione",21274.48,50304.15]
["EA0090","0601020204","Sopravvenienze attive v/terzi relative al personale",0,444.89]
["EA0110","0601020206","Sopravvenienze attive v/terzi relative alle convenzioni per la specialistica",0,1157.96]
["EA0120","0601020207","Sopravvenienze attive v/terzi relative all'acquisto prestazioni sanitarie da operatori accreditati",2636094.7400000002,1400536.99]
["EA0130","0601020208","Sopravvenienze attive v/terzi relative all'acquisto di beni e servizi",468853.64,1839404.96]
["EA0140","0601020210","Altre sopravvenienze attive v/terzi",1380885.09,1815242.22]
["EA0160","0601020301","Insussistenze attive v/Aziende sanitarie pubbliche della Regione",0,2]
["EA0190","0601020303","Insussistenze attive v/terzi relative al personale",0,686937]
["EA0220","0601020306","Insussistenze attive v/terzi relative all'acquisto prestazioni sanitarie da operatori accreditati",326389.61,34973.760000000002]
["EA0230","0601020307","Insussistenze attive v/terzi relative all'acquisto di beni e servizi",4775754.84,77558.42]
["EA0240","0601020308","Altre insussistenze attive v/terzi",68794.210000000006,18799.61]
["EA0270","1001010101","Minusvalenze",-19530.05,-15877.5]
["EA0330","1001020301","Sopravvenienze passive v/Aziende sanitarie pubbliche relative alla mobilità intraregionale",0,-1777259.44]
["EA0340","1001020302","Altre sopravvenienze passive v/Aziende sanitarie pubbliche della Regione",-122869.51,-241065.45]
["EA0380","1001020304","Sopravvenienze passive v/terzi relative al personale - dirigenza medica",-3919.87,-34724.99]
["EA0390","1001020305","Sopravvenienze passive v/terzi relative al personale - dirigenza non medica",-7520.5,-0.01]
["EA0400","1001020306","Sopravvenienze passive v/terzi relative al personale - comparto",-2590077.62,-18778.349999999999]
["EA0410","1001020307","Sopravvenienze passive v/terzi relative alle convenzioni con medici di base",-2272.9499999999998,-107401.09]
["EA0420","1001020308","Sopravvenienze passive v/terzi relative alle convenzioni per la specialistica",-53207.86,-110856.75]
["EA0430","1001020309","Sopravvenienze passive v/terzi relative all'acquisto prestazioni sanitarie da operatori accreditati",-965342.11,-4016863.83]
["EA0440","1001020310","Sopravvenienze passive v/terzi relative all'acquisto di beni e servizi",-2001061.54,-2252258.5499999998]
["EA0450","1001020312","Altre sopravvenienze passive v/terzi",-557030.55000000005,-801890.96]
["EA0530","1001020406","Insussistenze passive v/terzi relative all'acquisto prestazioni sanitarie da operatori accreditati",-907726.79,-0.01]
["EA0540","1001020407","Insussistenze passive v/terzi relative all'acquisto di beni e servizi",-33658.5,-71630.8]
["EA0550","1001020408","Altre insussistenze passive v/terzi",-171030.37,-73906.539999999994]
["YA0020","1101010101","IRAP relativa al personale dipendente del ruolo sanitario",-9238555.3100000005,-9475290.8800000008]
["YA0020","1101010102","IRAP relativa al personale dipendente del ruolo professionale",-30304.45,-30063.01]
["YA0020","1101010103","IRAP relativa al personale dipendente del ruolo tecnico",-1167590.78,-1053496.76]
["YA0020","1101010104","IRAP relativa al personale dipendente del ruolo amministrativo",-672831.92,-574600.75]
["YA0030","1101020101","IRAP relativa a collaboratori e personale assimilato a lavoro dipendente",-346167.93,-6219]
["YA0030","1101020102","IRAP relativa ai medici di guardia medica",-180468.96,-223364.39]
["YA0030","1101020103","IRAP relativa ai medici 118",-40527.24,-62330.93]
["YA0030","1101020104","IRAP relativa ad altro (medicina dei servizi, psicologi, etc¿)",-10728.44,-286946.40999999997]
["YA0040","1101030101","IRAP relativa ad attività intramoenia",-261166.86,-240786.02]
["YA0040","1101030102","IRAP libera professione relativa ad attività istituzionale (ex. art. 55 c. 2 CCNL)",-157583.91,-168163.43]
["YA0050","1101040101","IRAP relativa ad attività commerciale",0,0]
["YA0080","1102020101","IRES su attività commerciale",-408274,-408988]

{"sheet":"00 Aggregatore","index":1,"n_rows":444,"n_cols":6,"rows_kept":444,"cut":false,"hidden":false,"merged":[]}
[]
[null,null,null,null,"ANNO",2019]
[]
["Aggr","CE","Descrizione CE","C/R",{"$f":"IF($F$2=\"\",\"Anno T-1\",\"Esercizio \"&$F$2-1)","v":"Esercizio 2018"},{"$f":"IF($F$2=\"\",\"Anno T\",\"Esercizio \"&$F$2)","v":"Esercizio 2019"}]
[{"$f":"LEFT(B5,1)&D5","v":"AR"},"AA0031","A.1.A.1.1) Finanziamento indistinto","R",{"$f":"IF('00 Aggregatore'!$D5=\"R\",SUMIF('00 Alimenta'!$A:$A,$B5,'00 Alimenta'!D:D),SUMIF('00 Alimenta'!$A:$A,$B5,'00 Alimenta'!D:D)*-1)","v":555479764.00999999},{"$f":"IF('00 Aggregatore'!$D5=\"R\",SUMIF('00 Alimenta'!$A:$A,$B5,'00 Alimenta'!E:E),SUMIF('00 Alimenta'!$A:$A,$B5,'00 Alimenta'!E:E)*-1)","v":557753921.82000005}]
[{"$f":"LEFT(B6,1)&D6","v":"AR"},"AA0032","A.1.A.1.2) Finanziamento indistinto finalizzato da Regione","R",{"$f":"IF('00 Aggregatore'!$D6=\"R\",SUMIF('00 Alimenta'!$A:$A,$B6,'00 Alimenta'!D:D),SUMIF('00 Alimenta'!$A:$A,$B6,'00 Alimenta'!D:D)*-1)","v":0},{"$f":"IF('00 Aggregatore'!$D6=\"R\",SUMIF('00 Alimenta'!$A:$A,$B6,'00 Alimenta'!E:E),SUMIF('00 Alimenta'!$A:$A,$B6,'00 Alimenta'!E:E)*-1)","v":1262268.83}]
["AR","AA0034","A.1.A.1.3.A) Funzioni - Pronto Soccorso","R",{"$f":"IF('00 Aggregatore'!$D7=\"R\",SUMIF('00 Alimenta'!$A:$A,$B7,'00 Alimenta'!D:D),SUMIF('00 Alimenta'!$A:$A,$B7,'00 Alimenta'!D:D)*-1)","v":0},{"$f":"IF('00 Aggregatore'!$D7=\"R\",SUMIF('00 Alimenta'!$A:$A,$B7,'00 Alimenta'!E:E),SUMIF('00 Alimenta'!$A:$A,$B7,'00 Alimenta'!E:E)*-1)","v":0}]
["AR","AA0035","A.1.A.1.3.B) Funzioni - Altro","R",{"$f":"IF('00 Aggregatore'!$D8=\"R\",SUMIF('00 Alimenta'!$A:$A,$B8,'00 Alimenta'!D:D),SUMIF('00 Alimenta'!$A:$A,$B8,'00 Alimenta'!D:D)*-1)","v":0},{"$f":"IF('00 Aggregatore'!$D8=\"R\",SUMIF('00 Alimenta'!$A:$A,$B8,'00 Alimenta'!E:E),SUMIF('00 Alimenta'!$A:$A,$B8,'00 Alimenta'!E:E)*-1)","v":0}]
["AR","AA0036","A.1.A.1.4) Quota finalizzata per il Piano aziendale di cui all'art. 1, comma 528, L. 208/2015","R",{"$f":"IF('00 Aggregatore'!$D9=\"R\",SUMIF('00 Alimenta'!$A:$A,$B9,'00 Alimenta'!D:D),SUMIF('00 Alimenta'!$A:$A,$B9,'00 Alimenta'!D:D)*-1)","v":0},{"$f":"IF('00 Aggregatore'!$D9=\"R\",SUMIF('00 Alimenta'!$A:$A,$B9,'00 Alimenta'!E:E),SUMIF('00 Alimenta'!$A:$A,$B9,'00 Alimenta'!E:E)*-1)","v":0}]
["AR","AA0040","A.1.A.2)  da Regione o Prov. Aut. per quota F.S. regionale vincolato","R",{"$f":"IF('00 Aggregatore'!$D10=\"R\",SUMIF('00 Alimenta'!$A:$A,$B10,'00 Alimenta'!D:D),SUMIF('00 Alimenta'!$A:$A,$B10,'00 Alimenta'!D:D)*-1)","v":13764801.84},{"$f":"IF('00 Aggregatore'!$D10=\"R\",SUMIF('00 Alimenta'!$A:$A,$B10,'00 Alimenta'!E:E),SUMIF('00 Alimenta'!$A:$A,$B10,'00 Alimenta'!E:E)*-1)","v":12924579.970000001}]
["AR","AA0070","A.1.B.1.1)  Contributi da Regione o Prov. Aut. (extra fondo) vincolati","R",{"$f":"IF('00 Aggregatore'!$D11=\"R\",SUMIF('00 Alimenta'!$A:$A,$B11,'00 Alimenta'!D:D),SUMIF('00 Alimenta'!$A:$A,$B11,'00 Alimenta'!D:D)*-1)","v":410404.72},{"$f":"IF('00 Aggregatore'!$D11=\"R\",SUMIF('00 Alimenta'!$A:$A,$B11,'00 Alimenta'!E:E),SUMIF('00 Alimenta'!$A:$A,$B11,'00 Alimenta'!E:E)*-1)","v":964199.29}]
["AR","AA0080","A.1.B.1.2)  Contributi da Regione o Prov. Aut. (extra fondo) - Risorse aggiuntive da bilancio regionale a titolo di copertura LEA","R",{"$f":"IF('00 Aggregatore'!$D12=\"R\",SUMIF('00 Alimenta'!$A:$A,$B12,'00 Alimenta'!D:D),SUMIF('00 Alimenta'!$A:$A,$B12,'00 Alimenta'!D:D)*-1)","v":0},{"$f":"IF('00 Aggregatore'!$D12=\"R\",SUMIF('00 Alimenta'!$A:$A,$B12,'00 Alimenta'!E:E),SUMIF('00 Alimenta'!$A:$A,$B12,'00 Alimenta'!E:E)*-1)","v":0}]
["AR","AA0090","A.1.B.1.3)  Contributi da Regione o Prov. Aut. (extra fondo) - Risorse aggiuntive da bilancio regionale a titolo di copertura extra LEA","R",{"$f":"IF('00 Aggregatore'!$D13=\"R\",SUMIF('00 Alimenta'!$A:$A,$B13,'00 Alimenta'!D:D),SUMIF('00 Alimenta'!$A:$A,$B13,'00 Alimenta'!D:D)*-1)","v":0},{"$f":"IF('00 Aggregatore'!$D13=\"R\",SUMIF('00 Alimenta'!$A:$A,$B13,'00 Alimenta'!E:E),SUMIF('00 Alimenta'!$A:$A,$B13,'00 Alimenta'!E:E)*-1)","v":0}]
["AR","AA0100","A.1.B.1.4)  Contributi da Regione o Prov. Aut. (extra fondo) - Altro","R",{"$f":"IF('00 Aggregatore'!$D14=\"R\",SUMIF('00 Alimenta'!$A:$A,$B14,'00 Alimenta'!D:D),SUMIF('00 Alimenta'!$A:$A,$B14,'00 Alimenta'!D:D)*-1)","v":0},{"$f":"IF('00 Aggregatore'!$D14=\"R\",SUMIF('00 Alimenta'!$A:$A,$B14,'00 Alimenta'!E:E),SUMIF('00 Alimenta'!$A:$A,$B14,'00 Alimenta'!E:E)*-1)","v":216918.16}]
["AR","AA0120","A.1.B.2.1)  Contributi da Aziende sanitarie pubbliche della Regione o Prov. Aut. (extra fondo) vincolati","R",{"$f":"IF('00 Aggregatore'!$D15=\"R\",SUMIF('00 Alimenta'!$A:$A,$B15,'00 Alimenta'!D:D),SUMIF('00 Alimenta'!$A:$A,$B15,'00 Alimenta'!D:D)*-1)","v":0},{"$f":"IF('00 Aggregatore'!$D15=\"R\",SUMIF('00 Alimenta'!$A:$A,$B15,'00 Alimenta'!E:E),SUMIF('00 Alimenta'!$A:$A,$B15,'00 Alimenta'!E:E)*-1)","v":0}]
["AR","AA0130","A.1.B.2.2)  Contributi da Aziende sanitarie pubbliche della Regione o Prov. Aut. (extra fondo) altro","R",{"$f":"IF('00 Aggregatore'!$D16=\"R\",SUMIF('00 Alimenta'!$A:$A,$B16,'00 Alimenta'!D:D),SUMIF('00 Alimenta'!$A:$A,$B16,'00 Alimenta'!D:D)*-1)","v":0},{"$f":"IF('00 Aggregatore'!$D16=\"R\",SUMIF('00 Alimenta'!$A:$A,$B16,'00 Alimenta'!E:E),SUMIF('00 Alimenta'!$A:$A,$B16,'00 Alimenta'!E:E)*-1)","v":0}]
["AR","AA0141","A.1.B.3.1)  Contributi da Ministero della Salute (extra fondo)","R",{"$f":"IF('00 Aggregatore'!$D17=\"R\",SUMIF('00 Alimenta'!$A:$A,$B17,'00 Alimenta'!D:D),SUMIF('00 Alimenta'!$A:$A,$B17,'00 Alimenta'!D:D)*-1)","v":0},{"$f":"IF('00 Aggregatore'!$D17=\"R\",SUMIF('00 Alimenta'!$A:$A,$B17,'00 Alimenta'!E:E),SUMIF('00 Alimenta'!$A:$A,$B17,'00 Alimenta'!E:E)*-1)","v":0}]
["AR","AA0150","A.1.B.3.2)  Contributi da altri soggetti pubblici (extra fondo) vincolati","R",{"$f":"IF('00 Aggregatore'!$D18=\"R\",SUMIF('00 Alimenta'!$A:$A,$B18,'00 Alimenta'!D:D),SUMIF('00 Alimenta'!$A:$A,$B18,'00 Alimenta'!D:D)*-1)","v":168535.25},{"$f":"IF('00 Aggregatore'!$D18=\"R\",SUMIF('00 Alimenta'!$A:$A,$B18,'00 Alimenta'!E:E),SUMIF('00 Alimenta'!$A:$A,$B18,'00 Alimenta'!E:E)*-1)","v":38700.589999999997}]
["AR","AA0160","A.1.B.3.3)  Contributi da altri soggetti pubblici (extra fondo) L. 210/92","R",{"$f":"IF('00 Aggregatore'!$D19=\"R\",SUMIF('00 Alimenta'!$A:$A,$B19,'00 Alimenta'!D:D),SUMIF('00 Alimenta'!$A:$A,$B19,'00 Alimenta'!D:D)*-1)","v":0},{"$f":"IF('00 Aggregatore'!$D19=\"R\",SUMIF('00 Alimenta'!$A:$A,$B19,'00 Alimenta'!E:E),SUMIF('00 Alimenta'!$A:$A,$B19,'00 Alimenta'!E:E)*-1)","v":0}]
["AR","AA0170","A.1.B.3.4)  Contributi da altri soggetti pubblici (extra fondo) altro","R",{"$f":"IF('00 Aggregatore'!$D20=\"R\",SUMIF('00 Alimenta'!$A:$A,$B20,'00 Alimenta'!D:D),SUMIF('00 Alimenta'!$A:$A,$B20,'00 Alimenta'!D:D)*-1)","v":0},{"$f":"IF('00 Aggregatore'!$D20=\"R\",SUMIF('00 Alimenta'!$A:$A,$B20,'00 Alimenta'!E:E),SUMIF('00 Alimenta'!$A:$A,$B20,'00 Alimenta'!E:E)*-1)","v":0}]
["AR","AA0171","A.1.B.3.5) Contibuti da altri soggetti pubblici (extra fondo) - in attuazione dell’art.79, comma 1 sexies lettera c), del D.L. 112/2008, convertito con legge 133/2008 e della legge 23 dicembre 2009 n. 191.","R",{"$f":"IF('00 Aggregatore'!$D21=\"R\",SUMIF('00 Alimenta'!$A:$A,$B21,'00 Alimenta'!D:D),SUMIF('00 Alimenta'!$A:$A,$B21,'00 Alimenta'!D:D)*-1)","v":0},{"$f":"IF('00 Aggregatore'!$D21=\"R\",SUMIF('00 Alimenta'!$A:$A,$B21,'00 Alimenta'!E:E),SUMIF('00 Alimenta'!$A:$A,$B21,'00 Alimenta'!E:E)*-1)","v":0}]
["AR","AA0190","A.1.C.1)  Contributi da Ministero della Salute per ricerca corrente","R",{"$f":"IF('00 Aggregatore'!$D22=\"R\",SUMIF('00 Alimenta'!$A:$A,$B22,'00 Alimenta'!D:D),SUMIF('00 Alimenta'!$A:$A,$B22,'00 Alimenta'!D:D)*-1)","v":0},{"$f":"IF('00 Aggregatore'!$D22=\"R\",SUMIF('00 Alimenta'!$A:$A,$B22,'00 Alimenta'!E:E),SUMIF('00 Alimenta'!$A:$A,$B22,'00 Alimenta'!E:E)*-1)","v":0}]
["AR","AA0200","A.1.C.2)  Contributi da Ministero della Salute per ricerca finalizzata","R",{"$f":"IF('00 Aggregatore'!$D23=\"R\",SUMIF('00 Alimenta'!$A:$A,$B23,'00 Alimenta'!D:D),SUMIF('00 Alimenta'!$A:$A,$B23,'00 Alimenta'!D:D)*-1)","v":0},{"$f":"IF('00 Aggregatore'!$D23=\"R\",SUMIF('00 Alimenta'!$A:$A,$B23,'00 Alimenta'!E:E),SUMIF('00 Alimenta'!$A:$A,$B23,'00 Alimenta'!E:E)*-1)","v":0}]
["AR","AA0210","A.1.C.3)  Contributi da Regione ed altri soggetti pubblici per ricerca","R",{"$f":"IF('00 Aggregatore'!$D24=\"R\",SUMIF('00 Alimenta'!$A:$A,$B24,'00 Alimenta'!D:D),SUMIF('00 Alimenta'!$A:$A,$B24,'00 Alimenta'!D:D)*-1)","v":0},{"$f":"IF('00 Aggregatore'!$D24=\"R\",SUMIF('00 Alimenta'!$A:$A,$B24,'00 Alimenta'!E:E),SUMIF('00 Alimenta'!$A:$A,$B24,'00 Alimenta'!E:E)*-1)","v":0}]
["AR","AA0220","A.1.C.4)  Contributi da privati per ricerca","R",{"$f":"IF('00 Aggregatore'!$D25=\"R\",SUMIF('00 Alimenta'!$A:$A,$B25,'00 Alimenta'!D:D),SUMIF('00 Alimenta'!$A:$A,$B25,'00 Alimenta'!D:D)*-1)","v":0},{"$f":"IF('00 Aggregatore'!$D25=\"R\",SUMIF('00 Alimenta'!$A:$A,$B25,'00 Alimenta'!E:E),SUMIF('00 Alimenta'!$A:$A,$B25,'00 Alimenta'!E:E)*-1)","v":0}]
["AR","AA0230","A.1.D)  Contributi c/esercizio da privati","R",{"$f":"IF('00 Aggregatore'!$D26=\"R\",SUMIF('00 Alimenta'!$A:$A,$B26,'00 Alimenta'!D:D),SUMIF('00 Alimenta'!$A:$A,$B26,'00 Alimenta'!D:D)*-1)","v":0},{"$f":"IF('00 Aggregatore'!$D26=\"R\",SUMIF('00 Alimenta'!$A:$A,$B26,'00 Alimenta'!E:E),SUMIF('00 Alimenta'!$A:$A,$B26,'00 Alimenta'!E:E)*-1)","v":0}]
["AR","AA0250","A.2.A)  Rettifica contributi in c/esercizio per destinazione ad investimenti - da Regione o Prov. Aut. per quota F.S. regionale","R",{"$f":"IF('00 Aggregatore'!$D27=\"R\",SUMIF('00 Alimenta'!$A:$A,$B27,'00 Alimenta'!D:D),SUMIF('00 Alimenta'!$A:$A,$B27,'00 Alimenta'!D:D)*-1)","v":-4347846.8099999996},{"$f":"IF('00 Aggregatore'!$D27=\"R\",SUMIF('00 Alimenta'!$A:$A,$B27,'00 Alimenta'!E:E),SUMIF('00 Alimenta'!$A:$A,$B27,'00 Alimenta'!E:E)*-1)","v":-3379701.26}]
["AR","AA0260","A.2.B)  Rettifica contributi in c/esercizio per destinazione ad investimenti - altri contributi","R",{"$f":"IF('00 Aggregatore'!$D28=\"R\",SUMIF('00 Alimenta'!$A:$A,$B28,'00 Alimenta'!D:D),SUMIF('00 Alimenta'!$A:$A,$B28,'00 Alimenta'!D:D)*-1)","v":0},{"$f":"IF('00 Aggregatore'!$D28=\"R\",SUMIF('00 Alimenta'!$A:$A,$B28,'00 Alimenta'!E:E),SUMIF('00 Alimenta'!$A:$A,$B28,'00 Alimenta'!E:E)*-1)","v":0}]
["AR","AA0271","A.3.A)  Utilizzo fondi per quote inutilizzate contributi di esercizi precedenti da Regione o Prov. Aut. per quota F.S. regionale indistinto finalizzato","R",{"$f":"IF('00 Aggregatore'!$D29=\"R\",SUMIF('00 Alimenta'!$A:$A,$B29,'00 Alimenta'!D:D),SUMIF('00 Alimenta'!$A:$A,$B29,'00 Alimenta'!D:D)*-1)","v":0},{"$f":"IF('00 Aggregatore'!$D29=\"R\",SUMIF('00 Alimenta'!$A:$A,$B29,'00 Alimenta'!E:E),SUMIF('00 Alimenta'!$A:$A,$B29,'00 Alimenta'!E:E)*-1)","v":0}]
["AR","AA0280","A.3.B)  Utilizzo fondi per quote inutilizzate contributi di esercizi precedenti da Regione o Prov. Aut. per quota F.S. regionale vincolato","R",{"$f":"IF('00 Aggregatore'!$D30=\"R\",SUMIF('00 Alimenta'!$A:$A,$B30,'00 Alimenta'!D:D),SUMIF('00 Alimenta'!$A:$A,$B30,'00 Alimenta'!D:D)*-1)","v":8070784.3200000003},{"$f":"IF('00 Aggregatore'!$D30=\"R\",SUMIF('00 Alimenta'!$A:$A,$B30,'00 Alimenta'!E:E),SUMIF('00 Alimenta'!$A:$A,$B30,'00 Alimenta'!E:E)*-1)","v":17544374.609999999}]
["AR","AA0290","A.3.C) Utilizzo fondi per quote inutilizzate contributi di esercizi precedenti da soggetti pubblici (extra fondo) vincolati","R",{"$f":"IF('00 Aggregatore'!$D31=\"R\",SUMIF('00 Alimenta'!$A:$A,$B31,'00 Alimenta'!D:D),SUMIF('00 Alimenta'!$A:$A,$B31,'00 Alimenta'!D:D)*-1)","v":0},{"$f":"IF('00 Aggregatore'!$D31=\"R\",SUMIF('00 Alimenta'!$A:$A,$B31,'00 Alimenta'!E:E),SUMIF('00 Alimenta'!$A:$A,$B31,'00 Alimenta'!E:E)*-1)","v":242229.77}]
["AR","AA0300","A.3.D)  Utilizzo fondi per quote inutilizzate contributi di esercizi precedenti per ricerca","R",{"$f":"IF('00 Aggregatore'!$D32=\"R\",SUMIF('00 Alimenta'!$A:$A,$B32,'00 Alimenta'!D:D),SUMIF('00 Alimenta'!$A:$A,$B32,'00 Alimenta'!D:D)*-1)","v":0},{"$f":"IF('00 Aggregatore'!$D32=\"R\",SUMIF('00 Alimenta'!$A:$A,$B32,'00 Alimenta'!E:E),SUMIF('00 Alimenta'!$A:$A,$B32,'00 Alimenta'!E:E)*-1)","v":0}]
["AR","AA0310","A.3.E) Utilizzo fondi per quote inutilizzate contributi vincolati di esercizi precedenti da privati","R",{"$f":"IF('00 Aggregatore'!$D33=\"R\",SUMIF('00 Alimenta'!$A:$A,$B33,'00 Alimenta'!D:D),SUMIF('00 Alimenta'!$A:$A,$B33,'00 Alimenta'!D:D)*-1)","v":0},{"$f":"IF('00 Aggregatore'!$D33=\"R\",SUMIF('00 Alimenta'!$A:$A,$B33,'00 Alimenta'!E:E),SUMIF('00 Alimenta'!$A:$A,$B33,'00 Alimenta'!E:E)*-1)","v":0}]
["AR","AA0350","A.4.A.1.1) Prestazioni di ricovero","R",{"$f":"IF('00 Aggregatore'!$D34=\"R\",SUMIF('00 Alimenta'!$A:$A,$B34,'00 Alimenta'!D:D),SUMIF('00 Alimenta'!$A:$A,$B34,'00 Alimenta'!D:D)*-1)","v":63932152.799999997},{"$f":"IF('00 Aggregatore'!$D34=\"R\",SUMIF('00 Alimenta'!$A:$A,$B34,'00 Alimenta'!E:E),SUMIF('00 Alimenta'!$A:$A,$B34,'00 Alimenta'!E:E)*-1)","v":64992534.340000004}]
["AR","AA0360","A.4.A.1.2) Prestazioni di specialistica ambulatoriale","R",{"$f":"IF('00 Aggregatore'!$D35=\"R\",SUMIF('00 Alimenta'!$A:$A,$B35,'00 Alimenta'!D:D),SUMIF('00 Alimenta'!$A:$A,$B35,'00 Alimenta'!D:D)*-1)","v":8495470.6699999999},{"$f":"IF('00 Aggregatore'!$D35=\"R\",SUMIF('00 Alimenta'!$A:$A,$B35,'00 Alimenta'!E:E),SUMIF('00 Alimenta'!$A:$A,$B35,'00 Alimenta'!E:E)*-1)","v":9019951.5700000003}]
["AR","AA0361","A.4.A.1.3) Prestazioni di pronto soccorso non seguite da ricovero","R",{"$f":"IF('00 Aggregatore'!$D36=\"R\",SUMIF('00 Alimenta'!$A:$A,$B36,'00 Alimenta'!D:D),SUMIF('00 Alimenta'!$A:$A,$B36,'00 Alimenta'!D:D)*-1)","v":0},{"$f":"IF('00 Aggregatore'!$D36=\"R\",SUMIF('00 Alimenta'!$A:$A,$B36,'00 Alimenta'!E:E),SUMIF('00 Alimenta'!$A:$A,$B36,'00 Alimenta'!E:E)*-1)","v":0}]
["AR","AA0370","A.4.A.1.4) Prestazioni di psichiatria residenziale e semiresidenziale","R",{"$f":"IF('00 Aggregatore'!$D37=\"R\",SUMIF('00 Alimenta'!$A:$A,$B37,'00 Alimenta'!D:D),SUMIF('00 Alimenta'!$A:$A,$B37,'00 Alimenta'!D:D)*-1)","v":4667985.8600000003},{"$f":"IF('00 Aggregatore'!$D37=\"R\",SUMIF('00 Alimenta'!$A:$A,$B37,'00 Alimenta'!E:E),SUMIF('00 Alimenta'!$A:$A,$B37,'00 Alimenta'!E:E)*-1)","v":4699731.63}]
["AR","AA0380","A.4.A.1.5) Prestazioni di File F","R",{"$f":"IF('00 Aggregatore'!$D38=\"R\",SUMIF('00 Alimenta'!$A:$A,$B38,'00 Alimenta'!D:D),SUMIF('00 Alimenta'!$A:$A,$B38,'00 Alimenta'!D:D)*-1)","v":13551276.25},{"$f":"IF('00 Aggregatore'!$D38=\"R\",SUMIF('00 Alimenta'!$A:$A,$B38,'00 Alimenta'!E:E),SUMIF('00 Alimenta'!$A:$A,$B38,'00 Alimenta'!E:E)*-1)","v":15293240.5}]
["AR","AA0390","A.4.A.1.6) Prestazioni servizi MMG, PLS, Contin. assistenziale","R",{"$f":"IF('00 Aggregatore'!$D39=\"R\",SUMIF('00 Alimenta'!$A:$A,$B39,'00 Alimenta'!D:D),SUMIF('00 Alimenta'!$A:$A,$B39,'00 Alimenta'!D:D)*-1)","v":76930.02},{"$f":"IF('00 Aggregatore'!$D39=\"R\",SUMIF('00 Alimenta'!$A:$A,$B39,'00 Alimenta'!E:E),SUMIF('00 Alimenta'!$A:$A,$B39,'00 Alimenta'!E:E)*-1)","v":139164.66}]
["AR","AA0400","A.4.A.1.7) Prestazioni servizi farmaceutica convenzionata","R",{"$f":"IF('00 Aggregatore'!$D40=\"R\",SUMIF('00 Alimenta'!$A:$A,$B40,'00 Alimenta'!D:D),SUMIF('00 Alimenta'!$A:$A,$B40,'00 Alimenta'!D:D)*-1)","v":1554303.34},{"$f":"IF('00 Aggregatore'!$D40=\"R\",SUMIF('00 Alimenta'!$A:$A,$B40,'00 Alimenta'!E:E),SUMIF('00 Alimenta'!$A:$A,$B40,'00 Alimenta'!E:E)*-1)","v":1464959.73}]
["AR","AA0410","A.4.A.1.8) Prestazioni termali","R",{"$f":"IF('00 Aggregatore'!$D41=\"R\",SUMIF('00 Alimenta'!$A:$A,$B41,'00 Alimenta'!D:D),SUMIF('00 Alimenta'!$A:$A,$B41,'00 Alimenta'!D:D)*-1)","v":1071238.47},{"$f":"IF('00 Aggregatore'!$D41=\"R\",SUMIF('00 Alimenta'!$A:$A,$B41,'00 Alimenta'!E:E),SUMIF('00 Alimenta'!$A:$A,$B41,'00 Alimenta'!E:E)*-1)","v":825373.77}]
["AR","AA0420","A.4.A.1.9) Prestazioni trasporto ambulanze ed elisoccorso","R",{"$f":"IF('00 Aggregatore'!$D42=\"R\",SUMIF('00 Alimenta'!$A:$A,$B42,'00 Alimenta'!D:D),SUMIF('00 Alimenta'!$A:$A,$B42,'00 Alimenta'!D:D)*-1)","v":176712.63},{"$f":"IF('00 Aggregatore'!$D42=\"R\",SUMIF('00 Alimenta'!$A:$A,$B42,'00 Alimenta'!E:E),SUMIF('00 Alimenta'!$A:$A,$B42,'00 Alimenta'!E:E)*-1)","v":215493.58}]
["AR","AA0421","A.4.A.1.10) Prestazioni assistenza integrativa","R",{"$f":"IF('00 Aggregatore'!$D43=\"R\",SUMIF('00 Alimenta'!$A:$A,$B43,'00 Alimenta'!D:D),SUMIF('00 Alimenta'!$A:$A,$B43,'00 Alimenta'!D:D)*-1)","v":0},{"$f":"IF('00 Aggregatore'!$D43=\"R\",SUMIF('00 Alimenta'!$A:$A,$B43,'00 Alimenta'!E:E),SUMIF('00 Alimenta'!$A:$A,$B43,'00 Alimenta'!E:E)*-1)","v":0}]
["AR","AA0422","A.4.A.1.11) Prestazioni assistenza protesica","R",{"$f":"IF('00 Aggregatore'!$D44=\"R\",SUMIF('00 Alimenta'!$A:$A,$B44,'00 Alimenta'!D:D),SUMIF('00 Alimenta'!$A:$A,$B44,'00 Alimenta'!D:D)*-1)","v":0},{"$f":"IF('00 Aggregatore'!$D44=\"R\",SUMIF('00 Alimenta'!$A:$A,$B44,'00 Alimenta'!E:E),SUMIF('00 Alimenta'!$A:$A,$B44,'00 Alimenta'!E:E)*-1)","v":0}]
["AR","AA0423","A.4.A.1.12) Prestazioni assistenza riabilitativa extraospedaliera","R",{"$f":"IF('00 Aggregatore'!$D45=\"R\",SUMIF('00 Alimenta'!$A:$A,$B45,'00 Alimenta'!D:D),SUMIF('00 Alimenta'!$A:$A,$B45,'00 Alimenta'!D:D)*-1)","v":0},{"$f":"IF('00 Aggregatore'!$D45=\"R\",SUMIF('00 Alimenta'!$A:$A,$B45,'00 Alimenta'!E:E),SUMIF('00 Alimenta'!$A:$A,$B45,'00 Alimenta'!E:E)*-1)","v":0}]
["AR","AA0424","A.4.A.1.13) Ricavi per cessione di emocomponenti e cellule staminali","R",{"$f":"IF('00 Aggregatore'!$D46=\"R\",SUMIF('00 Alimenta'!$A:$A,$B46,'00 Alimenta'!D:D),SUMIF('00 Alimenta'!$A:$A,$B46,'00 Alimenta'!D:D)*-1)","v":0},{"$f":"IF('00 Aggregatore'!$D46=\"R\",SUMIF('00 Alimenta'!$A:$A,$B46,'00 Alimenta'!E:E),SUMIF('00 Alimenta'!$A:$A,$B46,'00 Alimenta'!E:E)*-1)","v":0}]
["AR","AA0425","A.4.A.1.14) Prestazioni assistenza domiciliare integrata (ADI)","R",{"$f":"IF('00 Aggregatore'!$D47=\"R\",SUMIF('00 Alimenta'!$A:$A,$B47,'00 Alimenta'!D:D),SUMIF('00 Alimenta'!$A:$A,$B47,'00 Alimenta'!D:D)*-1)","v":0},{"$f":"IF('00 Aggregatore'!$D47=\"R\",SUMIF('00 Alimenta'!$A:$A,$B47,'00 Alimenta'!E:E),SUMIF('00 Alimenta'!$A:$A,$B47,'00 Alimenta'!E:E)*-1)","v":0}]
["AR","AA0430","A.4.A.1.15) Altre prestazioni sanitarie e socio-sanitarie a rilevanza sanitaria ","R",{"$f":"IF('00 Aggregatore'!$D48=\"R\",SUMIF('00 Alimenta'!$A:$A,$B48,'00 Alimenta'!D:D),SUMIF('00 Alimenta'!$A:$A,$B48,'00 Alimenta'!D:D)*-1)","v":5984310.9699999997},{"$f":"IF('00 Aggregatore'!$D48=\"R\",SUMIF('00 Alimenta'!$A:$A,$B48,'00 Alimenta'!E:E),SUMIF('00 Alimenta'!$A:$A,$B48,'00 Alimenta'!E:E)*-1)","v":5825782.54}]
["AR","AA0440","A.4.A.2) Ricavi per prestaz. sanitarie e sociosanitarie a rilevanza sanitaria erogate ad altri soggetti pubblici ","R",{"$f":"IF('00 Aggregatore'!$D49=\"R\",SUMIF('00 Alimenta'!$A:$A,$B49,'00 Alimenta'!D:D),SUMIF('00 Alimenta'!$A:$A,$B49,'00 Alimenta'!D:D)*-1)","v":90381.5},{"$f":"IF('00 Aggregatore'!$D49=\"R\",SUMIF('00 Alimenta'!$A:$A,$B49,'00 Alimenta'!E:E),SUMIF('00 Alimenta'!$A:$A,$B49,'00 Alimenta'!E:E)*-1)","v":56370.17}]
["AR","AA0460","A.4.A.3.1) Prestazioni di ricovero","R",{"$f":"IF('00 Aggregatore'!$D50=\"R\",SUMIF('00 Alimenta'!$A:$A,$B50,'00 Alimenta'!D:D),SUMIF('00 Alimenta'!$A:$A,$B50,'00 Alimenta'!D:D)*-1)","v":7320391.0700000003},{"$f":"IF('00 Aggregatore'!$D50=\"R\",SUMIF('00 Alimenta'!$A:$A,$B50,'00 Alimenta'!E:E),SUMIF('00 Alimenta'!$A:$A,$B50,'00 Alimenta'!E:E)*-1)","v":11878307.279999999}]
["AR","AA0470","A.4.A.3.2) Prestazioni ambulatoriali","R",{"$f":"IF('00 Aggregatore'!$D51=\"R\",SUMIF('00 Alimenta'!$A:$A,$B51,'00 Alimenta'!D:D),SUMIF('00 Alimenta'!$A:$A,$B51,'00 Alimenta'!D:D)*-1)","v":1477229.91},{"$f":"IF('00 Aggregatore'!$D51=\"R\",SUMIF('00 Alimenta'!$A:$A,$B51,'00 Alimenta'!E:E),SUMIF('00 Alimenta'!$A:$A,$B51,'00 Alimenta'!E:E)*-1)","v":2030527.06}]
["AR","AA0471","A.4.A.3.3) Prestazioni pronto soccorso non seguite da ricovero","R",{"$f":"IF('00 Aggregatore'!$D52=\"R\",SUMIF('00 Alimenta'!$A:$A,$B52,'00 Alimenta'!D:D),SUMIF('00 Alimenta'!$A:$A,$B52,'00 Alimenta'!D:D)*-1)","v":0},{"$f":"IF('00 Aggregatore'!$D52=\"R\",SUMIF('00 Alimenta'!$A:$A,$B52,'00 Alimenta'!E:E),SUMIF('00 Alimenta'!$A:$A,$B52,'00 Alimenta'!E:E)*-1)","v":0}]
["AR","AA0480","A.4.A.3.4) Prestazioni di psichiatria non soggetta a compensazione (resid. e semiresid.)","R",{"$f":"IF('00 Aggregatore'!$D53=\"R\",SUMIF('00 Alimenta'!$A:$A,$B53,'00 Alimenta'!D:D),SUMIF('00 Alimenta'!$A:$A,$B53,'00 Alimenta'!D:D)*-1)","v":0},{"$f":"IF('00 Aggregatore'!$D53=\"R\",SUMIF('00 Alimenta'!$A:$A,$B53,'00 Alimenta'!E:E),SUMIF('00 Alimenta'!$A:$A,$B53,'00 Alimenta'!E:E)*-1)","v":0}]
["AR","AA0490","A.4.A.3.5) Prestazioni di File F","R",{"$f":"IF('00 Aggregatore'!$D54=\"R\",SUMIF('00 Alimenta'!$A:$A,$B54,'00 Alimenta'!D:D),SUMIF('00 Alimenta'!$A:$A,$B54,'00 Alimenta'!D:D)*-1)","v":2471453.08},{"$f":"IF('00 Aggregatore'!$D54=\"R\",SUMIF('00 Alimenta'!$A:$A,$B54,'00 Alimenta'!E:E),SUMIF('00 Alimenta'!$A:$A,$B54,'00 Alimenta'!E:E)*-1)","v":1915086.72}]
["AR","AA0500","A.4.A.3.6) Prestazioni servizi MMG, PLS, Contin. assistenziale Extraregione","R",{"$f":"IF('00 Aggregatore'!$D55=\"R\",SUMIF('00 Alimenta'!$A:$A,$B55,'00 Alimenta'!D:D),SUMIF('00 Alimenta'!$A:$A,$B55,'00 Alimenta'!D:D)*-1)","v":56122.64},{"$f":"IF('00 Aggregatore'!$D55=\"R\",SUMIF('00 Alimenta'!$A:$A,$B55,'00 Alimenta'!E:E),SUMIF('00 Alimenta'!$A:$A,$B55,'00 Alimenta'!E:E)*-1)","v":19433.84}]
["AR","AA0510","A.4.A.3.7) Prestazioni servizi farmaceutica convenzionata Extraregione","R",{"$f":"IF('00 Aggregatore'!$D56=\"R\",SUMIF('00 Alimenta'!$A:$A,$B56,'00 Alimenta'!D:D),SUMIF('00 Alimenta'!$A:$A,$B56,'00 Alimenta'!D:D)*-1)","v":506661.23},{"$f":"IF('00 Aggregatore'!$D56=\"R\",SUMIF('00 Alimenta'!$A:$A,$B56,'00 Alimenta'!E:E),SUMIF('00 Alimenta'!$A:$A,$B56,'00 Alimenta'!E:E)*-1)","v":1142996.67}]
["AR","AA0520","A.4.A.3.8) Prestazioni termali Extraregione","R",{"$f":"IF('00 Aggregatore'!$D57=\"R\",SUMIF('00 Alimenta'!$A:$A,$B57,'00 Alimenta'!D:D),SUMIF('00 Alimenta'!$A:$A,$B57,'00 Alimenta'!D:D)*-1)","v":180073.68},{"$f":"IF('00 Aggregatore'!$D57=\"R\",SUMIF('00 Alimenta'!$A:$A,$B57,'00 Alimenta'!E:E),SUMIF('00 Alimenta'!$A:$A,$B57,'00 Alimenta'!E:E)*-1)","v":237345.51}]
["AR","AA0530","A.4.A.3.9) Prestazioni trasporto ambulanze ed elisoccorso Extraregione","R",{"$f":"IF('00 Aggregatore'!$D58=\"R\",SUMIF('00 Alimenta'!$A:$A,$B58,'00 Alimenta'!D:D),SUMIF('00 Alimenta'!$A:$A,$B58,'00 Alimenta'!D:D)*-1)","v":469730.81},{"$f":"IF('00 Aggregatore'!$D58=\"R\",SUMIF('00 Alimenta'!$A:$A,$B58,'00 Alimenta'!E:E),SUMIF('00 Alimenta'!$A:$A,$B58,'00 Alimenta'!E:E)*-1)","v":309535.11}]
["AR","AA0541","A.4.A.3.10) Prestazioni assistenza integrativa da pubblico (extraregione)","R",{"$f":"IF('00 Aggregatore'!$D59=\"R\",SUMIF('00 Alimenta'!$A:$A,$B59,'00 Alimenta'!D:D),SUMIF('00 Alimenta'!$A:$A,$B59,'00 Alimenta'!D:D)*-1)","v":0},{"$f":"IF('00 Aggregatore'!$D59=\"R\",SUMIF('00 Alimenta'!$A:$A,$B59,'00 Alimenta'!E:E),SUMIF('00 Alimenta'!$A:$A,$B59,'00 Alimenta'!E:E)*-1)","v":0}]
["AR","AA0542","A.4.A.3.11) Prestazioni assistenza protesica da pubblico (extraregione)","R",{"$f":"IF('00 Aggregatore'!$D60=\"R\",SUMIF('00 Alimenta'!$A:$A,$B60,'00 Alimenta'!D:D),SUMIF('00 Alimenta'!$A:$A,$B60,'00 Alimenta'!D:D)*-1)","v":0},{"$f":"IF('00 Aggregatore'!$D60=\"R\",SUMIF('00 Alimenta'!$A:$A,$B60,'00 Alimenta'!E:E),SUMIF('00 Alimenta'!$A:$A,$B60,'00 Alimenta'!E:E)*-1)","v":0}]
["AR","AA0550","A.4.A.3.12) Ricavi per cessione di emocomponenti e cellule staminali Extraregione","R",{"$f":"IF('00 Aggregatore'!$D61=\"R\",SUMIF('00 Alimenta'!$A:$A,$B61,'00 Alimenta'!D:D),SUMIF('00 Alimenta'!$A:$A,$B61,'00 Alimenta'!D:D)*-1)","v":0},{"$f":"IF('00 Aggregatore'!$D61=\"R\",SUMIF('00 Alimenta'!$A:$A,$B61,'00 Alimenta'!E:E),SUMIF('00 Alimenta'!$A:$A,$B61,'00 Alimenta'!E:E)*-1)","v":45357.06}]
["AR","AA0560","A.4.A.3.13) Ricavi GSA per differenziale saldo mobilità interregionale","R",{"$f":"IF('00 Aggregatore'!$D62=\"R\",SUMIF('00 Alimenta'!$A:$A,$B62,'00 Alimenta'!D:D),SUMIF('00 Alimenta'!$A:$A,$B62,'00 Alimenta'!D:D)*-1)","v":0},{"$f":"IF('00 Aggregatore'!$D62=\"R\",SUMIF('00 Alimenta'!$A:$A,$B62,'00 Alimenta'!E:E),SUMIF('00 Alimenta'!$A:$A,$B62,'00 Alimenta'!E:E)*-1)","v":0}]
["AR","AA0561","A.4.A.3.14) Altre prestazioni sanitarie e sociosanitarie a rilevanza sanitaria erogate a soggetti pubblici Extraregione","R",{"$f":"IF('00 Aggregatore'!$D63=\"R\",SUMIF('00 Alimenta'!$A:$A,$B63,'00 Alimenta'!D:D),SUMIF('00 Alimenta'!$A:$A,$B63,'00 Alimenta'!D:D)*-1)","v":0},{"$f":"IF('00 Aggregatore'!$D63=\"R\",SUMIF('00 Alimenta'!$A:$A,$B63,'00 Alimenta'!E:E),SUMIF('00 Alimenta'!$A:$A,$B63,'00 Alimenta'!E:E)*-1)","v":0}]
["AR","AA0580","A.4.A.3.15.A) Prestazioni di assistenza riabilitativa non soggette a compensazione Extraregione","R",{"$f":"IF('00 Aggregatore'!$D64=\"R\",SUMIF('00 Alimenta'!$A:$A,$B64,'00 Alimenta'!D:D),SUMIF('00 Alimenta'!$A:$A,$B64,'00 Alimenta'!D:D)*-1)","v":0},{"$f":"IF('00 Aggregatore'!$D64=\"R\",SUMIF('00 Alimenta'!$A:$A,$B64,'00 Alimenta'!E:E),SUMIF('00 Alimenta'!$A:$A,$B64,'00 Alimenta'!E:E)*-1)","v":0}]
["AR","AA0590","A.4.A.3.15.B) Altre prestazioni sanitarie e socio-sanitarie a rilevanza sanitaria non soggette a compensazione Extraregione","R",{"$f":"IF('00 Aggregatore'!$D65=\"R\",SUMIF('00 Alimenta'!$A:$A,$B65,'00 Alimenta'!D:D),SUMIF('00 Alimenta'!$A:$A,$B65,'00 Alimenta'!D:D)*-1)","v":2626.39},{"$f":"IF('00 Aggregatore'!$D65=\"R\",SUMIF('00 Alimenta'!$A:$A,$B65,'00 Alimenta'!E:E),SUMIF('00 Alimenta'!$A:$A,$B65,'00 Alimenta'!E:E)*-1)","v":7192.04}]
["AR","AA0600","A.4.A.3.16) Altre prestazioni sanitarie a rilevanza sanitaria - Mobilità attiva Internazionale","R",{"$f":"IF('00 Aggregatore'!$D66=\"R\",SUMIF('00 Alimenta'!$A:$A,$B66,'00 Alimenta'!D:D),SUMIF('00 Alimenta'!$A:$A,$B66,'00 Alimenta'!D:D)*-1)","v":318967.76},{"$f":"IF('00 Aggregatore'!$D66=\"R\",SUMIF('00 Alimenta'!$A:$A,$B66,'00 Alimenta'!E:E),SUMIF('00 Alimenta'!$A:$A,$B66,'00 Alimenta'!E:E)*-1)","v":393536.14}]
["AR","AA0601","A.4.A.3.17) Altre prestazioni sanitarie a rilevanza sanitaria - Mobilità attiva Internazionale rilevata dalle AO, AOU, IRCCS.","R",{"$f":"IF('00 Aggregatore'!$D67=\"R\",SUMIF('00 Alimenta'!$A:$A,$B67,'00 Alimenta'!D:D),SUMIF('00 Alimenta'!$A:$A,$B67,'00 Alimenta'!D:D)*-1)","v":0},{"$f":"IF('00 Aggregatore'!$D67=\"R\",SUMIF('00 Alimenta'!$A:$A,$B67,'00 Alimenta'!E:E),SUMIF('00 Alimenta'!$A:$A,$B67,'00 Alimenta'!E:E)*-1)","v":0}]
["AR","AA0602","A.4.A.3.18) Altre prestazioni sanitarie e sociosanitarie a rilevanza sanitaria ad Aziende sanitarie e casse mutua estera - (fatturate direttamente)","R",{"$f":"IF('00 Aggregatore'!$D68=\"R\",SUMIF('00 Alimenta'!$A:$A,$B68,'00 Alimenta'!D:D),SUMIF('00 Alimenta'!$A:$A,$B68,'00 Alimenta'!D:D)*-1)","v":0},{"$f":"IF('00 Aggregatore'!$D68=\"R\",SUMIF('00 Alimenta'!$A:$A,$B68,'00 Alimenta'!E:E),SUMIF('00 Alimenta'!$A:$A,$B68,'00 Alimenta'!E:E)*-1)","v":0}]
["AR","AA0620","A.4.B.1)  Prestazioni di ricovero da priv. Extraregione in compensazione (mobilità attiva)","R",{"$f":"IF('00 Aggregatore'!$D69=\"R\",SUMIF('00 Alimenta'!$A:$A,$B69,'00 Alimenta'!D:D),SUMIF('00 Alimenta'!$A:$A,$B69,'00 Alimenta'!D:D)*-1)","v":10285883.1},{"$f":"IF('00 Aggregatore'!$D69=\"R\",SUMIF('00 Alimenta'!$A:$A,$B69,'00 Alimenta'!E:E),SUMIF('00 Alimenta'!$A:$A,$B69,'00 Alimenta'!E:E)*-1)","v":8426930.4800000004}]
[{"$f":"LEFT(B70,1)&D70","v":"AR"},"AA0630","A.4.B.2)  Prestazioni ambulatoriali da priv. Extraregione in compensazione  (mobilità attiva)","R",{"$f":"IF('00 Aggregatore'!$D70=\"R\",SUMIF('00 Alimenta'!$A:$A,$B70,'00 Alimenta'!D:D),SUMIF('00 Alimenta'!$A:$A,$B70,'00 Alimenta'!D:D)*-1)","v":201606.44},{"$f":"IF('00 Aggregatore'!$D70=\"R\",SUMIF('00 Alimenta'!$A:$A,$B70,'00 Alimenta'!E:E),SUMIF('00 Alimenta'!$A:$A,$B70,'00 Alimenta'!E:E)*-1)","v":200940.4}]
["AR","AA0631","A.4.B.3)  Prestazioni  di pronto soccorso non seguite da ricovero da priv. Extraregione in compensazione  (mobilità attiva)","R",{"$f":"IF('00 Aggregatore'!$D71=\"R\",SUMIF('00 Alimenta'!$A:$A,$B71,'00 Alimenta'!D:D),SUMIF('00 Alimenta'!$A:$A,$B71,'00 Alimenta'!D:D)*-1)","v":0},{"$f":"IF('00 Aggregatore'!$D71=\"R\",SUMIF('00 Alimenta'!$A:$A,$B71,'00 Alimenta'!E:E),SUMIF('00 Alimenta'!$A:$A,$B71,'00 Alimenta'!E:E)*-1)","v":0}]
["AR","AA0640","A.4.B.4)  Prestazioni di File F da priv. Extraregione in compensazione (mobilità attiva)","R",{"$f":"IF('00 Aggregatore'!$D72=\"R\",SUMIF('00 Alimenta'!$A:$A,$B72,'00 Alimenta'!D:D),SUMIF('00 Alimenta'!$A:$A,$B72,'00 Alimenta'!D:D)*-1)","v":0},{"$f":"IF('00 Aggregatore'!$D72=\"R\",SUMIF('00 Alimenta'!$A:$A,$B72,'00 Alimenta'!E:E),SUMIF('00 Alimenta'!$A:$A,$B72,'00 Alimenta'!E:E)*-1)","v":0}]
["AR","AA0650","A.4.B.5)  Altre prestazioni sanitarie e sociosanitarie a rilevanza sanitaria erogate da privati v/residenti Extraregione in compensazione (mobilità attiva)","R",{"$f":"IF('00 Aggregatore'!$D73=\"R\",SUMIF('00 Alimenta'!$A:$A,$B73,'00 Alimenta'!D:D),SUMIF('00 Alimenta'!$A:$A,$B73,'00 Alimenta'!D:D)*-1)","v":0},{"$f":"IF('00 Aggregatore'!$D73=\"R\",SUMIF('00 Alimenta'!$A:$A,$B73,'00 Alimenta'!E:E),SUMIF('00 Alimenta'!$A:$A,$B73,'00 Alimenta'!E:E)*-1)","v":0}]
["AR","AA0660","A.4.C)  Ricavi per prestazioni sanitarie e sociosanitarie a rilevanza sanitaria erogate a privati ","R",{"$f":"IF('00 Aggregatore'!$D74=\"R\",SUMIF('00 Alimenta'!$A:$A,$B74,'00 Alimenta'!D:D),SUMIF('00 Alimenta'!$A:$A,$B74,'00 Alimenta'!D:D)*-1)","v":3620504.31},{"$f":"IF('00 Aggregatore'!$D74=\"R\",SUMIF('00 Alimenta'!$A:$A,$B74,'00 Alimenta'!E:E),SUMIF('00 Alimenta'!$A:$A,$B74,'00 Alimenta'!E:E)*-1)","v":3619505.5999999996}]
["AR","AA0680","A.4.D.1)  Ricavi per prestazioni sanitarie intramoenia - Area ospedaliera","R",{"$f":"IF('00 Aggregatore'!$D75=\"R\",SUMIF('00 Alimenta'!$A:$A,$B75,'00 Alimenta'!D:D),SUMIF('00 Alimenta'!$A:$A,$B75,'00 Alimenta'!D:D)*-1)","v":80436.56},{"$f":"IF('00 Aggregatore'!$D75=\"R\",SUMIF('00 Alimenta'!$A:$A,$B75,'00 Alimenta'!E:E),SUMIF('00 Alimenta'!$A:$A,$B75,'00 Alimenta'!E:E)*-1)","v":97957.71}]
["AR","AA0690","A.4.D.2)  Ricavi per prestazioni sanitarie intramoenia - Area specialistica","R",{"$f":"IF('00 Aggregatore'!$D76=\"R\",SUMIF('00 Alimenta'!$A:$A,$B76,'00 Alimenta'!D:D),SUMIF('00 Alimenta'!$A:$A,$B76,'00 Alimenta'!D:D)*-1)","v":3326104},{"$f":"IF('00 Aggregatore'!$D76=\"R\",SUMIF('00 Alimenta'!$A:$A,$B76,'00 Alimenta'!E:E),SUMIF('00 Alimenta'!$A:$A,$B76,'00 Alimenta'!E:E)*-1)","v":3340368}]
["AR","AA0700","A.4.D.3)  Ricavi per prestazioni sanitarie intramoenia - Area sanità pubblica","R",{"$f":"IF('00 Aggregatore'!$D77=\"R\",SUMIF('00 Alimenta'!$A:$A,$B77,'00 Alimenta'!D:D),SUMIF('00 Alimenta'!$A:$A,$B77,'00 Alimenta'!D:D)*-1)","v":17534.57},{"$f":"IF('00 Aggregatore'!$D77=\"R\",SUMIF('00 Alimenta'!$A:$A,$B77,'00 Alimenta'!E:E),SUMIF('00 Alimenta'!$A:$A,$B77,'00 Alimenta'!E:E)*-1)","v":16412.46}]
["AR","AA0710","A.4.D.4)  Ricavi per prestazioni sanitarie intramoenia - Consulenze (ex art. 55 c.1 lett. c), d) ed ex art. 57-58)","R",{"$f":"IF('00 Aggregatore'!$D78=\"R\",SUMIF('00 Alimenta'!$A:$A,$B78,'00 Alimenta'!D:D),SUMIF('00 Alimenta'!$A:$A,$B78,'00 Alimenta'!D:D)*-1)","v":677848.85},{"$f":"IF('00 Aggregatore'!$D78=\"R\",SUMIF('00 Alimenta'!$A:$A,$B78,'00 Alimenta'!E:E),SUMIF('00 Alimenta'!$A:$A,$B78,'00 Alimenta'!E:E)*-1)","v":385532.67}]
["AR","AA0720","A.4.D.5)  Ricavi per prestazioni sanitarie intramoenia - Consulenze (ex art. 55 c.1 lett. c), d) ed ex art. 57-58) (Aziende sanitarie pubbliche della Regione)","R",{"$f":"IF('00 Aggregatore'!$D79=\"R\",SUMIF('00 Alimenta'!$A:$A,$B79,'00 Alimenta'!D:D),SUMIF('00 Alimenta'!$A:$A,$B79,'00 Alimenta'!D:D)*-1)","v":0},{"$f":"IF('00 Aggregatore'!$D79=\"R\",SUMIF('00 Alimenta'!$A:$A,$B79,'00 Alimenta'!E:E),SUMIF('00 Alimenta'!$A:$A,$B79,'00 Alimenta'!E:E)*-1)","v":0}]
["AR","AA0730","A.4.D.6)  Ricavi per prestazioni sanitarie intramoenia - Altro","R",{"$f":"IF('00 Aggregatore'!$D80=\"R\",SUMIF('00 Alimenta'!$A:$A,$B80,'00 Alimenta'!D:D),SUMIF('00 Alimenta'!$A:$A,$B80,'00 Alimenta'!D:D)*-1)","v":130775.39},{"$f":"IF('00 Aggregatore'!$D80=\"R\",SUMIF('00 Alimenta'!$A:$A,$B80,'00 Alimenta'!E:E),SUMIF('00 Alimenta'!$A:$A,$B80,'00 Alimenta'!E:E)*-1)","v":70557.929999999993}]
["AR","AA0740","A.4.D.7)  Ricavi per prestazioni sanitarie intramoenia - Altro (Aziende sanitarie pubbliche della Regione)","R",{"$f":"IF('00 Aggregatore'!$D81=\"R\",SUMIF('00 Alimenta'!$A:$A,$B81,'00 Alimenta'!D:D),SUMIF('00 Alimenta'!$A:$A,$B81,'00 Alimenta'!D:D)*-1)","v":5779.7},{"$f":"IF('00 Aggregatore'!$D81=\"R\",SUMIF('00 Alimenta'!$A:$A,$B81,'00 Alimenta'!E:E),SUMIF('00 Alimenta'!$A:$A,$B81,'00 Alimenta'!E:E)*-1)","v":17895.3}]
["AR","AA0760","A.5.A) Rimborsi assicurativi","R",{"$f":"IF('00 Aggregatore'!$D82=\"R\",SUMIF('00 Alimenta'!$A:$A,$B82,'00 Alimenta'!D:D),SUMIF('00 Alimenta'!$A:$A,$B82,'00 Alimenta'!D:D)*-1)","v":151672.57999999999},{"$f":"IF('00 Aggregatore'!$D82=\"R\",SUMIF('00 Alimenta'!$A:$A,$B82,'00 Alimenta'!E:E),SUMIF('00 Alimenta'!$A:$A,$B82,'00 Alimenta'!E:E)*-1)","v":157878.72}]
["AR","AA0780","A.5.B.1) Rimborso degli oneri stipendiali del personale dell'azienda in posizione di comando presso la Regione","R",{"$f":"IF('00 Aggregatore'!$D83=\"R\",SUMIF('00 Alimenta'!$A:$A,$B83,'00 Alimenta'!D:D),SUMIF('00 Alimenta'!$A:$A,$B83,'00 Alimenta'!D:D)*-1)","v":0},{"$f":"IF('00 Aggregatore'!$D83=\"R\",SUMIF('00 Alimenta'!$A:$A,$B83,'00 Alimenta'!E:E),SUMIF('00 Alimenta'!$A:$A,$B83,'00 Alimenta'!E:E)*-1)","v":0}]
["AR","AA0790","A.5.B.2) Altri concorsi, recuperi e rimborsi da parte della Regione","R",{"$f":"IF('00 Aggregatore'!$D84=\"R\",SUMIF('00 Alimenta'!$A:$A,$B84,'00 Alimenta'!D:D),SUMIF('00 Alimenta'!$A:$A,$B84,'00 Alimenta'!D:D)*-1)","v":0},{"$f":"IF('00 Aggregatore'!$D84=\"R\",SUMIF('00 Alimenta'!$A:$A,$B84,'00 Alimenta'!E:E),SUMIF('00 Alimenta'!$A:$A,$B84,'00 Alimenta'!E:E)*-1)","v":0}]
["AR","AA0810","A.5.C.1) Rimborso degli oneri stipendiali del personale dipendente dell'azienda in posizione di comando presso Aziende sanitarie pubbliche della Regione","R",{"$f":"IF('00 Aggregatore'!$D85=\"R\",SUMIF('00 Alimenta'!$A:$A,$B85,'00 Alimenta'!D:D),SUMIF('00 Alimenta'!$A:$A,$B85,'00 Alimenta'!D:D)*-1)","v":23253.72},{"$f":"IF('00 Aggregatore'!$D85=\"R\",SUMIF('00 Alimenta'!$A:$A,$B85,'00 Alimenta'!E:E),SUMIF('00 Alimenta'!$A:$A,$B85,'00 Alimenta'!E:E)*-1)","v":0}]
["AR","AA0820","A.5.C.2) Rimborsi per acquisto beni da parte di Aziende sanitarie pubbliche della Regione","R",{"$f":"IF('00 Aggregatore'!$D86=\"R\",SUMIF('00 Alimenta'!$A:$A,$B86,'00 Alimenta'!D:D),SUMIF('00 Alimenta'!$A:$A,$B86,'00 Alimenta'!D:D)*-1)","v":0},{"$f":"IF('00 Aggregatore'!$D86=\"R\",SUMIF('00 Alimenta'!$A:$A,$B86,'00 Alimenta'!E:E),SUMIF('00 Alimenta'!$A:$A,$B86,'00 Alimenta'!E:E)*-1)","v":0}]
["AR","AA0830","A.5.C.3) Altri concorsi, recuperi e rimborsi da parte di Aziende sanitarie pubbliche della Regione","R",{"$f":"IF('00 Aggregatore'!$D87=\"R\",SUMIF('00 Alimenta'!$A:$A,$B87,'00 Alimenta'!D:D),SUMIF('00 Alimenta'!$A:$A,$B87,'00 Alimenta'!D:D)*-1)","v":180596.98},{"$f":"IF('00 Aggregatore'!$D87=\"R\",SUMIF('00 Alimenta'!$A:$A,$B87,'00 Alimenta'!E:E),SUMIF('00 Alimenta'!$A:$A,$B87,'00 Alimenta'!E:E)*-1)","v":131694.35999999999}]
["AR","AA0831","A.5.C.4) Altri concorsi, recuperi e rimborsi da parte della Regione - GSA","R",{"$f":"IF('00 Aggregatore'!$D88=\"R\",SUMIF('00 Alimenta'!$A:$A,$B88,'00 Alimenta'!D:D),SUMIF('00 Alimenta'!$A:$A,$B88,'00 Alimenta'!D:D)*-1)","v":0},{"$f":"IF('00 Aggregatore'!$D88=\"R\",SUMIF('00 Alimenta'!$A:$A,$B88,'00 Alimenta'!E:E),SUMIF('00 Alimenta'!$A:$A,$B88,'00 Alimenta'!E:E)*-1)","v":0}]
["AR","AA0850","A.5.D.1) Rimborso degli oneri stipendiali del personale dipendente dell'azienda in posizione di comando presso altri soggetti pubblici","R",{"$f":"IF('00 Aggregatore'!$D89=\"R\",SUMIF('00 Alimenta'!$A:$A,$B89,'00 Alimenta'!D:D),SUMIF('00 Alimenta'!$A:$A,$B89,'00 Alimenta'!D:D)*-1)","v":150326.43},{"$f":"IF('00 Aggregatore'!$D89=\"R\",SUMIF('00 Alimenta'!$A:$A,$B89,'00 Alimenta'!E:E),SUMIF('00 Alimenta'!$A:$A,$B89,'00 Alimenta'!E:E)*-1)","v":0}]
["AR","AA0860","A.5.D.2) Rimborsi per acquisto beni da parte di altri soggetti pubblici","R",{"$f":"IF('00 Aggregatore'!$D90=\"R\",SUMIF('00 Alimenta'!$A:$A,$B90,'00 Alimenta'!D:D),SUMIF('00 Alimenta'!$A:$A,$B90,'00 Alimenta'!D:D)*-1)","v":8374.7800000000007},{"$f":"IF('00 Aggregatore'!$D90=\"R\",SUMIF('00 Alimenta'!$A:$A,$B90,'00 Alimenta'!E:E),SUMIF('00 Alimenta'!$A:$A,$B90,'00 Alimenta'!E:E)*-1)","v":5464.29}]
["AR","AA0870","A.5.D.3) Altri concorsi, recuperi e rimborsi da parte di altri soggetti pubblici","R",{"$f":"IF('00 Aggregatore'!$D91=\"R\",SUMIF('00 Alimenta'!$A:$A,$B91,'00 Alimenta'!D:D),SUMIF('00 Alimenta'!$A:$A,$B91,'00 Alimenta'!D:D)*-1)","v":94410.650000000009},{"$f":"IF('00 Aggregatore'!$D91=\"R\",SUMIF('00 Alimenta'!$A:$A,$B91,'00 Alimenta'!E:E),SUMIF('00 Alimenta'!$A:$A,$B91,'00 Alimenta'!E:E)*-1)","v":43547.270000000004}]
["AR","AA0900","A.5.E.1.1) Pay-back per il superamento del tetto della spesa farmaceutica territoriale","R",{"$f":"IF('00 Aggregatore'!$D92=\"R\",SUMIF('00 Alimenta'!$A:$A,$B92,'00 Alimenta'!D:D),SUMIF('00 Alimenta'!$A:$A,$B92,'00 Alimenta'!D:D)*-1)","v":0},{"$f":"IF('00 Aggregatore'!$D92=\"R\",SUMIF('00 Alimenta'!$A:$A,$B92,'00 Alimenta'!E:E),SUMIF('00 Alimenta'!$A:$A,$B92,'00 Alimenta'!E:E)*-1)","v":0}]
["AR","AA0910","A.5.E.1.2) Pay-back per superamento del tetto della spesa farmaceutica ospedaliera","R",{"$f":"IF('00 Aggregatore'!$D93=\"R\",SUMIF('00 Alimenta'!$A:$A,$B93,'00 Alimenta'!D:D),SUMIF('00 Alimenta'!$A:$A,$B93,'00 Alimenta'!D:D)*-1)","v":0},{"$f":"IF('00 Aggregatore'!$D93=\"R\",SUMIF('00 Alimenta'!$A:$A,$B93,'00 Alimenta'!E:E),SUMIF('00 Alimenta'!$A:$A,$B93,'00 Alimenta'!E:E)*-1)","v":0}]
["AR","AA0920","A.5.E.1.3) Ulteriore Pay-back","R",{"$f":"IF('00 Aggregatore'!$D94=\"R\",SUMIF('00 Alimenta'!$A:$A,$B94,'00 Alimenta'!D:D),SUMIF('00 Alimenta'!$A:$A,$B94,'00 Alimenta'!D:D)*-1)","v":2615698.91},{"$f":"IF('00 Aggregatore'!$D94=\"R\",SUMIF('00 Alimenta'!$A:$A,$B94,'00 Alimenta'!E:E),SUMIF('00 Alimenta'!$A:$A,$B94,'00 Alimenta'!E:E)*-1)","v":2477467.9500000002}]
["AR","AA0921","A.5.E.2) Rimborso per Pay back sui dispositivi medici","R",{"$f":"IF('00 Aggregatore'!$D95=\"R\",SUMIF('00 Alimenta'!$A:$A,$B95,'00 Alimenta'!D:D),SUMIF('00 Alimenta'!$A:$A,$B95,'00 Alimenta'!D:D)*-1)","v":0},{"$f":"IF('00 Aggregatore'!$D95=\"R\",SUMIF('00 Alimenta'!$A:$A,$B95,'00 Alimenta'!E:E),SUMIF('00 Alimenta'!$A:$A,$B95,'00 Alimenta'!E:E)*-1)","v":0}]
["AR","AA0930","A.5.E.3) Altri concorsi, recuperi e rimborsi da privati","R",{"$f":"IF('00 Aggregatore'!$D96=\"R\",SUMIF('00 Alimenta'!$A:$A,$B96,'00 Alimenta'!D:D),SUMIF('00 Alimenta'!$A:$A,$B96,'00 Alimenta'!D:D)*-1)","v":634408.52},{"$f":"IF('00 Aggregatore'!$D96=\"R\",SUMIF('00 Alimenta'!$A:$A,$B96,'00 Alimenta'!E:E),SUMIF('00 Alimenta'!$A:$A,$B96,'00 Alimenta'!E:E)*-1)","v":1081735.73}]
["AR","AA0950","A.6.A)  Compartecipazione alla spesa per prestazioni sanitarie - Ticket sulle prestazioni di specialistica ambulatoriale e APA-PAC","R",{"$f":"IF('00 Aggregatore'!$D97=\"R\",SUMIF('00 Alimenta'!$A:$A,$B97,'00 Alimenta'!D:D),SUMIF('00 Alimenta'!$A:$A,$B97,'00 Alimenta'!D:D)*-1)","v":6543145.3100000005},{"$f":"IF('00 Aggregatore'!$D97=\"R\",SUMIF('00 Alimenta'!$A:$A,$B97,'00 Alimenta'!E:E),SUMIF('00 Alimenta'!$A:$A,$B97,'00 Alimenta'!E:E)*-1)","v":6930386.2599999998}]
["AR","AA0960","A.6.B)  Compartecipazione alla spesa per prestazioni sanitarie - Ticket sul pronto soccorso","R",{"$f":"IF('00 Aggregatore'!$D98=\"R\",SUMIF('00 Alimenta'!$A:$A,$B98,'00 Alimenta'!D:D),SUMIF('00 Alimenta'!$A:$A,$B98,'00 Alimenta'!D:D)*-1)","v":386661.64},{"$f":"IF('00 Aggregatore'!$D98=\"R\",SUMIF('00 Alimenta'!$A:$A,$B98,'00 Alimenta'!E:E),SUMIF('00 Alimenta'!$A:$A,$B98,'00 Alimenta'!E:E)*-1)","v":232978.25}]
["AR","AA0970","A.6.C)  Compartecipazione alla spesa per prestazioni sanitarie (Ticket) - Altro","R",{"$f":"IF('00 Aggregatore'!$D99=\"R\",SUMIF('00 Alimenta'!$A:$A,$B99,'00 Alimenta'!D:D),SUMIF('00 Alimenta'!$A:$A,$B99,'00 Alimenta'!D:D)*-1)","v":0},{"$f":"IF('00 Aggregatore'!$D99=\"R\",SUMIF('00 Alimenta'!$A:$A,$B99,'00 Alimenta'!E:E),SUMIF('00 Alimenta'!$A:$A,$B99,'00 Alimenta'!E:E)*-1)","v":0}]
["AR","AA0990","A.7.A) Quota imputata all'esercizio dei finanziamenti per investimenti dallo Stato","R",{"$f":"IF('00 Aggregatore'!$D100=\"R\",SUMIF('00 Alimenta'!$A:$A,$B100,'00 Alimenta'!D:D),SUMIF('00 Alimenta'!$A:$A,$B100,'00 Alimenta'!D:D)*-1)","v":54754.03},{"$f":"IF('00 Aggregatore'!$D100=\"R\",SUMIF('00 Alimenta'!$A:$A,$B100,'00 Alimenta'!E:E),SUMIF('00 Alimenta'!$A:$A,$B100,'00 Alimenta'!E:E)*-1)","v":86964.13}]
["AR","AA1000","A.7.B)  Quota imputata all'esercizio dei finanziamenti per investimenti da Regione ","R",{"$f":"IF('00 Aggregatore'!$D101=\"R\",SUMIF('00 Alimenta'!$A:$A,$B101,'00 Alimenta'!D:D),SUMIF('00 Alimenta'!$A:$A,$B101,'00 Alimenta'!D:D)*-1)","v":1674245.68},{"$f":"IF('00 Aggregatore'!$D101=\"R\",SUMIF('00 Alimenta'!$A:$A,$B101,'00 Alimenta'!E:E),SUMIF('00 Alimenta'!$A:$A,$B101,'00 Alimenta'!E:E)*-1)","v":1986864.15}]
["AR","AA1010","A.7.C)  Quota imputata all'esercizio dei finanziamenti per beni di prima dotazione","R",{"$f":"IF('00 Aggregatore'!$D102=\"R\",SUMIF('00 Alimenta'!$A:$A,$B102,'00 Alimenta'!D:D),SUMIF('00 Alimenta'!$A:$A,$B102,'00 Alimenta'!D:D)*-1)","v":3577467.93},{"$f":"IF('00 Aggregatore'!$D102=\"R\",SUMIF('00 Alimenta'!$A:$A,$B102,'00 Alimenta'!E:E),SUMIF('00 Alimenta'!$A:$A,$B102,'00 Alimenta'!E:E)*-1)","v":3577467.93}]
["AR","AA1020","A.7.D) Quota imputata all'esercizio dei contributi in c/ esercizio FSR destinati ad investimenti","R",{"$f":"IF('00 Aggregatore'!$D103=\"R\",SUMIF('00 Alimenta'!$A:$A,$B103,'00 Alimenta'!D:D),SUMIF('00 Alimenta'!$A:$A,$B103,'00 Alimenta'!D:D)*-1)","v":5185207.28},{"$f":"IF('00 Aggregatore'!$D103=\"R\",SUMIF('00 Alimenta'!$A:$A,$B103,'00 Alimenta'!E:E),SUMIF('00 Alimenta'!$A:$A,$B103,'00 Alimenta'!E:E)*-1)","v":5079640.42}]
["AR","AA1030","A.7.E) Quota imputata all'esercizio degli altri contributi in c/ esercizio destinati ad investimenti","R",{"$f":"IF('00 Aggregatore'!$D104=\"R\",SUMIF('00 Alimenta'!$A:$A,$B104,'00 Alimenta'!D:D),SUMIF('00 Alimenta'!$A:$A,$B104,'00 Alimenta'!D:D)*-1)","v":0},{"$f":"IF('00 Aggregatore'!$D104=\"R\",SUMIF('00 Alimenta'!$A:$A,$B104,'00 Alimenta'!E:E),SUMIF('00 Alimenta'!$A:$A,$B104,'00 Alimenta'!E:E)*-1)","v":0}]
["AR","AA1040","A.7.F) Quota imputata all'esercizio di altre poste del patrimonio netto","R",{"$f":"IF('00 Aggregatore'!$D105=\"R\",SUMIF('00 Alimenta'!$A:$A,$B105,'00 Alimenta'!D:D),SUMIF('00 Alimenta'!$A:$A,$B105,'00 Alimenta'!D:D)*-1)","v":0},{"$f":"IF('00 Aggregatore'!$D105=\"R\",SUMIF('00 Alimenta'!$A:$A,$B105,'00 Alimenta'!E:E),SUMIF('00 Alimenta'!$A:$A,$B105,'00 Alimenta'!E:E)*-1)","v":0}]
["AR","AA1050","A.8)  Incrementi delle immobilizzazioni per lavori interni","R",{"$f":"IF('00 Aggregatore'!$D106=\"R\",SUMIF('00 Alimenta'!$A:$A,$B106,'00 Alimenta'!D:D),SUMIF('00 Alimenta'!$A:$A,$B106,'00 Alimenta'!D:D)*-1)","v":0},{"$f":"IF('00 Aggregatore'!$D106=\"R\",SUMIF('00 Alimenta'!$A:$A,$B106,'00 Alimenta'!E:E),SUMIF('00 Alimenta'!$A:$A,$B106,'00 Alimenta'!E:E)*-1)","v":0}]
["AR","AA1070","A.9.A) Ricavi per prestazioni non sanitarie","R",{"$f":"IF('00 Aggregatore'!$D107=\"R\",SUMIF('00 Alimenta'!$A:$A,$B107,'00 Alimenta'!D:D),SUMIF('00 Alimenta'!$A:$A,$B107,'00 Alimenta'!D:D)*-1)","v":1738.6},{"$f":"IF('00 Aggregatore'!$D107=\"R\",SUMIF('00 Alimenta'!$A:$A,$B107,'00 Alimenta'!E:E),SUMIF('00 Alimenta'!$A:$A,$B107,'00 Alimenta'!E:E)*-1)","v":6999.55}]
["AR","AA1080","A.9.B) Fitti attivi ed altri proventi da attività immobiliari","R",{"$f":"IF('00 Aggregatore'!$D108=\"R\",SUMIF('00 Alimenta'!$A:$A,$B108,'00 Alimenta'!D:D),SUMIF('00 Alimenta'!$A:$A,$B108,'00 Alimenta'!D:D)*-1)","v":186882.15},{"$f":"IF('00 Aggregatore'!$D108=\"R\",SUMIF('00 Alimenta'!$A:$A,$B108,'00 Alimenta'!E:E),SUMIF('00 Alimenta'!$A:$A,$B108,'00 Alimenta'!E:E)*-1)","v":286977.87}]
["AR","AA1090","A.9.C) Altri proventi diversi","R",{"$f":"IF('00 Aggregatore'!$D109=\"R\",SUMIF('00 Alimenta'!$A:$A,$B109,'00 Alimenta'!D:D),SUMIF('00 Alimenta'!$A:$A,$B109,'00 Alimenta'!D:D)*-1)","v":362826.20999999996},{"$f":"IF('00 Aggregatore'!$D109=\"R\",SUMIF('00 Alimenta'!$A:$A,$B109,'00 Alimenta'!E:E),SUMIF('00 Alimenta'!$A:$A,$B109,'00 Alimenta'!E:E)*-1)","v":288673.90000000002}]
["BC","BA0040","B.1.A.1.1) Medicinali con AIC, ad eccezione di vaccini, emoderivati di produzione regionale, ossigeno e altri gas medicali","C",{"$f":"IF('00 Aggregatore'!$D110=\"R\",SUMIF('00 Alimenta'!$A:$A,$B110,'00 Alimenta'!D:D),SUMIF('00 Alimenta'!$A:$A,$B110,'00 Alimenta'!D:D)*-1)","v":81177784.879999995},{"$f":"IF('00 Aggregatore'!$D110=\"R\",SUMIF('00 Alimenta'!$A:$A,$B110,'00 Alimenta'!E:E),SUMIF('00 Alimenta'!$A:$A,$B110,'00 Alimenta'!E:E)*-1)","v":85184508.769999996}]
["BC","BA0050","B.1.A.1.2) Medicinali senza AIC","C",{"$f":"IF('00 Aggregatore'!$D111=\"R\",SUMIF('00 Alimenta'!$A:$A,$B111,'00 Alimenta'!D:D),SUMIF('00 Alimenta'!$A:$A,$B111,'00 Alimenta'!D:D)*-1)","v":752264.34},{"$f":"IF('00 Aggregatore'!$D111=\"R\",SUMIF('00 Alimenta'!$A:$A,$B111,'00 Alimenta'!E:E),SUMIF('00 Alimenta'!$A:$A,$B111,'00 Alimenta'!E:E)*-1)","v":679663.84}]
["BC","BA0051","B.1.A.1.3) Ossigeno e altri gas medicali","C",{"$f":"IF('00 Aggregatore'!$D112=\"R\",SUMIF('00 Alimenta'!$A:$A,$B112,'00 Alimenta'!D:D),SUMIF('00 Alimenta'!$A:$A,$B112,'00 Alimenta'!D:D)*-1)","v":1358852.21},{"$f":"IF('00 Aggregatore'!$D112=\"R\",SUMIF('00 Alimenta'!$A:$A,$B112,'00 Alimenta'!E:E),SUMIF('00 Alimenta'!$A:$A,$B112,'00 Alimenta'!E:E)*-1)","v":476848.64000000001}]
["BC","BA0061","B.1.A.1.4.1) Emoderivati di produzione regionale da pubblico (Aziende sanitarie pubbliche della Regione) - Mobilità intraregionale","C",{"$f":"IF('00 Aggregatore'!$D113=\"R\",SUMIF('00 Alimenta'!$A:$A,$B113,'00 Alimenta'!D:D),SUMIF('00 Alimenta'!$A:$A,$B113,'00 Alimenta'!D:D)*-1)","v":0},{"$f":"IF('00 Aggregatore'!$D113=\"R\",SUMIF('00 Alimenta'!$A:$A,$B113,'00 Alimenta'!E:E),SUMIF('00 Alimenta'!$A:$A,$B113,'00 Alimenta'!E:E)*-1)","v":0}]
["BC","BA0062","B.1.A.1.4.2) Emoderivati di produzione regionale da pubblico (Aziende sanitarie pubbliche della Regione) - Mobilità extraregionale","C",{"$f":"IF('00 Aggregatore'!$D114=\"R\",SUMIF('00 Alimenta'!$A:$A,$B114,'00 Alimenta'!D:D),SUMIF('00 Alimenta'!$A:$A,$B114,'00 Alimenta'!D:D)*-1)","v":0},{"$f":"IF('00 Aggregatore'!$D114=\"R\",SUMIF('00 Alimenta'!$A:$A,$B114,'00 Alimenta'!E:E),SUMIF('00 Alimenta'!$A:$A,$B114,'00 Alimenta'!E:E)*-1)","v":0}]
["BC","BA0063","B.1.A.1.4.3) Emoderivati di produzione regionale da altri soggetti","C",{"$f":"IF('00 Aggregatore'!$D115=\"R\",SUMIF('00 Alimenta'!$A:$A,$B115,'00 Alimenta'!D:D),SUMIF('00 Alimenta'!$A:$A,$B115,'00 Alimenta'!D:D)*-1)","v":0},{"$f":"IF('00 Aggregatore'!$D115=\"R\",SUMIF('00 Alimenta'!$A:$A,$B115,'00 Alimenta'!E:E),SUMIF('00 Alimenta'!$A:$A,$B115,'00 Alimenta'!E:E)*-1)","v":0}]
["BC","BA0080","B.1.A.2.1) da pubblico (Aziende sanitarie pubbliche della Regione) – Mobilità intraregionale","C",{"$f":"IF('00 Aggregatore'!$D116=\"R\",SUMIF('00 Alimenta'!$A:$A,$B116,'00 Alimenta'!D:D),SUMIF('00 Alimenta'!$A:$A,$B116,'00 Alimenta'!D:D)*-1)","v":0},{"$f":"IF('00 Aggregatore'!$D116=\"R\",SUMIF('00 Alimenta'!$A:$A,$B116,'00 Alimenta'!E:E),SUMIF('00 Alimenta'!$A:$A,$B116,'00 Alimenta'!E:E)*-1)","v":0}]
["BC","BA0090","B.1.A.2.2) da pubblico (Aziende sanitarie pubbliche extra Regione) – Mobilità extraregionale","C",{"$f":"IF('00 Aggregatore'!$D117=\"R\",SUMIF('00 Alimenta'!$A:$A,$B117,'00 Alimenta'!D:D),SUMIF('00 Alimenta'!$A:$A,$B117,'00 Alimenta'!D:D)*-1)","v":23080.75},{"$f":"IF('00 Aggregatore'!$D117=\"R\",SUMIF('00 Alimenta'!$A:$A,$B117,'00 Alimenta'!E:E),SUMIF('00 Alimenta'!$A:$A,$B117,'00 Alimenta'!E:E)*-1)","v":0}]
["BC","BA0100","B.1.A.2.3) da altri soggetti","C",{"$f":"IF('00 Aggregatore'!$D118=\"R\",SUMIF('00 Alimenta'!$A:$A,$B118,'00 Alimenta'!D:D),SUMIF('00 Alimenta'!$A:$A,$B118,'00 Alimenta'!D:D)*-1)","v":0},{"$f":"IF('00 Aggregatore'!$D118=\"R\",SUMIF('00 Alimenta'!$A:$A,$B118,'00 Alimenta'!E:E),SUMIF('00 Alimenta'!$A:$A,$B118,'00 Alimenta'!E:E)*-1)","v":0}]
["BC","BA0220","B.1.A.3.1)  Dispositivi medici ","C",{"$f":"IF('00 Aggregatore'!$D119=\"R\",SUMIF('00 Alimenta'!$A:$A,$B119,'00 Alimenta'!D:D),SUMIF('00 Alimenta'!$A:$A,$B119,'00 Alimenta'!D:D)*-1)","v":27013313.950000003},{"$f":"IF('00 Aggregatore'!$D119=\"R\",SUMIF('00 Alimenta'!$A:$A,$B119,'00 Alimenta'!E:E),SUMIF('00 Alimenta'!$A:$A,$B119,'00 Alimenta'!E:E)*-1)","v":28968171.859999999}]
["BC","BA0230","B.1.A.3.2)  Dispositivi medici impiantabili attivi","C",{"$f":"IF('00 Aggregatore'!$D120=\"R\",SUMIF('00 Alimenta'!$A:$A,$B120,'00 Alimenta'!D:D),SUMIF('00 Alimenta'!$A:$A,$B120,'00 Alimenta'!D:D)*-1)","v":3071999.01},{"$f":"IF('00 Aggregatore'!$D120=\"R\",SUMIF('00 Alimenta'!$A:$A,$B120,'00 Alimenta'!E:E),SUMIF('00 Alimenta'!$A:$A,$B120,'00 Alimenta'!E:E)*-1)","v":3788645.64}]
["BC","BA0240","B.1.A.3.3)  Dispositivi medico diagnostici in vitro (IVD)","C",{"$f":"IF('00 Aggregatore'!$D121=\"R\",SUMIF('00 Alimenta'!$A:$A,$B121,'00 Alimenta'!D:D),SUMIF('00 Alimenta'!$A:$A,$B121,'00 Alimenta'!D:D)*-1)","v":12786548.720000001},{"$f":"IF('00 Aggregatore'!$D121=\"R\",SUMIF('00 Alimenta'!$A:$A,$B121,'00 Alimenta'!E:E),SUMIF('00 Alimenta'!$A:$A,$B121,'00 Alimenta'!E:E)*-1)","v":12483543.449999999}]
["BC","BA0250","B.1.A.4)  Prodotti dietetici","C",{"$f":"IF('00 Aggregatore'!$D122=\"R\",SUMIF('00 Alimenta'!$A:$A,$B122,'00 Alimenta'!D:D),SUMIF('00 Alimenta'!$A:$A,$B122,'00 Alimenta'!D:D)*-1)","v":468960.66},{"$f":"IF('00 Aggregatore'!$D122=\"R\",SUMIF('00 Alimenta'!$A:$A,$B122,'00 Alimenta'!E:E),SUMIF('00 Alimenta'!$A:$A,$B122,'00 Alimenta'!E:E)*-1)","v":459964.75}]
["BC","BA0260","B.1.A.5)  Materiali per la profilassi (vaccini)","C",{"$f":"IF('00 Aggregatore'!$D123=\"R\",SUMIF('00 Alimenta'!$A:$A,$B123,'00 Alimenta'!D:D),SUMIF('00 Alimenta'!$A:$A,$B123,'00 Alimenta'!D:D)*-1)","v":2222785.11},{"$f":"IF('00 Aggregatore'!$D123=\"R\",SUMIF('00 Alimenta'!$A:$A,$B123,'00 Alimenta'!E:E),SUMIF('00 Alimenta'!$A:$A,$B123,'00 Alimenta'!E:E)*-1)","v":2684881.73}]
["BC","BA0270","B.1.A.6)  Prodotti chimici","C",{"$f":"IF('00 Aggregatore'!$D124=\"R\",SUMIF('00 Alimenta'!$A:$A,$B124,'00 Alimenta'!D:D),SUMIF('00 Alimenta'!$A:$A,$B124,'00 Alimenta'!D:D)*-1)","v":0},{"$f":"IF('00 Aggregatore'!$D124=\"R\",SUMIF('00 Alimenta'!$A:$A,$B124,'00 Alimenta'!E:E),SUMIF('00 Alimenta'!$A:$A,$B124,'00 Alimenta'!E:E)*-1)","v":0}]
["BC","BA0280","B.1.A.7)  Materiali e prodotti per uso veterinario","C",{"$f":"IF('00 Aggregatore'!$D125=\"R\",SUMIF('00 Alimenta'!$A:$A,$B125,'00 Alimenta'!D:D),SUMIF('00 Alimenta'!$A:$A,$B125,'00 Alimenta'!D:D)*-1)","v":20636.41},{"$f":"IF('00 Aggregatore'!$D125=\"R\",SUMIF('00 Alimenta'!$A:$A,$B125,'00 Alimenta'!E:E),SUMIF('00 Alimenta'!$A:$A,$B125,'00 Alimenta'!E:E)*-1)","v":15170.48}]
["BC","BA0290","B.1.A.8)  Altri beni e prodotti sanitari","C",{"$f":"IF('00 Aggregatore'!$D126=\"R\",SUMIF('00 Alimenta'!$A:$A,$B126,'00 Alimenta'!D:D),SUMIF('00 Alimenta'!$A:$A,$B126,'00 Alimenta'!D:D)*-1)","v":2193506.59},{"$f":"IF('00 Aggregatore'!$D126=\"R\",SUMIF('00 Alimenta'!$A:$A,$B126,'00 Alimenta'!E:E),SUMIF('00 Alimenta'!$A:$A,$B126,'00 Alimenta'!E:E)*-1)","v":1988114.71}]
["BC","BA0301","B.1.A.9.1)  Prodotti farmaceutici ed emoderivati","C",{"$f":"IF('00 Aggregatore'!$D127=\"R\",SUMIF('00 Alimenta'!$A:$A,$B127,'00 Alimenta'!D:D),SUMIF('00 Alimenta'!$A:$A,$B127,'00 Alimenta'!D:D)*-1)","v":0},{"$f":"IF('00 Aggregatore'!$D127=\"R\",SUMIF('00 Alimenta'!$A:$A,$B127,'00 Alimenta'!E:E),SUMIF('00 Alimenta'!$A:$A,$B127,'00 Alimenta'!E:E)*-1)","v":0}]
["BC","BA0303","B.1.A.9.3) Dispositivi medici","C",{"$f":"IF('00 Aggregatore'!$D128=\"R\",SUMIF('00 Alimenta'!$A:$A,$B128,'00 Alimenta'!D:D),SUMIF('00 Alimenta'!$A:$A,$B128,'00 Alimenta'!D:D)*-1)","v":0},{"$f":"IF('00 Aggregatore'!$D128=\"R\",SUMIF('00 Alimenta'!$A:$A,$B128,'00 Alimenta'!E:E),SUMIF('00 Alimenta'!$A:$A,$B128,'00 Alimenta'!E:E)*-1)","v":0}]
["BC","BA0304","B.1.A.9.4)  Prodotti dietetici","C",{"$f":"IF('00 Aggregatore'!$D129=\"R\",SUMIF('00 Alimenta'!$A:$A,$B129,'00 Alimenta'!D:D),SUMIF('00 Alimenta'!$A:$A,$B129,'00 Alimenta'!D:D)*-1)","v":0},{"$f":"IF('00 Aggregatore'!$D129=\"R\",SUMIF('00 Alimenta'!$A:$A,$B129,'00 Alimenta'!E:E),SUMIF('00 Alimenta'!$A:$A,$B129,'00 Alimenta'!E:E)*-1)","v":0}]
["BC","BA0305","B.1.A.9.5)  Materiali per la profilassi (vaccini)","C",{"$f":"IF('00 Aggregatore'!$D130=\"R\",SUMIF('00 Alimenta'!$A:$A,$B130,'00 Alimenta'!D:D),SUMIF('00 Alimenta'!$A:$A,$B130,'00 Alimenta'!D:D)*-1)","v":0},{"$f":"IF('00 Aggregatore'!$D130=\"R\",SUMIF('00 Alimenta'!$A:$A,$B130,'00 Alimenta'!E:E),SUMIF('00 Alimenta'!$A:$A,$B130,'00 Alimenta'!E:E)*-1)","v":0}]
["BC","BA0306","B.1.A.9.6)  Prodotti chimici","C",{"$f":"IF('00 Aggregatore'!$D131=\"R\",SUMIF('00 Alimenta'!$A:$A,$B131,'00 Alimenta'!D:D),SUMIF('00 Alimenta'!$A:$A,$B131,'00 Alimenta'!D:D)*-1)","v":0},{"$f":"IF('00 Aggregatore'!$D131=\"R\",SUMIF('00 Alimenta'!$A:$A,$B131,'00 Alimenta'!E:E),SUMIF('00 Alimenta'!$A:$A,$B131,'00 Alimenta'!E:E)*-1)","v":0}]
["BC","BA0307","B.1.A.9.7)  Materiali e prodotti per uso veterinario","C",{"$f":"IF('00 Aggregatore'!$D132=\"R\",SUMIF('00 Alimenta'!$A:$A,$B132,'00 Alimenta'!D:D),SUMIF('00 Alimenta'!$A:$A,$B132,'00 Alimenta'!D:D)*-1)","v":0},{"$f":"IF('00 Aggregatore'!$D132=\"R\",SUMIF('00 Alimenta'!$A:$A,$B132,'00 Alimenta'!E:E),SUMIF('00 Alimenta'!$A:$A,$B132,'00 Alimenta'!E:E)*-1)","v":0}]
["BC","BA0308","B.1.A.9.8)  Altri beni e prodotti sanitari","C",{"$f":"IF('00 Aggregatore'!$D133=\"R\",SUMIF('00 Alimenta'!$A:$A,$B133,'00 Alimenta'!D:D),SUMIF('00 Alimenta'!$A:$A,$B133,'00 Alimenta'!D:D)*-1)","v":0},{"$f":"IF('00 Aggregatore'!$D133=\"R\",SUMIF('00 Alimenta'!$A:$A,$B133,'00 Alimenta'!E:E),SUMIF('00 Alimenta'!$A:$A,$B133,'00 Alimenta'!E:E)*-1)","v":0}]
[{"$f":"LEFT(B134,1)&D134","v":"BC"},"BA0320","B.1.B.1)  Prodotti alimentari","C",{"$f":"IF('00 Aggregatore'!$D134=\"R\",SUMIF('00 Alimenta'!$A:$A,$B134,'00 Alimenta'!D:D),SUMIF('00 Alimenta'!$A:$A,$B134,'00 Alimenta'!D:D)*-1)","v":83.52},{"$f":"IF('00 Aggregatore'!$D134=\"R\",SUMIF('00 Alimenta'!$A:$A,$B134,'00 Alimenta'!E:E),SUMIF('00 Alimenta'!$A:$A,$B134,'00 Alimenta'!E:E)*-1)","v":336.06}]
["BC","BA0330","B.1.B.2)  Materiali di guardaroba, di pulizia e di convivenza in genere","C",{"$f":"IF('00 Aggregatore'!$D135=\"R\",SUMIF('00 Alimenta'!$A:$A,$B135,'00 Alimenta'!D:D),SUMIF('00 Alimenta'!$A:$A,$B135,'00 Alimenta'!D:D)*-1)","v":64306.42},{"$f":"IF('00 Aggregatore'!$D135=\"R\",SUMIF('00 Alimenta'!$A:$A,$B135,'00 Alimenta'!E:E),SUMIF('00 Alimenta'!$A:$A,$B135,'00 Alimenta'!E:E)*-1)","v":34271.29}]
["BC","BA0340","B.1.B.3)  Combustibili, carburanti e lubrificanti","C",{"$f":"IF('00 Aggregatore'!$D136=\"R\",SUMIF('00 Alimenta'!$A:$A,$B136,'00 Alimenta'!D:D),SUMIF('00 Alimenta'!$A:$A,$B136,'00 Alimenta'!D:D)*-1)","v":172419.52},{"$f":"IF('00 Aggregatore'!$D136=\"R\",SUMIF('00 Alimenta'!$A:$A,$B136,'00 Alimenta'!E:E),SUMIF('00 Alimenta'!$A:$A,$B136,'00 Alimenta'!E:E)*-1)","v":145758.07999999999}]
["BC","BA0350","B.1.B.4)  Supporti informatici e cancelleria","C",{"$f":"IF('00 Aggregatore'!$D137=\"R\",SUMIF('00 Alimenta'!$A:$A,$B137,'00 Alimenta'!D:D),SUMIF('00 Alimenta'!$A:$A,$B137,'00 Alimenta'!D:D)*-1)","v":477974.89999999997},{"$f":"IF('00 Aggregatore'!$D137=\"R\",SUMIF('00 Alimenta'!$A:$A,$B137,'00 Alimenta'!E:E),SUMIF('00 Alimenta'!$A:$A,$B137,'00 Alimenta'!E:E)*-1)","v":458683.01}]
["BC","BA0360","B.1.B.5)  Materiale per la manutenzione","C",{"$f":"IF('00 Aggregatore'!$D138=\"R\",SUMIF('00 Alimenta'!$A:$A,$B138,'00 Alimenta'!D:D),SUMIF('00 Alimenta'!$A:$A,$B138,'00 Alimenta'!D:D)*-1)","v":239884.37},{"$f":"IF('00 Aggregatore'!$D138=\"R\",SUMIF('00 Alimenta'!$A:$A,$B138,'00 Alimenta'!E:E),SUMIF('00 Alimenta'!$A:$A,$B138,'00 Alimenta'!E:E)*-1)","v":284528.75}]
["BC","BA0370","B.1.B.6)  Altri beni e prodotti non sanitari","C",{"$f":"IF('00 Aggregatore'!$D139=\"R\",SUMIF('00 Alimenta'!$A:$A,$B139,'00 Alimenta'!D:D),SUMIF('00 Alimenta'!$A:$A,$B139,'00 Alimenta'!D:D)*-1)","v":45073.96},{"$f":"IF('00 Aggregatore'!$D139=\"R\",SUMIF('00 Alimenta'!$A:$A,$B139,'00 Alimenta'!E:E),SUMIF('00 Alimenta'!$A:$A,$B139,'00 Alimenta'!E:E)*-1)","v":67162.759999999995}]
["BC","BA0380","B.1.B.7)  Beni e prodotti non sanitari da Aziende sanitarie pubbliche della Regione","C",{"$f":"IF('00 Aggregatore'!$D140=\"R\",SUMIF('00 Alimenta'!$A:$A,$B140,'00 Alimenta'!D:D),SUMIF('00 Alimenta'!$A:$A,$B140,'00 Alimenta'!D:D)*-1)","v":0},{"$f":"IF('00 Aggregatore'!$D140=\"R\",SUMIF('00 Alimenta'!$A:$A,$B140,'00 Alimenta'!E:E),SUMIF('00 Alimenta'!$A:$A,$B140,'00 Alimenta'!E:E)*-1)","v":0}]
["BC","BA0430","B.2.A.1.1.A) Costi per assistenza MMG","C",{"$f":"IF('00 Aggregatore'!$D141=\"R\",SUMIF('00 Alimenta'!$A:$A,$B141,'00 Alimenta'!D:D),SUMIF('00 Alimenta'!$A:$A,$B141,'00 Alimenta'!D:D)*-1)","v":24517314.75},{"$f":"IF('00 Aggregatore'!$D141=\"R\",SUMIF('00 Alimenta'!$A:$A,$B141,'00 Alimenta'!E:E),SUMIF('00 Alimenta'!$A:$A,$B141,'00 Alimenta'!E:E)*-1)","v":23959444.879999999}]
["BC","BA0440","B.2.A.1.1.B) Costi per assistenza PLS","C",{"$f":"IF('00 Aggregatore'!$D142=\"R\",SUMIF('00 Alimenta'!$A:$A,$B142,'00 Alimenta'!D:D),SUMIF('00 Alimenta'!$A:$A,$B142,'00 Alimenta'!D:D)*-1)","v":6415070.5300000003},{"$f":"IF('00 Aggregatore'!$D142=\"R\",SUMIF('00 Alimenta'!$A:$A,$B142,'00 Alimenta'!E:E),SUMIF('00 Alimenta'!$A:$A,$B142,'00 Alimenta'!E:E)*-1)","v":5870213.8600000003}]
["BC","BA0450","B.2.A.1.1.C) Costi per assistenza Continuità assistenziale","C",{"$f":"IF('00 Aggregatore'!$D143=\"R\",SUMIF('00 Alimenta'!$A:$A,$B143,'00 Alimenta'!D:D),SUMIF('00 Alimenta'!$A:$A,$B143,'00 Alimenta'!D:D)*-1)","v":3931463.93},{"$f":"IF('00 Aggregatore'!$D143=\"R\",SUMIF('00 Alimenta'!$A:$A,$B143,'00 Alimenta'!E:E),SUMIF('00 Alimenta'!$A:$A,$B143,'00 Alimenta'!E:E)*-1)","v":4254569.59}]
["BC","BA0460","B.2.A.1.1.D) Altro (medicina dei servizi, psicologi, medici 118, ecc)","C",{"$f":"IF('00 Aggregatore'!$D144=\"R\",SUMIF('00 Alimenta'!$A:$A,$B144,'00 Alimenta'!D:D),SUMIF('00 Alimenta'!$A:$A,$B144,'00 Alimenta'!D:D)*-1)","v":789656.11},{"$f":"IF('00 Aggregatore'!$D144=\"R\",SUMIF('00 Alimenta'!$A:$A,$B144,'00 Alimenta'!E:E),SUMIF('00 Alimenta'!$A:$A,$B144,'00 Alimenta'!E:E)*-1)","v":991621.88}]
["BC","BA0470","B.2.A.1.2) - da pubblico (Aziende sanitarie pubbliche della Regione) - Mobilità intraregionale","C",{"$f":"IF('00 Aggregatore'!$D145=\"R\",SUMIF('00 Alimenta'!$A:$A,$B145,'00 Alimenta'!D:D),SUMIF('00 Alimenta'!$A:$A,$B145,'00 Alimenta'!D:D)*-1)","v":38671},{"$f":"IF('00 Aggregatore'!$D145=\"R\",SUMIF('00 Alimenta'!$A:$A,$B145,'00 Alimenta'!E:E),SUMIF('00 Alimenta'!$A:$A,$B145,'00 Alimenta'!E:E)*-1)","v":51404.4}]
["BC","BA0480","B.2.A.1.3) - da pubblico (Aziende sanitarie pubbliche Extraregione) - Mobilità extraregionale","C",{"$f":"IF('00 Aggregatore'!$D146=\"R\",SUMIF('00 Alimenta'!$A:$A,$B146,'00 Alimenta'!D:D),SUMIF('00 Alimenta'!$A:$A,$B146,'00 Alimenta'!D:D)*-1)","v":217107.5},{"$f":"IF('00 Aggregatore'!$D146=\"R\",SUMIF('00 Alimenta'!$A:$A,$B146,'00 Alimenta'!E:E),SUMIF('00 Alimenta'!$A:$A,$B146,'00 Alimenta'!E:E)*-1)","v":202760.17}]
["BC","BA0500","B.2.A.2.1) - da convenzione","C",{"$f":"IF('00 Aggregatore'!$D147=\"R\",SUMIF('00 Alimenta'!$A:$A,$B147,'00 Alimenta'!D:D),SUMIF('00 Alimenta'!$A:$A,$B147,'00 Alimenta'!D:D)*-1)","v":50129678.229999997},{"$f":"IF('00 Aggregatore'!$D147=\"R\",SUMIF('00 Alimenta'!$A:$A,$B147,'00 Alimenta'!E:E),SUMIF('00 Alimenta'!$A:$A,$B147,'00 Alimenta'!E:E)*-1)","v":46621762.020000003}]
["BC","BA0510","B.2.A.2.2) - da pubblico (Aziende sanitarie pubbliche della Regione)- Mobilità intraregionale","C",{"$f":"IF('00 Aggregatore'!$D148=\"R\",SUMIF('00 Alimenta'!$A:$A,$B148,'00 Alimenta'!D:D),SUMIF('00 Alimenta'!$A:$A,$B148,'00 Alimenta'!D:D)*-1)","v":1277628.07},{"$f":"IF('00 Aggregatore'!$D148=\"R\",SUMIF('00 Alimenta'!$A:$A,$B148,'00 Alimenta'!E:E),SUMIF('00 Alimenta'!$A:$A,$B148,'00 Alimenta'!E:E)*-1)","v":1255010.99}]
["BC","BA0520","B.2.A.2.3) - da pubblico (Extraregione)","C",{"$f":"IF('00 Aggregatore'!$D149=\"R\",SUMIF('00 Alimenta'!$A:$A,$B149,'00 Alimenta'!D:D),SUMIF('00 Alimenta'!$A:$A,$B149,'00 Alimenta'!D:D)*-1)","v":457054.73},{"$f":"IF('00 Aggregatore'!$D149=\"R\",SUMIF('00 Alimenta'!$A:$A,$B149,'00 Alimenta'!E:E),SUMIF('00 Alimenta'!$A:$A,$B149,'00 Alimenta'!E:E)*-1)","v":504044.37}]
["BC","BA0540","B.2.A.3.1) - da pubblico (Aziende sanitarie pubbliche della Regione)","C",{"$f":"IF('00 Aggregatore'!$D150=\"R\",SUMIF('00 Alimenta'!$A:$A,$B150,'00 Alimenta'!D:D),SUMIF('00 Alimenta'!$A:$A,$B150,'00 Alimenta'!D:D)*-1)","v":8879359.5700000003},{"$f":"IF('00 Aggregatore'!$D150=\"R\",SUMIF('00 Alimenta'!$A:$A,$B150,'00 Alimenta'!E:E),SUMIF('00 Alimenta'!$A:$A,$B150,'00 Alimenta'!E:E)*-1)","v":9027977.0899999999}]
["BC","BA0541","B.2.A.3.2) prestazioni di pronto soccorso  non seguite da ricovero - da pubblico (Aziende sanitarie pubbliche della Regione)","C",{"$f":"IF('00 Aggregatore'!$D151=\"R\",SUMIF('00 Alimenta'!$A:$A,$B151,'00 Alimenta'!D:D),SUMIF('00 Alimenta'!$A:$A,$B151,'00 Alimenta'!D:D)*-1)","v":0},{"$f":"IF('00 Aggregatore'!$D151=\"R\",SUMIF('00 Alimenta'!$A:$A,$B151,'00 Alimenta'!E:E),SUMIF('00 Alimenta'!$A:$A,$B151,'00 Alimenta'!E:E)*-1)","v":0}]
["BC","BA0550","B.2.A.3.3) - da pubblico (altri soggetti pubbl. della Regione)","C",{"$f":"IF('00 Aggregatore'!$D152=\"R\",SUMIF('00 Alimenta'!$A:$A,$B152,'00 Alimenta'!D:D),SUMIF('00 Alimenta'!$A:$A,$B152,'00 Alimenta'!D:D)*-1)","v":360209.89},{"$f":"IF('00 Aggregatore'!$D152=\"R\",SUMIF('00 Alimenta'!$A:$A,$B152,'00 Alimenta'!E:E),SUMIF('00 Alimenta'!$A:$A,$B152,'00 Alimenta'!E:E)*-1)","v":580281.24}]
["BC","BA0551","B.2.A.3.4) prestazioni di pronto soccorso  non seguite da ricovero - da pubblico (altri soggetti pubbl. della Regione)","C",{"$f":"IF('00 Aggregatore'!$D153=\"R\",SUMIF('00 Alimenta'!$A:$A,$B153,'00 Alimenta'!D:D),SUMIF('00 Alimenta'!$A:$A,$B153,'00 Alimenta'!D:D)*-1)","v":0},{"$f":"IF('00 Aggregatore'!$D153=\"R\",SUMIF('00 Alimenta'!$A:$A,$B153,'00 Alimenta'!E:E),SUMIF('00 Alimenta'!$A:$A,$B153,'00 Alimenta'!E:E)*-1)","v":0}]
["BC","BA0560","B.2.A.3.5) - da pubblico (Extraregione)","C",{"$f":"IF('00 Aggregatore'!$D154=\"R\",SUMIF('00 Alimenta'!$A:$A,$B154,'00 Alimenta'!D:D),SUMIF('00 Alimenta'!$A:$A,$B154,'00 Alimenta'!D:D)*-1)","v":4000753.58},{"$f":"IF('00 Aggregatore'!$D154=\"R\",SUMIF('00 Alimenta'!$A:$A,$B154,'00 Alimenta'!E:E),SUMIF('00 Alimenta'!$A:$A,$B154,'00 Alimenta'!E:E)*-1)","v":3402818.86}]
["BC","BA0561","B.2.A.3.6) prestazioni di pronto soccorso  non seguite da ricovero - da pubblico (Extraregione)","C",{"$f":"IF('00 Aggregatore'!$D155=\"R\",SUMIF('00 Alimenta'!$A:$A,$B155,'00 Alimenta'!D:D),SUMIF('00 Alimenta'!$A:$A,$B155,'00 Alimenta'!D:D)*-1)","v":0},{"$f":"IF('00 Aggregatore'!$D155=\"R\",SUMIF('00 Alimenta'!$A:$A,$B155,'00 Alimenta'!E:E),SUMIF('00 Alimenta'!$A:$A,$B155,'00 Alimenta'!E:E)*-1)","v":0}]
["BC","BA0570","B.2.A.3.7) - da privato - Medici SUMAI","C",{"$f":"IF('00 Aggregatore'!$D156=\"R\",SUMIF('00 Alimenta'!$A:$A,$B156,'00 Alimenta'!D:D),SUMIF('00 Alimenta'!$A:$A,$B156,'00 Alimenta'!D:D)*-1)","v":4486744.21},{"$f":"IF('00 Aggregatore'!$D156=\"R\",SUMIF('00 Alimenta'!$A:$A,$B156,'00 Alimenta'!E:E),SUMIF('00 Alimenta'!$A:$A,$B156,'00 Alimenta'!E:E)*-1)","v":4184408.7}]
["BC","BA0590","B.2.A.3.8.A) Servizi sanitari per assistenza specialistica da IRCCS privati e Policlinici privati","C",{"$f":"IF('00 Aggregatore'!$D157=\"R\",SUMIF('00 Alimenta'!$A:$A,$B157,'00 Alimenta'!D:D),SUMIF('00 Alimenta'!$A:$A,$B157,'00 Alimenta'!D:D)*-1)","v":83336.34},{"$f":"IF('00 Aggregatore'!$D157=\"R\",SUMIF('00 Alimenta'!$A:$A,$B157,'00 Alimenta'!E:E),SUMIF('00 Alimenta'!$A:$A,$B157,'00 Alimenta'!E:E)*-1)","v":55662.5}]
["BC","BA0591","B.2.A.3.8.B) Servizi sanitari per prestazioni di pronto soccorso non seguite da ricovero - da IRCCS privati e Policlinici privati","C",{"$f":"IF('00 Aggregatore'!$D158=\"R\",SUMIF('00 Alimenta'!$A:$A,$B158,'00 Alimenta'!D:D),SUMIF('00 Alimenta'!$A:$A,$B158,'00 Alimenta'!D:D)*-1)","v":0},{"$f":"IF('00 Aggregatore'!$D158=\"R\",SUMIF('00 Alimenta'!$A:$A,$B158,'00 Alimenta'!E:E),SUMIF('00 Alimenta'!$A:$A,$B158,'00 Alimenta'!E:E)*-1)","v":0}]
["BC","BA0600","B.2.A.3.8.C) Servizi sanitari per assistenza specialistica da Ospedali Classificati privati","C",{"$f":"IF('00 Aggregatore'!$D159=\"R\",SUMIF('00 Alimenta'!$A:$A,$B159,'00 Alimenta'!D:D),SUMIF('00 Alimenta'!$A:$A,$B159,'00 Alimenta'!D:D)*-1)","v":0},{"$f":"IF('00 Aggregatore'!$D159=\"R\",SUMIF('00 Alimenta'!$A:$A,$B159,'00 Alimenta'!E:E),SUMIF('00 Alimenta'!$A:$A,$B159,'00 Alimenta'!E:E)*-1)","v":0}]
["BC","BA0601","B.2.A.3.8.D) Servizi sanitari per prestazioni di pronto soccorso non seguite da ricovero - da Ospedali Classificati privati","C",{"$f":"IF('00 Aggregatore'!$D160=\"R\",SUMIF('00 Alimenta'!$A:$A,$B160,'00 Alimenta'!D:D),SUMIF('00 Alimenta'!$A:$A,$B160,'00 Alimenta'!D:D)*-1)","v":0},{"$f":"IF('00 Aggregatore'!$D160=\"R\",SUMIF('00 Alimenta'!$A:$A,$B160,'00 Alimenta'!E:E),SUMIF('00 Alimenta'!$A:$A,$B160,'00 Alimenta'!E:E)*-1)","v":0}]
["BC","BA0610","B.2.A.3.8.E) Servizi sanitari per assistenza specialistica da Case di Cura private","C",{"$f":"IF('00 Aggregatore'!$D161=\"R\",SUMIF('00 Alimenta'!$A:$A,$B161,'00 Alimenta'!D:D),SUMIF('00 Alimenta'!$A:$A,$B161,'00 Alimenta'!D:D)*-1)","v":5463686.8200000003},{"$f":"IF('00 Aggregatore'!$D161=\"R\",SUMIF('00 Alimenta'!$A:$A,$B161,'00 Alimenta'!E:E),SUMIF('00 Alimenta'!$A:$A,$B161,'00 Alimenta'!E:E)*-1)","v":5344557.33}]
["BC","BA0611","B.2.A.3.8.F) Servizi sanitari per prestazioni di pronto soccorso non seguite da ricovero - da Case di Cura private","C",{"$f":"IF('00 Aggregatore'!$D162=\"R\",SUMIF('00 Alimenta'!$A:$A,$B162,'00 Alimenta'!D:D),SUMIF('00 Alimenta'!$A:$A,$B162,'00 Alimenta'!D:D)*-1)","v":0},{"$f":"IF('00 Aggregatore'!$D162=\"R\",SUMIF('00 Alimenta'!$A:$A,$B162,'00 Alimenta'!E:E),SUMIF('00 Alimenta'!$A:$A,$B162,'00 Alimenta'!E:E)*-1)","v":0}]
["BC","BA0620","B.2.A.3.8.G) Servizi sanitari per assistenza specialistica da altri privati","C",{"$f":"IF('00 Aggregatore'!$D163=\"R\",SUMIF('00 Alimenta'!$A:$A,$B163,'00 Alimenta'!D:D),SUMIF('00 Alimenta'!$A:$A,$B163,'00 Alimenta'!D:D)*-1)","v":3338782.85},{"$f":"IF('00 Aggregatore'!$D163=\"R\",SUMIF('00 Alimenta'!$A:$A,$B163,'00 Alimenta'!E:E),SUMIF('00 Alimenta'!$A:$A,$B163,'00 Alimenta'!E:E)*-1)","v":3297882.0900000003}]
["BC","BA0621","B.2.A.3.8.H) Servizi sanitari per prestazioni di pronto soccorso non seguite da ricovero - da altri privati","C",{"$f":"IF('00 Aggregatore'!$D164=\"R\",SUMIF('00 Alimenta'!$A:$A,$B164,'00 Alimenta'!D:D),SUMIF('00 Alimenta'!$A:$A,$B164,'00 Alimenta'!D:D)*-1)","v":0},{"$f":"IF('00 Aggregatore'!$D164=\"R\",SUMIF('00 Alimenta'!$A:$A,$B164,'00 Alimenta'!E:E),SUMIF('00 Alimenta'!$A:$A,$B164,'00 Alimenta'!E:E)*-1)","v":0}]
["BC","BA0630","B.2.A.3.9) - da privato per cittadini non residenti - Extraregione (mobilità attiva in compensazione)","C",{"$f":"IF('00 Aggregatore'!$D165=\"R\",SUMIF('00 Alimenta'!$A:$A,$B165,'00 Alimenta'!D:D),SUMIF('00 Alimenta'!$A:$A,$B165,'00 Alimenta'!D:D)*-1)","v":196698.22999999998},{"$f":"IF('00 Aggregatore'!$D165=\"R\",SUMIF('00 Alimenta'!$A:$A,$B165,'00 Alimenta'!E:E),SUMIF('00 Alimenta'!$A:$A,$B165,'00 Alimenta'!E:E)*-1)","v":196872.47999999998}]
["BC","BA0631","B.2.A.3.10) Servizi sanitari per prestazioni di pronto soccorso non seguite da ricovero - da privato per cittadini non residenti - Extraregione (mobilità attiva in compensazione)","C",{"$f":"IF('00 Aggregatore'!$D166=\"R\",SUMIF('00 Alimenta'!$A:$A,$B166,'00 Alimenta'!D:D),SUMIF('00 Alimenta'!$A:$A,$B166,'00 Alimenta'!D:D)*-1)","v":0},{"$f":"IF('00 Aggregatore'!$D166=\"R\",SUMIF('00 Alimenta'!$A:$A,$B166,'00 Alimenta'!E:E),SUMIF('00 Alimenta'!$A:$A,$B166,'00 Alimenta'!E:E)*-1)","v":0}]
["BC","BA0650","B.2.A.4.1) - da pubblico (Aziende sanitarie pubbliche della Regione)","C",{"$f":"IF('00 Aggregatore'!$D167=\"R\",SUMIF('00 Alimenta'!$A:$A,$B167,'00 Alimenta'!D:D),SUMIF('00 Alimenta'!$A:$A,$B167,'00 Alimenta'!D:D)*-1)","v":4832965.95},{"$f":"IF('00 Aggregatore'!$D167=\"R\",SUMIF('00 Alimenta'!$A:$A,$B167,'00 Alimenta'!E:E),SUMIF('00 Alimenta'!$A:$A,$B167,'00 Alimenta'!E:E)*-1)","v":5168858.88}]
["BC","BA0660","B.2.A.4.2) - da pubblico (altri soggetti pubbl. della Regione)","C",{"$f":"IF('00 Aggregatore'!$D168=\"R\",SUMIF('00 Alimenta'!$A:$A,$B168,'00 Alimenta'!D:D),SUMIF('00 Alimenta'!$A:$A,$B168,'00 Alimenta'!D:D)*-1)","v":0},{"$f":"IF('00 Aggregatore'!$D168=\"R\",SUMIF('00 Alimenta'!$A:$A,$B168,'00 Alimenta'!E:E),SUMIF('00 Alimenta'!$A:$A,$B168,'00 Alimenta'!E:E)*-1)","v":0}]
["BC","BA0670","B.2.A.4.3) - da pubblico (Extraregione) non soggetti a compensazione","C",{"$f":"IF('00 Aggregatore'!$D169=\"R\",SUMIF('00 Alimenta'!$A:$A,$B169,'00 Alimenta'!D:D),SUMIF('00 Alimenta'!$A:$A,$B169,'00 Alimenta'!D:D)*-1)","v":0},{"$f":"IF('00 Aggregatore'!$D169=\"R\",SUMIF('00 Alimenta'!$A:$A,$B169,'00 Alimenta'!E:E),SUMIF('00 Alimenta'!$A:$A,$B169,'00 Alimenta'!E:E)*-1)","v":0}]
["BC","BA0680","B.2.A.4.4) - da privato (intraregionale)","C",{"$f":"IF('00 Aggregatore'!$D170=\"R\",SUMIF('00 Alimenta'!$A:$A,$B170,'00 Alimenta'!D:D),SUMIF('00 Alimenta'!$A:$A,$B170,'00 Alimenta'!D:D)*-1)","v":14612451.73},{"$f":"IF('00 Aggregatore'!$D170=\"R\",SUMIF('00 Alimenta'!$A:$A,$B170,'00 Alimenta'!E:E),SUMIF('00 Alimenta'!$A:$A,$B170,'00 Alimenta'!E:E)*-1)","v":14522765.17}]
["BC","BA0690","B.2.A.4.5) - da privato (extraregionale)","C",{"$f":"IF('00 Aggregatore'!$D171=\"R\",SUMIF('00 Alimenta'!$A:$A,$B171,'00 Alimenta'!D:D),SUMIF('00 Alimenta'!$A:$A,$B171,'00 Alimenta'!D:D)*-1)","v":545484.88},{"$f":"IF('00 Aggregatore'!$D171=\"R\",SUMIF('00 Alimenta'!$A:$A,$B171,'00 Alimenta'!E:E),SUMIF('00 Alimenta'!$A:$A,$B171,'00 Alimenta'!E:E)*-1)","v":583099.84}]
["BC","BA0710","B.2.A.5.1) - da pubblico (Aziende sanitarie pubbliche della Regione)","C",{"$f":"IF('00 Aggregatore'!$D172=\"R\",SUMIF('00 Alimenta'!$A:$A,$B172,'00 Alimenta'!D:D),SUMIF('00 Alimenta'!$A:$A,$B172,'00 Alimenta'!D:D)*-1)","v":0},{"$f":"IF('00 Aggregatore'!$D172=\"R\",SUMIF('00 Alimenta'!$A:$A,$B172,'00 Alimenta'!E:E),SUMIF('00 Alimenta'!$A:$A,$B172,'00 Alimenta'!E:E)*-1)","v":0}]
["BC","BA0720","B.2.A.5.2) - da pubblico (altri soggetti pubbl. della Regione)","C",{"$f":"IF('00 Aggregatore'!$D173=\"R\",SUMIF('00 Alimenta'!$A:$A,$B173,'00 Alimenta'!D:D),SUMIF('00 Alimenta'!$A:$A,$B173,'00 Alimenta'!D:D)*-1)","v":0},{"$f":"IF('00 Aggregatore'!$D173=\"R\",SUMIF('00 Alimenta'!$A:$A,$B173,'00 Alimenta'!E:E),SUMIF('00 Alimenta'!$A:$A,$B173,'00 Alimenta'!E:E)*-1)","v":0}]
["BC","BA0730","B.2.A.5.3) - da pubblico (Extraregione)","C",{"$f":"IF('00 Aggregatore'!$D174=\"R\",SUMIF('00 Alimenta'!$A:$A,$B174,'00 Alimenta'!D:D),SUMIF('00 Alimenta'!$A:$A,$B174,'00 Alimenta'!D:D)*-1)","v":0},{"$f":"IF('00 Aggregatore'!$D174=\"R\",SUMIF('00 Alimenta'!$A:$A,$B174,'00 Alimenta'!E:E),SUMIF('00 Alimenta'!$A:$A,$B174,'00 Alimenta'!E:E)*-1)","v":0}]
["BC","BA0740","B.2.A.5.4) - da privato","C",{"$f":"IF('00 Aggregatore'!$D175=\"R\",SUMIF('00 Alimenta'!$A:$A,$B175,'00 Alimenta'!D:D),SUMIF('00 Alimenta'!$A:$A,$B175,'00 Alimenta'!D:D)*-1)","v":1802068.84},{"$f":"IF('00 Aggregatore'!$D175=\"R\",SUMIF('00 Alimenta'!$A:$A,$B175,'00 Alimenta'!E:E),SUMIF('00 Alimenta'!$A:$A,$B175,'00 Alimenta'!E:E)*-1)","v":1733047.08}]
["BC","BA0760","B.2.A.6.1) - da pubblico (Aziende sanitarie pubbliche della Regione)","C",{"$f":"IF('00 Aggregatore'!$D176=\"R\",SUMIF('00 Alimenta'!$A:$A,$B176,'00 Alimenta'!D:D),SUMIF('00 Alimenta'!$A:$A,$B176,'00 Alimenta'!D:D)*-1)","v":0},{"$f":"IF('00 Aggregatore'!$D176=\"R\",SUMIF('00 Alimenta'!$A:$A,$B176,'00 Alimenta'!E:E),SUMIF('00 Alimenta'!$A:$A,$B176,'00 Alimenta'!E:E)*-1)","v":0}]
["BC","BA0770","B.2.A.6.2) - da pubblico (altri soggetti pubbl. della Regione)","C",{"$f":"IF('00 Aggregatore'!$D177=\"R\",SUMIF('00 Alimenta'!$A:$A,$B177,'00 Alimenta'!D:D),SUMIF('00 Alimenta'!$A:$A,$B177,'00 Alimenta'!D:D)*-1)","v":0},{"$f":"IF('00 Aggregatore'!$D177=\"R\",SUMIF('00 Alimenta'!$A:$A,$B177,'00 Alimenta'!E:E),SUMIF('00 Alimenta'!$A:$A,$B177,'00 Alimenta'!E:E)*-1)","v":0}]
["BC","BA0780","B.2.A.6.3) - da pubblico (Extraregione)","C",{"$f":"IF('00 Aggregatore'!$D178=\"R\",SUMIF('00 Alimenta'!$A:$A,$B178,'00 Alimenta'!D:D),SUMIF('00 Alimenta'!$A:$A,$B178,'00 Alimenta'!D:D)*-1)","v":0},{"$f":"IF('00 Aggregatore'!$D178=\"R\",SUMIF('00 Alimenta'!$A:$A,$B178,'00 Alimenta'!E:E),SUMIF('00 Alimenta'!$A:$A,$B178,'00 Alimenta'!E:E)*-1)","v":0}]
["BC","BA0790","B.2.A.6.4) - da privato","C",{"$f":"IF('00 Aggregatore'!$D179=\"R\",SUMIF('00 Alimenta'!$A:$A,$B179,'00 Alimenta'!D:D),SUMIF('00 Alimenta'!$A:$A,$B179,'00 Alimenta'!D:D)*-1)","v":6303229.0099999998},{"$f":"IF('00 Aggregatore'!$D179=\"R\",SUMIF('00 Alimenta'!$A:$A,$B179,'00 Alimenta'!E:E),SUMIF('00 Alimenta'!$A:$A,$B179,'00 Alimenta'!E:E)*-1)","v":6846095.7100000009}]
["BC","BA0810","B.2.A.7.1) - da pubblico (Aziende sanitarie pubbliche della Regione)","C",{"$f":"IF('00 Aggregatore'!$D180=\"R\",SUMIF('00 Alimenta'!$A:$A,$B180,'00 Alimenta'!D:D),SUMIF('00 Alimenta'!$A:$A,$B180,'00 Alimenta'!D:D)*-1)","v":26481532.390000001},{"$f":"IF('00 Aggregatore'!$D180=\"R\",SUMIF('00 Alimenta'!$A:$A,$B180,'00 Alimenta'!E:E),SUMIF('00 Alimenta'!$A:$A,$B180,'00 Alimenta'!E:E)*-1)","v":28052232.689999998}]
["BC","BA0820","B.2.A.7.2) - da pubblico (altri soggetti pubbl. della Regione)","C",{"$f":"IF('00 Aggregatore'!$D181=\"R\",SUMIF('00 Alimenta'!$A:$A,$B181,'00 Alimenta'!D:D),SUMIF('00 Alimenta'!$A:$A,$B181,'00 Alimenta'!D:D)*-1)","v":0},{"$f":"IF('00 Aggregatore'!$D181=\"R\",SUMIF('00 Alimenta'!$A:$A,$B181,'00 Alimenta'!E:E),SUMIF('00 Alimenta'!$A:$A,$B181,'00 Alimenta'!E:E)*-1)","v":0}]
["BC","BA0830","B.2.A.7.3) - da pubblico (Extraregione)","C",{"$f":"IF('00 Aggregatore'!$D182=\"R\",SUMIF('00 Alimenta'!$A:$A,$B182,'00 Alimenta'!D:D),SUMIF('00 Alimenta'!$A:$A,$B182,'00 Alimenta'!D:D)*-1)","v":24057993.460000001},{"$f":"IF('00 Aggregatore'!$D182=\"R\",SUMIF('00 Alimenta'!$A:$A,$B182,'00 Alimenta'!E:E),SUMIF('00 Alimenta'!$A:$A,$B182,'00 Alimenta'!E:E)*-1)","v":30364599.559999999}]
["BC","BA0850","B.2.A.7.4.A) Servizi sanitari per assistenza ospedaliera da IRCCS privati e Policlinici privati","C",{"$f":"IF('00 Aggregatore'!$D183=\"R\",SUMIF('00 Alimenta'!$A:$A,$B183,'00 Alimenta'!D:D),SUMIF('00 Alimenta'!$A:$A,$B183,'00 Alimenta'!D:D)*-1)","v":0},{"$f":"IF('00 Aggregatore'!$D183=\"R\",SUMIF('00 Alimenta'!$A:$A,$B183,'00 Alimenta'!E:E),SUMIF('00 Alimenta'!$A:$A,$B183,'00 Alimenta'!E:E)*-1)","v":0}]
["BC","BA0860","B.2.A.7.4.B) Servizi sanitari per assistenza ospedaliera da Ospedali Classificati privati","C",{"$f":"IF('00 Aggregatore'!$D184=\"R\",SUMIF('00 Alimenta'!$A:$A,$B184,'00 Alimenta'!D:D),SUMIF('00 Alimenta'!$A:$A,$B184,'00 Alimenta'!D:D)*-1)","v":0},{"$f":"IF('00 Aggregatore'!$D184=\"R\",SUMIF('00 Alimenta'!$A:$A,$B184,'00 Alimenta'!E:E),SUMIF('00 Alimenta'!$A:$A,$B184,'00 Alimenta'!E:E)*-1)","v":0}]
["BC","BA0870","B.2.A.7.4.C) Servizi sanitari per assistenza ospedaliera da Case di Cura private","C",{"$f":"IF('00 Aggregatore'!$D185=\"R\",SUMIF('00 Alimenta'!$A:$A,$B185,'00 Alimenta'!D:D),SUMIF('00 Alimenta'!$A:$A,$B185,'00 Alimenta'!D:D)*-1)","v":62664028.379999995},{"$f":"IF('00 Aggregatore'!$D185=\"R\",SUMIF('00 Alimenta'!$A:$A,$B185,'00 Alimenta'!E:E),SUMIF('00 Alimenta'!$A:$A,$B185,'00 Alimenta'!E:E)*-1)","v":64592865.920000002}]
["BC","BA0880","B.2.A.7.4.D) Servizi sanitari per assistenza ospedaliera da altri privati","C",{"$f":"IF('00 Aggregatore'!$D186=\"R\",SUMIF('00 Alimenta'!$A:$A,$B186,'00 Alimenta'!D:D),SUMIF('00 Alimenta'!$A:$A,$B186,'00 Alimenta'!D:D)*-1)","v":0},{"$f":"IF('00 Aggregatore'!$D186=\"R\",SUMIF('00 Alimenta'!$A:$A,$B186,'00 Alimenta'!E:E),SUMIF('00 Alimenta'!$A:$A,$B186,'00 Alimenta'!E:E)*-1)","v":0}]
["BC","BA0890","B.2.A.7.5) - da privato per cittadini non residenti - Extraregione (mobilità attiva in compensazione)","C",{"$f":"IF('00 Aggregatore'!$D187=\"R\",SUMIF('00 Alimenta'!$A:$A,$B187,'00 Alimenta'!D:D),SUMIF('00 Alimenta'!$A:$A,$B187,'00 Alimenta'!D:D)*-1)","v":10285883.140000001},{"$f":"IF('00 Aggregatore'!$D187=\"R\",SUMIF('00 Alimenta'!$A:$A,$B187,'00 Alimenta'!E:E),SUMIF('00 Alimenta'!$A:$A,$B187,'00 Alimenta'!E:E)*-1)","v":8426930.5099999998}]
["BC","BA0910","B.2.A.8.1) - da pubblico (Aziende sanitarie pubbliche della Regione)","C",{"$f":"IF('00 Aggregatore'!$D188=\"R\",SUMIF('00 Alimenta'!$A:$A,$B188,'00 Alimenta'!D:D),SUMIF('00 Alimenta'!$A:$A,$B188,'00 Alimenta'!D:D)*-1)","v":1551575.5},{"$f":"IF('00 Aggregatore'!$D188=\"R\",SUMIF('00 Alimenta'!$A:$A,$B188,'00 Alimenta'!E:E),SUMIF('00 Alimenta'!$A:$A,$B188,'00 Alimenta'!E:E)*-1)","v":1735685.3}]
["BC","BA0920","B.2.A.8.2) - da pubblico (altri soggetti pubbl. della Regione)","C",{"$f":"IF('00 Aggregatore'!$D189=\"R\",SUMIF('00 Alimenta'!$A:$A,$B189,'00 Alimenta'!D:D),SUMIF('00 Alimenta'!$A:$A,$B189,'00 Alimenta'!D:D)*-1)","v":0},{"$f":"IF('00 Aggregatore'!$D189=\"R\",SUMIF('00 Alimenta'!$A:$A,$B189,'00 Alimenta'!E:E),SUMIF('00 Alimenta'!$A:$A,$B189,'00 Alimenta'!E:E)*-1)","v":0}]
["BC","BA0930","B.2.A.8.3) - da pubblico (Extraregione) - non soggette a compensazione","C",{"$f":"IF('00 Aggregatore'!$D190=\"R\",SUMIF('00 Alimenta'!$A:$A,$B190,'00 Alimenta'!D:D),SUMIF('00 Alimenta'!$A:$A,$B190,'00 Alimenta'!D:D)*-1)","v":81781.600000000006},{"$f":"IF('00 Aggregatore'!$D190=\"R\",SUMIF('00 Alimenta'!$A:$A,$B190,'00 Alimenta'!E:E),SUMIF('00 Alimenta'!$A:$A,$B190,'00 Alimenta'!E:E)*-1)","v":60576}]
["BC","BA0940","B.2.A.8.4) - da privato (intraregionale)","C",{"$f":"IF('00 Aggregatore'!$D191=\"R\",SUMIF('00 Alimenta'!$A:$A,$B191,'00 Alimenta'!D:D),SUMIF('00 Alimenta'!$A:$A,$B191,'00 Alimenta'!D:D)*-1)","v":9798519.8400000017},{"$f":"IF('00 Aggregatore'!$D191=\"R\",SUMIF('00 Alimenta'!$A:$A,$B191,'00 Alimenta'!E:E),SUMIF('00 Alimenta'!$A:$A,$B191,'00 Alimenta'!E:E)*-1)","v":9380591.6799999997}]
["BC","BA0950","B.2.A.8.5) - da privato (extraregionale)","C",{"$f":"IF('00 Aggregatore'!$D192=\"R\",SUMIF('00 Alimenta'!$A:$A,$B192,'00 Alimenta'!D:D),SUMIF('00 Alimenta'!$A:$A,$B192,'00 Alimenta'!D:D)*-1)","v":1589885.46},{"$f":"IF('00 Aggregatore'!$D192=\"R\",SUMIF('00 Alimenta'!$A:$A,$B192,'00 Alimenta'!E:E),SUMIF('00 Alimenta'!$A:$A,$B192,'00 Alimenta'!E:E)*-1)","v":1665426.12}]
["BC","BA0970","B.2.A.9.1) - da pubblico (Aziende sanitarie pubbliche della Regione) - Mobilità intraregionale","C",{"$f":"IF('00 Aggregatore'!$D193=\"R\",SUMIF('00 Alimenta'!$A:$A,$B193,'00 Alimenta'!D:D),SUMIF('00 Alimenta'!$A:$A,$B193,'00 Alimenta'!D:D)*-1)","v":4464112.37},{"$f":"IF('00 Aggregatore'!$D193=\"R\",SUMIF('00 Alimenta'!$A:$A,$B193,'00 Alimenta'!E:E),SUMIF('00 Alimenta'!$A:$A,$B193,'00 Alimenta'!E:E)*-1)","v":4858115.13}]
["BC","BA0980","B.2.A.9.2) - da pubblico (altri soggetti pubbl. della Regione)","C",{"$f":"IF('00 Aggregatore'!$D194=\"R\",SUMIF('00 Alimenta'!$A:$A,$B194,'00 Alimenta'!D:D),SUMIF('00 Alimenta'!$A:$A,$B194,'00 Alimenta'!D:D)*-1)","v":0},{"$f":"IF('00 Aggregatore'!$D194=\"R\",SUMIF('00 Alimenta'!$A:$A,$B194,'00 Alimenta'!E:E),SUMIF('00 Alimenta'!$A:$A,$B194,'00 Alimenta'!E:E)*-1)","v":0}]
["BC","BA0990","B.2.A.9.3) - da pubblico (Extraregione)","C",{"$f":"IF('00 Aggregatore'!$D195=\"R\",SUMIF('00 Alimenta'!$A:$A,$B195,'00 Alimenta'!D:D),SUMIF('00 Alimenta'!$A:$A,$B195,'00 Alimenta'!D:D)*-1)","v":2195879.04},{"$f":"IF('00 Aggregatore'!$D195=\"R\",SUMIF('00 Alimenta'!$A:$A,$B195,'00 Alimenta'!E:E),SUMIF('00 Alimenta'!$A:$A,$B195,'00 Alimenta'!E:E)*-1)","v":1901052.91}]
["BC","BA1000","B.2.A.9.4) - da privato (intraregionale)","C",{"$f":"IF('00 Aggregatore'!$D196=\"R\",SUMIF('00 Alimenta'!$A:$A,$B196,'00 Alimenta'!D:D),SUMIF('00 Alimenta'!$A:$A,$B196,'00 Alimenta'!D:D)*-1)","v":432985.28},{"$f":"IF('00 Aggregatore'!$D196=\"R\",SUMIF('00 Alimenta'!$A:$A,$B196,'00 Alimenta'!E:E),SUMIF('00 Alimenta'!$A:$A,$B196,'00 Alimenta'!E:E)*-1)","v":1712231.06}]
["BC","BA1010","B.2.A.9.5) - da privato (extraregionale)","C",{"$f":"IF('00 Aggregatore'!$D197=\"R\",SUMIF('00 Alimenta'!$A:$A,$B197,'00 Alimenta'!D:D),SUMIF('00 Alimenta'!$A:$A,$B197,'00 Alimenta'!D:D)*-1)","v":0},{"$f":"IF('00 Aggregatore'!$D197=\"R\",SUMIF('00 Alimenta'!$A:$A,$B197,'00 Alimenta'!E:E),SUMIF('00 Alimenta'!$A:$A,$B197,'00 Alimenta'!E:E)*-1)","v":0}]
[{"$f":"LEFT(B198,1)&D198","v":"BC"},"BA1020","B.2.A.9.6) - da privato per cittadini non residenti - Extraregione (mobilità attiva in compensazione)","C",{"$f":"IF('00 Aggregatore'!$D198=\"R\",SUMIF('00 Alimenta'!$A:$A,$B198,'00 Alimenta'!D:D),SUMIF('00 Alimenta'!$A:$A,$B198,'00 Alimenta'!D:D)*-1)","v":0},{"$f":"IF('00 Aggregatore'!$D198=\"R\",SUMIF('00 Alimenta'!$A:$A,$B198,'00 Alimenta'!E:E),SUMIF('00 Alimenta'!$A:$A,$B198,'00 Alimenta'!E:E)*-1)","v":0}]
["BC","BA1040","B.2.A.10.1) - da pubblico (Aziende sanitarie pubbliche della Regione) - Mobilità intraregionale","C",{"$f":"IF('00 Aggregatore'!$D199=\"R\",SUMIF('00 Alimenta'!$A:$A,$B199,'00 Alimenta'!D:D),SUMIF('00 Alimenta'!$A:$A,$B199,'00 Alimenta'!D:D)*-1)","v":0},{"$f":"IF('00 Aggregatore'!$D199=\"R\",SUMIF('00 Alimenta'!$A:$A,$B199,'00 Alimenta'!E:E),SUMIF('00 Alimenta'!$A:$A,$B199,'00 Alimenta'!E:E)*-1)","v":46.2}]
["BC","BA1050","B.2.A.10.2) - da pubblico (altri soggetti pubbl. della Regione)","C",{"$f":"IF('00 Aggregatore'!$D200=\"R\",SUMIF('00 Alimenta'!$A:$A,$B200,'00 Alimenta'!D:D),SUMIF('00 Alimenta'!$A:$A,$B200,'00 Alimenta'!D:D)*-1)","v":0},{"$f":"IF('00 Aggregatore'!$D200=\"R\",SUMIF('00 Alimenta'!$A:$A,$B200,'00 Alimenta'!E:E),SUMIF('00 Alimenta'!$A:$A,$B200,'00 Alimenta'!E:E)*-1)","v":0}]
["BC","BA1060","B.2.A.10.3) - da pubblico (Extraregione)","C",{"$f":"IF('00 Aggregatore'!$D201=\"R\",SUMIF('00 Alimenta'!$A:$A,$B201,'00 Alimenta'!D:D),SUMIF('00 Alimenta'!$A:$A,$B201,'00 Alimenta'!D:D)*-1)","v":95302.31},{"$f":"IF('00 Aggregatore'!$D201=\"R\",SUMIF('00 Alimenta'!$A:$A,$B201,'00 Alimenta'!E:E),SUMIF('00 Alimenta'!$A:$A,$B201,'00 Alimenta'!E:E)*-1)","v":106826.2}]
["BC","BA1070","B.2.A.10.4) - da privato","C",{"$f":"IF('00 Aggregatore'!$D202=\"R\",SUMIF('00 Alimenta'!$A:$A,$B202,'00 Alimenta'!D:D),SUMIF('00 Alimenta'!$A:$A,$B202,'00 Alimenta'!D:D)*-1)","v":1821580.51},{"$f":"IF('00 Aggregatore'!$D202=\"R\",SUMIF('00 Alimenta'!$A:$A,$B202,'00 Alimenta'!E:E),SUMIF('00 Alimenta'!$A:$A,$B202,'00 Alimenta'!E:E)*-1)","v":1401125.0799999998}]
["BC","BA1080","B.2.A.10.5) - da privato per cittadini non residenti - Extraregione (mobilità attiva in compensazione)","C",{"$f":"IF('00 Aggregatore'!$D203=\"R\",SUMIF('00 Alimenta'!$A:$A,$B203,'00 Alimenta'!D:D),SUMIF('00 Alimenta'!$A:$A,$B203,'00 Alimenta'!D:D)*-1)","v":232622.88999999998},{"$f":"IF('00 Aggregatore'!$D203=\"R\",SUMIF('00 Alimenta'!$A:$A,$B203,'00 Alimenta'!E:E),SUMIF('00 Alimenta'!$A:$A,$B203,'00 Alimenta'!E:E)*-1)","v":156346.4}]
["BC","BA1100","B.2.A.11.1) - da pubblico (Aziende sanitarie pubbliche della Regione) - Mobilità intraregionale","C",{"$f":"IF('00 Aggregatore'!$D204=\"R\",SUMIF('00 Alimenta'!$A:$A,$B204,'00 Alimenta'!D:D),SUMIF('00 Alimenta'!$A:$A,$B204,'00 Alimenta'!D:D)*-1)","v":103216},{"$f":"IF('00 Aggregatore'!$D204=\"R\",SUMIF('00 Alimenta'!$A:$A,$B204,'00 Alimenta'!E:E),SUMIF('00 Alimenta'!$A:$A,$B204,'00 Alimenta'!E:E)*-1)","v":98634.25}]
["BC","BA1110","B.2.A.11.2) - da pubblico (altri soggetti pubbl. della Regione)","C",{"$f":"IF('00 Aggregatore'!$D205=\"R\",SUMIF('00 Alimenta'!$A:$A,$B205,'00 Alimenta'!D:D),SUMIF('00 Alimenta'!$A:$A,$B205,'00 Alimenta'!D:D)*-1)","v":0},{"$f":"IF('00 Aggregatore'!$D205=\"R\",SUMIF('00 Alimenta'!$A:$A,$B205,'00 Alimenta'!E:E),SUMIF('00 Alimenta'!$A:$A,$B205,'00 Alimenta'!E:E)*-1)","v":0}]
["BC","BA1120","B.2.A.11.3) - da pubblico (Extraregione)","C",{"$f":"IF('00 Aggregatore'!$D206=\"R\",SUMIF('00 Alimenta'!$A:$A,$B206,'00 Alimenta'!D:D),SUMIF('00 Alimenta'!$A:$A,$B206,'00 Alimenta'!D:D)*-1)","v":344124.9},{"$f":"IF('00 Aggregatore'!$D206=\"R\",SUMIF('00 Alimenta'!$A:$A,$B206,'00 Alimenta'!E:E),SUMIF('00 Alimenta'!$A:$A,$B206,'00 Alimenta'!E:E)*-1)","v":148466.56}]
["BC","BA1130","B.2.A.11.4) - da privato","C",{"$f":"IF('00 Aggregatore'!$D207=\"R\",SUMIF('00 Alimenta'!$A:$A,$B207,'00 Alimenta'!D:D),SUMIF('00 Alimenta'!$A:$A,$B207,'00 Alimenta'!D:D)*-1)","v":8336001.5599999996},{"$f":"IF('00 Aggregatore'!$D207=\"R\",SUMIF('00 Alimenta'!$A:$A,$B207,'00 Alimenta'!E:E),SUMIF('00 Alimenta'!$A:$A,$B207,'00 Alimenta'!E:E)*-1)","v":7601323.6399999997}]
["BC","BA1151","B.2.A.12.1.A) Assistenza domiciliare integrata (ADI)","C",{"$f":"IF('00 Aggregatore'!$D208=\"R\",SUMIF('00 Alimenta'!$A:$A,$B208,'00 Alimenta'!D:D),SUMIF('00 Alimenta'!$A:$A,$B208,'00 Alimenta'!D:D)*-1)","v":0},{"$f":"IF('00 Aggregatore'!$D208=\"R\",SUMIF('00 Alimenta'!$A:$A,$B208,'00 Alimenta'!E:E),SUMIF('00 Alimenta'!$A:$A,$B208,'00 Alimenta'!E:E)*-1)","v":0}]
["BC","BA1152","B.2.A.12.1.B) Altre prestazioni socio-sanitarie a rilevanza sanitaria","C",{"$f":"IF('00 Aggregatore'!$D209=\"R\",SUMIF('00 Alimenta'!$A:$A,$B209,'00 Alimenta'!D:D),SUMIF('00 Alimenta'!$A:$A,$B209,'00 Alimenta'!D:D)*-1)","v":1758520.3800000001},{"$f":"IF('00 Aggregatore'!$D209=\"R\",SUMIF('00 Alimenta'!$A:$A,$B209,'00 Alimenta'!E:E),SUMIF('00 Alimenta'!$A:$A,$B209,'00 Alimenta'!E:E)*-1)","v":1807405.46}]
["BC","BA1160","B.2.A.12.2) - da pubblico (altri soggetti pubblici della Regione)","C",{"$f":"IF('00 Aggregatore'!$D210=\"R\",SUMIF('00 Alimenta'!$A:$A,$B210,'00 Alimenta'!D:D),SUMIF('00 Alimenta'!$A:$A,$B210,'00 Alimenta'!D:D)*-1)","v":0},{"$f":"IF('00 Aggregatore'!$D210=\"R\",SUMIF('00 Alimenta'!$A:$A,$B210,'00 Alimenta'!E:E),SUMIF('00 Alimenta'!$A:$A,$B210,'00 Alimenta'!E:E)*-1)","v":0}]
["BC","BA1161","B.2.A.12.3) - da pubblico  (Extraregione) - Acquisto di Altre prestazioni sociosanitarie a rilevanza sanitaria erogate a soggetti pubblici Extraregione","C",{"$f":"IF('00 Aggregatore'!$D211=\"R\",SUMIF('00 Alimenta'!$A:$A,$B211,'00 Alimenta'!D:D),SUMIF('00 Alimenta'!$A:$A,$B211,'00 Alimenta'!D:D)*-1)","v":0},{"$f":"IF('00 Aggregatore'!$D211=\"R\",SUMIF('00 Alimenta'!$A:$A,$B211,'00 Alimenta'!E:E),SUMIF('00 Alimenta'!$A:$A,$B211,'00 Alimenta'!E:E)*-1)","v":0}]
["BC","BA1170","B.2.A.12.4) - da pubblico (Extraregione) non soggette a compensazione","C",{"$f":"IF('00 Aggregatore'!$D212=\"R\",SUMIF('00 Alimenta'!$A:$A,$B212,'00 Alimenta'!D:D),SUMIF('00 Alimenta'!$A:$A,$B212,'00 Alimenta'!D:D)*-1)","v":160969.38},{"$f":"IF('00 Aggregatore'!$D212=\"R\",SUMIF('00 Alimenta'!$A:$A,$B212,'00 Alimenta'!E:E),SUMIF('00 Alimenta'!$A:$A,$B212,'00 Alimenta'!E:E)*-1)","v":163730.37}]
["BC","BA1180","B.2.A.12.5) - da privato (intraregionale)","C",{"$f":"IF('00 Aggregatore'!$D213=\"R\",SUMIF('00 Alimenta'!$A:$A,$B213,'00 Alimenta'!D:D),SUMIF('00 Alimenta'!$A:$A,$B213,'00 Alimenta'!D:D)*-1)","v":12500635.899999999},{"$f":"IF('00 Aggregatore'!$D213=\"R\",SUMIF('00 Alimenta'!$A:$A,$B213,'00 Alimenta'!E:E),SUMIF('00 Alimenta'!$A:$A,$B213,'00 Alimenta'!E:E)*-1)","v":13625990.66}]
["BC","BA1190","B.2.A.12.6) - da privato (extraregionale)","C",{"$f":"IF('00 Aggregatore'!$D214=\"R\",SUMIF('00 Alimenta'!$A:$A,$B214,'00 Alimenta'!D:D),SUMIF('00 Alimenta'!$A:$A,$B214,'00 Alimenta'!D:D)*-1)","v":1887412.9100000001},{"$f":"IF('00 Aggregatore'!$D214=\"R\",SUMIF('00 Alimenta'!$A:$A,$B214,'00 Alimenta'!E:E),SUMIF('00 Alimenta'!$A:$A,$B214,'00 Alimenta'!E:E)*-1)","v":2066964.8699999999}]
["BC","BA1210","B.2.A.13.1)  Compartecipazione al personale per att. libero professionale intramoenia - Area ospedaliera","C",{"$f":"IF('00 Aggregatore'!$D215=\"R\",SUMIF('00 Alimenta'!$A:$A,$B215,'00 Alimenta'!D:D),SUMIF('00 Alimenta'!$A:$A,$B215,'00 Alimenta'!D:D)*-1)","v":54218.100000000006},{"$f":"IF('00 Aggregatore'!$D215=\"R\",SUMIF('00 Alimenta'!$A:$A,$B215,'00 Alimenta'!E:E),SUMIF('00 Alimenta'!$A:$A,$B215,'00 Alimenta'!E:E)*-1)","v":60058.96}]
["BC","BA1220","B.2.A.13.2)  Compartecipazione al personale per att. libero professionale intramoenia- Area specialistica","C",{"$f":"IF('00 Aggregatore'!$D216=\"R\",SUMIF('00 Alimenta'!$A:$A,$B216,'00 Alimenta'!D:D),SUMIF('00 Alimenta'!$A:$A,$B216,'00 Alimenta'!D:D)*-1)","v":2563747.4700000002},{"$f":"IF('00 Aggregatore'!$D216=\"R\",SUMIF('00 Alimenta'!$A:$A,$B216,'00 Alimenta'!E:E),SUMIF('00 Alimenta'!$A:$A,$B216,'00 Alimenta'!E:E)*-1)","v":2527432.63}]
["BC","BA1230","B.2.A.13.3)  Compartecipazione al personale per att. libero professionale intramoenia - Area sanità pubblica","C",{"$f":"IF('00 Aggregatore'!$D217=\"R\",SUMIF('00 Alimenta'!$A:$A,$B217,'00 Alimenta'!D:D),SUMIF('00 Alimenta'!$A:$A,$B217,'00 Alimenta'!D:D)*-1)","v":15233.61},{"$f":"IF('00 Aggregatore'!$D217=\"R\",SUMIF('00 Alimenta'!$A:$A,$B217,'00 Alimenta'!E:E),SUMIF('00 Alimenta'!$A:$A,$B217,'00 Alimenta'!E:E)*-1)","v":14345.3}]
["BC","BA1240","B.2.A.13.4)  Compartecipazione al personale per att. libero professionale intramoenia - Consulenze (ex art. 55 c.1 lett. c), d) ed ex Art. 57-58)","C",{"$f":"IF('00 Aggregatore'!$D218=\"R\",SUMIF('00 Alimenta'!$A:$A,$B218,'00 Alimenta'!D:D),SUMIF('00 Alimenta'!$A:$A,$B218,'00 Alimenta'!D:D)*-1)","v":579327.30000000005},{"$f":"IF('00 Aggregatore'!$D218=\"R\",SUMIF('00 Alimenta'!$A:$A,$B218,'00 Alimenta'!E:E),SUMIF('00 Alimenta'!$A:$A,$B218,'00 Alimenta'!E:E)*-1)","v":335908.3}]
["BC","BA1250","B.2.A.13.5)  Compartecipazione al personale per att. libero professionale intramoenia - Consulenze (ex art. 55 c.1 lett. c), d) ed ex Art. 57-58) (Aziende sanitarie pubbliche della Regione)","C",{"$f":"IF('00 Aggregatore'!$D219=\"R\",SUMIF('00 Alimenta'!$A:$A,$B219,'00 Alimenta'!D:D),SUMIF('00 Alimenta'!$A:$A,$B219,'00 Alimenta'!D:D)*-1)","v":0},{"$f":"IF('00 Aggregatore'!$D219=\"R\",SUMIF('00 Alimenta'!$A:$A,$B219,'00 Alimenta'!E:E),SUMIF('00 Alimenta'!$A:$A,$B219,'00 Alimenta'!E:E)*-1)","v":0}]
["BC","BA1260","B.2.A.13.6)  Compartecipazione al personale per att. libero professionale intramoenia - Altro","C",{"$f":"IF('00 Aggregatore'!$D220=\"R\",SUMIF('00 Alimenta'!$A:$A,$B220,'00 Alimenta'!D:D),SUMIF('00 Alimenta'!$A:$A,$B220,'00 Alimenta'!D:D)*-1)","v":108504.84},{"$f":"IF('00 Aggregatore'!$D220=\"R\",SUMIF('00 Alimenta'!$A:$A,$B220,'00 Alimenta'!E:E),SUMIF('00 Alimenta'!$A:$A,$B220,'00 Alimenta'!E:E)*-1)","v":53017.42}]
["BC","BA1270","B.2.A.13.7)  Compartecipazione al personale per att. libero  professionale intramoenia - Altro (Aziende sanitarie pubbliche della Regione)","C",{"$f":"IF('00 Aggregatore'!$D221=\"R\",SUMIF('00 Alimenta'!$A:$A,$B221,'00 Alimenta'!D:D),SUMIF('00 Alimenta'!$A:$A,$B221,'00 Alimenta'!D:D)*-1)","v":0},{"$f":"IF('00 Aggregatore'!$D221=\"R\",SUMIF('00 Alimenta'!$A:$A,$B221,'00 Alimenta'!E:E),SUMIF('00 Alimenta'!$A:$A,$B221,'00 Alimenta'!E:E)*-1)","v":0}]
["BC","BA1290","B.2.A.14.1)  Contributi ad associazioni di volontariato","C",{"$f":"IF('00 Aggregatore'!$D222=\"R\",SUMIF('00 Alimenta'!$A:$A,$B222,'00 Alimenta'!D:D),SUMIF('00 Alimenta'!$A:$A,$B222,'00 Alimenta'!D:D)*-1)","v":349365.76000000001},{"$f":"IF('00 Aggregatore'!$D222=\"R\",SUMIF('00 Alimenta'!$A:$A,$B222,'00 Alimenta'!E:E),SUMIF('00 Alimenta'!$A:$A,$B222,'00 Alimenta'!E:E)*-1)","v":367251.39}]
["BC","BA1300","B.2.A.14.2)  Rimborsi per cure all'estero","C",{"$f":"IF('00 Aggregatore'!$D223=\"R\",SUMIF('00 Alimenta'!$A:$A,$B223,'00 Alimenta'!D:D),SUMIF('00 Alimenta'!$A:$A,$B223,'00 Alimenta'!D:D)*-1)","v":2069.39},{"$f":"IF('00 Aggregatore'!$D223=\"R\",SUMIF('00 Alimenta'!$A:$A,$B223,'00 Alimenta'!E:E),SUMIF('00 Alimenta'!$A:$A,$B223,'00 Alimenta'!E:E)*-1)","v":12227.29}]
["BC","BA1310","B.2.A.14.3)  Contributi a società partecipate e/o enti dipendenti della Regione","C",{"$f":"IF('00 Aggregatore'!$D224=\"R\",SUMIF('00 Alimenta'!$A:$A,$B224,'00 Alimenta'!D:D),SUMIF('00 Alimenta'!$A:$A,$B224,'00 Alimenta'!D:D)*-1)","v":0},{"$f":"IF('00 Aggregatore'!$D224=\"R\",SUMIF('00 Alimenta'!$A:$A,$B224,'00 Alimenta'!E:E),SUMIF('00 Alimenta'!$A:$A,$B224,'00 Alimenta'!E:E)*-1)","v":0}]
["BC","BA1320","B.2.A.14.4)  Contributo Legge 210/92","C",{"$f":"IF('00 Aggregatore'!$D225=\"R\",SUMIF('00 Alimenta'!$A:$A,$B225,'00 Alimenta'!D:D),SUMIF('00 Alimenta'!$A:$A,$B225,'00 Alimenta'!D:D)*-1)","v":0},{"$f":"IF('00 Aggregatore'!$D225=\"R\",SUMIF('00 Alimenta'!$A:$A,$B225,'00 Alimenta'!E:E),SUMIF('00 Alimenta'!$A:$A,$B225,'00 Alimenta'!E:E)*-1)","v":0}]
["BC","BA1330","B.2.A.14.5)  Altri rimborsi, assegni e contributi","C",{"$f":"IF('00 Aggregatore'!$D226=\"R\",SUMIF('00 Alimenta'!$A:$A,$B226,'00 Alimenta'!D:D),SUMIF('00 Alimenta'!$A:$A,$B226,'00 Alimenta'!D:D)*-1)","v":1792525.6300000001},{"$f":"IF('00 Aggregatore'!$D226=\"R\",SUMIF('00 Alimenta'!$A:$A,$B226,'00 Alimenta'!E:E),SUMIF('00 Alimenta'!$A:$A,$B226,'00 Alimenta'!E:E)*-1)","v":1961555.98}]
["BC","BA1340","B.2.A.14.6)  Rimborsi, assegni e contributi v/Aziende sanitarie pubbliche della Regione","C",{"$f":"IF('00 Aggregatore'!$D227=\"R\",SUMIF('00 Alimenta'!$A:$A,$B227,'00 Alimenta'!D:D),SUMIF('00 Alimenta'!$A:$A,$B227,'00 Alimenta'!D:D)*-1)","v":0},{"$f":"IF('00 Aggregatore'!$D227=\"R\",SUMIF('00 Alimenta'!$A:$A,$B227,'00 Alimenta'!E:E),SUMIF('00 Alimenta'!$A:$A,$B227,'00 Alimenta'!E:E)*-1)","v":0}]
["BC","BA1341","B.2.A.14.7)  Rimborsi, assegni e contributi v/Regione - GSA","C",{"$f":"IF('00 Aggregatore'!$D228=\"R\",SUMIF('00 Alimenta'!$A:$A,$B228,'00 Alimenta'!D:D),SUMIF('00 Alimenta'!$A:$A,$B228,'00 Alimenta'!D:D)*-1)","v":0},{"$f":"IF('00 Aggregatore'!$D228=\"R\",SUMIF('00 Alimenta'!$A:$A,$B228,'00 Alimenta'!E:E),SUMIF('00 Alimenta'!$A:$A,$B228,'00 Alimenta'!E:E)*-1)","v":0}]
["BC","BA1360","B.2.A.15.1) Consulenze sanitarie e sociosanitarieda Aziende sanitarie pubbliche della Regione","C",{"$f":"IF('00 Aggregatore'!$D229=\"R\",SUMIF('00 Alimenta'!$A:$A,$B229,'00 Alimenta'!D:D),SUMIF('00 Alimenta'!$A:$A,$B229,'00 Alimenta'!D:D)*-1)","v":416373.3},{"$f":"IF('00 Aggregatore'!$D229=\"R\",SUMIF('00 Alimenta'!$A:$A,$B229,'00 Alimenta'!E:E),SUMIF('00 Alimenta'!$A:$A,$B229,'00 Alimenta'!E:E)*-1)","v":386424.77}]
["BC","BA1370","B.2.A.15.2) Consulenze sanitarie e sociosanitarieda terzi - Altri soggetti pubblici","C",{"$f":"IF('00 Aggregatore'!$D230=\"R\",SUMIF('00 Alimenta'!$A:$A,$B230,'00 Alimenta'!D:D),SUMIF('00 Alimenta'!$A:$A,$B230,'00 Alimenta'!D:D)*-1)","v":0},{"$f":"IF('00 Aggregatore'!$D230=\"R\",SUMIF('00 Alimenta'!$A:$A,$B230,'00 Alimenta'!E:E),SUMIF('00 Alimenta'!$A:$A,$B230,'00 Alimenta'!E:E)*-1)","v":643.39}]
["BC","BA1390","B.2.A.15.3.A) Consulenze sanitarie da privato - articolo 55, comma 2, CCNL 8 giugno 2000","C",{"$f":"IF('00 Aggregatore'!$D231=\"R\",SUMIF('00 Alimenta'!$A:$A,$B231,'00 Alimenta'!D:D),SUMIF('00 Alimenta'!$A:$A,$B231,'00 Alimenta'!D:D)*-1)","v":2164804.17},{"$f":"IF('00 Aggregatore'!$D231=\"R\",SUMIF('00 Alimenta'!$A:$A,$B231,'00 Alimenta'!E:E),SUMIF('00 Alimenta'!$A:$A,$B231,'00 Alimenta'!E:E)*-1)","v":2367368.34}]
["BC","BA1400","B.2.A.15.3.B) Altre consulenze sanitarie e sociosanitarie da privato","C",{"$f":"IF('00 Aggregatore'!$D232=\"R\",SUMIF('00 Alimenta'!$A:$A,$B232,'00 Alimenta'!D:D),SUMIF('00 Alimenta'!$A:$A,$B232,'00 Alimenta'!D:D)*-1)","v":4381.71},{"$f":"IF('00 Aggregatore'!$D232=\"R\",SUMIF('00 Alimenta'!$A:$A,$B232,'00 Alimenta'!E:E),SUMIF('00 Alimenta'!$A:$A,$B232,'00 Alimenta'!E:E)*-1)","v":11041.25}]
["BC","BA1410","B.2.A.15.3.C) Collaborazioni coordinate e continuative sanitarie e sociosanitarie da privato","C",{"$f":"IF('00 Aggregatore'!$D233=\"R\",SUMIF('00 Alimenta'!$A:$A,$B233,'00 Alimenta'!D:D),SUMIF('00 Alimenta'!$A:$A,$B233,'00 Alimenta'!D:D)*-1)","v":0},{"$f":"IF('00 Aggregatore'!$D233=\"R\",SUMIF('00 Alimenta'!$A:$A,$B233,'00 Alimenta'!E:E),SUMIF('00 Alimenta'!$A:$A,$B233,'00 Alimenta'!E:E)*-1)","v":0}]
["BC","BA1420","B.2.A.15.3.D) Indennità a personale universitario - area sanitaria ","C",{"$f":"IF('00 Aggregatore'!$D234=\"R\",SUMIF('00 Alimenta'!$A:$A,$B234,'00 Alimenta'!D:D),SUMIF('00 Alimenta'!$A:$A,$B234,'00 Alimenta'!D:D)*-1)","v":256736.03},{"$f":"IF('00 Aggregatore'!$D234=\"R\",SUMIF('00 Alimenta'!$A:$A,$B234,'00 Alimenta'!E:E),SUMIF('00 Alimenta'!$A:$A,$B234,'00 Alimenta'!E:E)*-1)","v":253677.26}]
["BC","BA1430","B.2.A.15.3.E) Lavoro interinale - area sanitaria ","C",{"$f":"IF('00 Aggregatore'!$D235=\"R\",SUMIF('00 Alimenta'!$A:$A,$B235,'00 Alimenta'!D:D),SUMIF('00 Alimenta'!$A:$A,$B235,'00 Alimenta'!D:D)*-1)","v":2862789.15},{"$f":"IF('00 Aggregatore'!$D235=\"R\",SUMIF('00 Alimenta'!$A:$A,$B235,'00 Alimenta'!E:E),SUMIF('00 Alimenta'!$A:$A,$B235,'00 Alimenta'!E:E)*-1)","v":2555444.7999999998}]
["BC","BA1440","B.2.A.15.3.F) Altre collaborazioni e prestazioni di lavoro - area sanitaria ","C",{"$f":"IF('00 Aggregatore'!$D236=\"R\",SUMIF('00 Alimenta'!$A:$A,$B236,'00 Alimenta'!D:D),SUMIF('00 Alimenta'!$A:$A,$B236,'00 Alimenta'!D:D)*-1)","v":815766.76},{"$f":"IF('00 Aggregatore'!$D236=\"R\",SUMIF('00 Alimenta'!$A:$A,$B236,'00 Alimenta'!E:E),SUMIF('00 Alimenta'!$A:$A,$B236,'00 Alimenta'!E:E)*-1)","v":357891.13}]
["BC","BA1460","B.2.A.15.4.A) Rimborso oneri stipendiali personale sanitario in comando da Aziende sanitarie pubbliche della Regione","C",{"$f":"IF('00 Aggregatore'!$D237=\"R\",SUMIF('00 Alimenta'!$A:$A,$B237,'00 Alimenta'!D:D),SUMIF('00 Alimenta'!$A:$A,$B237,'00 Alimenta'!D:D)*-1)","v":0},{"$f":"IF('00 Aggregatore'!$D237=\"R\",SUMIF('00 Alimenta'!$A:$A,$B237,'00 Alimenta'!E:E),SUMIF('00 Alimenta'!$A:$A,$B237,'00 Alimenta'!E:E)*-1)","v":0}]
["BC","BA1470","B.2.A.15.4.B) Rimborso oneri stipendiali personale sanitario in comando da Regioni, soggetti pubblici e da Università","C",{"$f":"IF('00 Aggregatore'!$D238=\"R\",SUMIF('00 Alimenta'!$A:$A,$B238,'00 Alimenta'!D:D),SUMIF('00 Alimenta'!$A:$A,$B238,'00 Alimenta'!D:D)*-1)","v":0},{"$f":"IF('00 Aggregatore'!$D238=\"R\",SUMIF('00 Alimenta'!$A:$A,$B238,'00 Alimenta'!E:E),SUMIF('00 Alimenta'!$A:$A,$B238,'00 Alimenta'!E:E)*-1)","v":0}]
["BC","BA1480","B.2.A.15.4.C) Rimborso oneri stipendiali personale sanitario in comando da aziende di altre Regioni (Extraregione)","C",{"$f":"IF('00 Aggregatore'!$D239=\"R\",SUMIF('00 Alimenta'!$A:$A,$B239,'00 Alimenta'!D:D),SUMIF('00 Alimenta'!$A:$A,$B239,'00 Alimenta'!D:D)*-1)","v":53987.92},{"$f":"IF('00 Aggregatore'!$D239=\"R\",SUMIF('00 Alimenta'!$A:$A,$B239,'00 Alimenta'!E:E),SUMIF('00 Alimenta'!$A:$A,$B239,'00 Alimenta'!E:E)*-1)","v":8025.6}]
["BC","BA1500","B.2.A.16.1)  Altri servizi sanitari e sociosanitari a rilevanza sanitaria da pubblico - Aziende sanitarie pubbliche della Regione","C",{"$f":"IF('00 Aggregatore'!$D240=\"R\",SUMIF('00 Alimenta'!$A:$A,$B240,'00 Alimenta'!D:D),SUMIF('00 Alimenta'!$A:$A,$B240,'00 Alimenta'!D:D)*-1)","v":0},{"$f":"IF('00 Aggregatore'!$D240=\"R\",SUMIF('00 Alimenta'!$A:$A,$B240,'00 Alimenta'!E:E),SUMIF('00 Alimenta'!$A:$A,$B240,'00 Alimenta'!E:E)*-1)","v":0}]
["BC","BA1510","B.2.A.16.2)  Altri servizi sanitari e sociosanitari  a rilevanza sanitaria da pubblico - Altri soggetti pubblici della Regione","C",{"$f":"IF('00 Aggregatore'!$D241=\"R\",SUMIF('00 Alimenta'!$A:$A,$B241,'00 Alimenta'!D:D),SUMIF('00 Alimenta'!$A:$A,$B241,'00 Alimenta'!D:D)*-1)","v":0},{"$f":"IF('00 Aggregatore'!$D241=\"R\",SUMIF('00 Alimenta'!$A:$A,$B241,'00 Alimenta'!E:E),SUMIF('00 Alimenta'!$A:$A,$B241,'00 Alimenta'!E:E)*-1)","v":0}]
["BC","BA1520","B.2.A.16.3) Altri servizi sanitari e sociosanitari a rilevanza sanitaria da pubblico (Extraregione)","C",{"$f":"IF('00 Aggregatore'!$D242=\"R\",SUMIF('00 Alimenta'!$A:$A,$B242,'00 Alimenta'!D:D),SUMIF('00 Alimenta'!$A:$A,$B242,'00 Alimenta'!D:D)*-1)","v":0},{"$f":"IF('00 Aggregatore'!$D242=\"R\",SUMIF('00 Alimenta'!$A:$A,$B242,'00 Alimenta'!E:E),SUMIF('00 Alimenta'!$A:$A,$B242,'00 Alimenta'!E:E)*-1)","v":0}]
["BC","BA1530","B.2.A.16.4)  Altri servizi sanitari da privato","C",{"$f":"IF('00 Aggregatore'!$D243=\"R\",SUMIF('00 Alimenta'!$A:$A,$B243,'00 Alimenta'!D:D),SUMIF('00 Alimenta'!$A:$A,$B243,'00 Alimenta'!D:D)*-1)","v":3534647.28},{"$f":"IF('00 Aggregatore'!$D243=\"R\",SUMIF('00 Alimenta'!$A:$A,$B243,'00 Alimenta'!E:E),SUMIF('00 Alimenta'!$A:$A,$B243,'00 Alimenta'!E:E)*-1)","v":4913910.1399999997}]
["BC","BA1540","B.2.A.16.5)  Costi per servizi sanitari - Mobilità internazionale passiva","C",{"$f":"IF('00 Aggregatore'!$D244=\"R\",SUMIF('00 Alimenta'!$A:$A,$B244,'00 Alimenta'!D:D),SUMIF('00 Alimenta'!$A:$A,$B244,'00 Alimenta'!D:D)*-1)","v":2072369.5},{"$f":"IF('00 Aggregatore'!$D244=\"R\",SUMIF('00 Alimenta'!$A:$A,$B244,'00 Alimenta'!E:E),SUMIF('00 Alimenta'!$A:$A,$B244,'00 Alimenta'!E:E)*-1)","v":2330052.7799999998}]
["BC","BA1541","B.2.A.16.6)  Costi per servizi sanitari - Mobilità internazionale passiva rilevata dalle ASL","C",{"$f":"IF('00 Aggregatore'!$D245=\"R\",SUMIF('00 Alimenta'!$A:$A,$B245,'00 Alimenta'!D:D),SUMIF('00 Alimenta'!$A:$A,$B245,'00 Alimenta'!D:D)*-1)","v":0},{"$f":"IF('00 Aggregatore'!$D245=\"R\",SUMIF('00 Alimenta'!$A:$A,$B245,'00 Alimenta'!E:E),SUMIF('00 Alimenta'!$A:$A,$B245,'00 Alimenta'!E:E)*-1)","v":0}]
["BC","BA1542","B.2.A.16.7) Costi per prestazioni sanitarie erogate da aziende sanitarie estere (fatturate direttamente)","C",{"$f":"IF('00 Aggregatore'!$D246=\"R\",SUMIF('00 Alimenta'!$A:$A,$B246,'00 Alimenta'!D:D),SUMIF('00 Alimenta'!$A:$A,$B246,'00 Alimenta'!D:D)*-1)","v":0},{"$f":"IF('00 Aggregatore'!$D246=\"R\",SUMIF('00 Alimenta'!$A:$A,$B246,'00 Alimenta'!E:E),SUMIF('00 Alimenta'!$A:$A,$B246,'00 Alimenta'!E:E)*-1)","v":0}]
["BC","BA1550","B.2.A.17) Costi GSA per differenziale saldo mobilità interregionale","C",{"$f":"IF('00 Aggregatore'!$D247=\"R\",SUMIF('00 Alimenta'!$A:$A,$B247,'00 Alimenta'!D:D),SUMIF('00 Alimenta'!$A:$A,$B247,'00 Alimenta'!D:D)*-1)","v":0},{"$f":"IF('00 Aggregatore'!$D247=\"R\",SUMIF('00 Alimenta'!$A:$A,$B247,'00 Alimenta'!E:E),SUMIF('00 Alimenta'!$A:$A,$B247,'00 Alimenta'!E:E)*-1)","v":0}]
["BC","BA1580","B.2.B.1.1)   Lavanderia","C",{"$f":"IF('00 Aggregatore'!$D248=\"R\",SUMIF('00 Alimenta'!$A:$A,$B248,'00 Alimenta'!D:D),SUMIF('00 Alimenta'!$A:$A,$B248,'00 Alimenta'!D:D)*-1)","v":4633285.6399999997},{"$f":"IF('00 Aggregatore'!$D248=\"R\",SUMIF('00 Alimenta'!$A:$A,$B248,'00 Alimenta'!E:E),SUMIF('00 Alimenta'!$A:$A,$B248,'00 Alimenta'!E:E)*-1)","v":4372468.2300000004}]
["BC","BA1590","B.2.B.1.2)   Pulizia","C",{"$f":"IF('00 Aggregatore'!$D249=\"R\",SUMIF('00 Alimenta'!$A:$A,$B249,'00 Alimenta'!D:D),SUMIF('00 Alimenta'!$A:$A,$B249,'00 Alimenta'!D:D)*-1)","v":6110953.9000000004},{"$f":"IF('00 Aggregatore'!$D249=\"R\",SUMIF('00 Alimenta'!$A:$A,$B249,'00 Alimenta'!E:E),SUMIF('00 Alimenta'!$A:$A,$B249,'00 Alimenta'!E:E)*-1)","v":6224643.75}]
["BC","BA1601","B.2.B.1.3.A)   Mensa dipendenti","C",{"$f":"IF('00 Aggregatore'!$D250=\"R\",SUMIF('00 Alimenta'!$A:$A,$B250,'00 Alimenta'!D:D),SUMIF('00 Alimenta'!$A:$A,$B250,'00 Alimenta'!D:D)*-1)","v":4253494.91},{"$f":"IF('00 Aggregatore'!$D250=\"R\",SUMIF('00 Alimenta'!$A:$A,$B250,'00 Alimenta'!E:E),SUMIF('00 Alimenta'!$A:$A,$B250,'00 Alimenta'!E:E)*-1)","v":285686.02}]
["BC","BA1602","B.2.B.1.3.B)   Mensa degenti","C",{"$f":"IF('00 Aggregatore'!$D251=\"R\",SUMIF('00 Alimenta'!$A:$A,$B251,'00 Alimenta'!D:D),SUMIF('00 Alimenta'!$A:$A,$B251,'00 Alimenta'!D:D)*-1)","v":0},{"$f":"IF('00 Aggregatore'!$D251=\"R\",SUMIF('00 Alimenta'!$A:$A,$B251,'00 Alimenta'!E:E),SUMIF('00 Alimenta'!$A:$A,$B251,'00 Alimenta'!E:E)*-1)","v":3850598.79}]
["BC","BA1610","B.2.B.1.4)   Riscaldamento","C",{"$f":"IF('00 Aggregatore'!$D252=\"R\",SUMIF('00 Alimenta'!$A:$A,$B252,'00 Alimenta'!D:D),SUMIF('00 Alimenta'!$A:$A,$B252,'00 Alimenta'!D:D)*-1)","v":912590.81},{"$f":"IF('00 Aggregatore'!$D252=\"R\",SUMIF('00 Alimenta'!$A:$A,$B252,'00 Alimenta'!E:E),SUMIF('00 Alimenta'!$A:$A,$B252,'00 Alimenta'!E:E)*-1)","v":1031930.19}]
["BC","BA1620","B.2.B.1.5)   Servizi di assistenza informatica","C",{"$f":"IF('00 Aggregatore'!$D253=\"R\",SUMIF('00 Alimenta'!$A:$A,$B253,'00 Alimenta'!D:D),SUMIF('00 Alimenta'!$A:$A,$B253,'00 Alimenta'!D:D)*-1)","v":1812783.81},{"$f":"IF('00 Aggregatore'!$D253=\"R\",SUMIF('00 Alimenta'!$A:$A,$B253,'00 Alimenta'!E:E),SUMIF('00 Alimenta'!$A:$A,$B253,'00 Alimenta'!E:E)*-1)","v":1601064.93}]
["BC","BA1630","B.2.B.1.6)   Servizi trasporti (non sanitari)","C",{"$f":"IF('00 Aggregatore'!$D254=\"R\",SUMIF('00 Alimenta'!$A:$A,$B254,'00 Alimenta'!D:D),SUMIF('00 Alimenta'!$A:$A,$B254,'00 Alimenta'!D:D)*-1)","v":5892.6},{"$f":"IF('00 Aggregatore'!$D254=\"R\",SUMIF('00 Alimenta'!$A:$A,$B254,'00 Alimenta'!E:E),SUMIF('00 Alimenta'!$A:$A,$B254,'00 Alimenta'!E:E)*-1)","v":7252.41}]
["BC","BA1640","B.2.B.1.7)   Smaltimento rifiuti","C",{"$f":"IF('00 Aggregatore'!$D255=\"R\",SUMIF('00 Alimenta'!$A:$A,$B255,'00 Alimenta'!D:D),SUMIF('00 Alimenta'!$A:$A,$B255,'00 Alimenta'!D:D)*-1)","v":1392025.82},{"$f":"IF('00 Aggregatore'!$D255=\"R\",SUMIF('00 Alimenta'!$A:$A,$B255,'00 Alimenta'!E:E),SUMIF('00 Alimenta'!$A:$A,$B255,'00 Alimenta'!E:E)*-1)","v":1394724.73}]
["BC","BA1650","B.2.B.1.8)   Utenze telefoniche","C",{"$f":"IF('00 Aggregatore'!$D256=\"R\",SUMIF('00 Alimenta'!$A:$A,$B256,'00 Alimenta'!D:D),SUMIF('00 Alimenta'!$A:$A,$B256,'00 Alimenta'!D:D)*-1)","v":940270.67},{"$f":"IF('00 Aggregatore'!$D256=\"R\",SUMIF('00 Alimenta'!$A:$A,$B256,'00 Alimenta'!E:E),SUMIF('00 Alimenta'!$A:$A,$B256,'00 Alimenta'!E:E)*-1)","v":875622.55}]
["BC","BA1660","B.2.B.1.9)   Utenze elettricità","C",{"$f":"IF('00 Aggregatore'!$D257=\"R\",SUMIF('00 Alimenta'!$A:$A,$B257,'00 Alimenta'!D:D),SUMIF('00 Alimenta'!$A:$A,$B257,'00 Alimenta'!D:D)*-1)","v":3337366.78},{"$f":"IF('00 Aggregatore'!$D257=\"R\",SUMIF('00 Alimenta'!$A:$A,$B257,'00 Alimenta'!E:E),SUMIF('00 Alimenta'!$A:$A,$B257,'00 Alimenta'!E:E)*-1)","v":3335006.41}]
["BC","BA1670","B.2.B.1.10)   Altre utenze","C",{"$f":"IF('00 Aggregatore'!$D258=\"R\",SUMIF('00 Alimenta'!$A:$A,$B258,'00 Alimenta'!D:D),SUMIF('00 Alimenta'!$A:$A,$B258,'00 Alimenta'!D:D)*-1)","v":875740.52},{"$f":"IF('00 Aggregatore'!$D258=\"R\",SUMIF('00 Alimenta'!$A:$A,$B258,'00 Alimenta'!E:E),SUMIF('00 Alimenta'!$A:$A,$B258,'00 Alimenta'!E:E)*-1)","v":1175726.77}]
["BC","BA1690","B.2.B.1.11.A)  Premi di assicurazione - R.C. Professionale ","C",{"$f":"IF('00 Aggregatore'!$D259=\"R\",SUMIF('00 Alimenta'!$A:$A,$B259,'00 Alimenta'!D:D),SUMIF('00 Alimenta'!$A:$A,$B259,'00 Alimenta'!D:D)*-1)","v":4450699.8499999996},{"$f":"IF('00 Aggregatore'!$D259=\"R\",SUMIF('00 Alimenta'!$A:$A,$B259,'00 Alimenta'!E:E),SUMIF('00 Alimenta'!$A:$A,$B259,'00 Alimenta'!E:E)*-1)","v":4450838.34}]
["BC","BA1700","B.2.B.1.11.B)  Premi di assicurazione - Altri premi assicurativi","C",{"$f":"IF('00 Aggregatore'!$D260=\"R\",SUMIF('00 Alimenta'!$A:$A,$B260,'00 Alimenta'!D:D),SUMIF('00 Alimenta'!$A:$A,$B260,'00 Alimenta'!D:D)*-1)","v":277917.25},{"$f":"IF('00 Aggregatore'!$D260=\"R\",SUMIF('00 Alimenta'!$A:$A,$B260,'00 Alimenta'!E:E),SUMIF('00 Alimenta'!$A:$A,$B260,'00 Alimenta'!E:E)*-1)","v":319607.13}]
["BC","BA1720","B.2.B.1.12.A) Altri servizi non sanitari da pubblico (Aziende sanitarie pubbliche della Regione)","C",{"$f":"IF('00 Aggregatore'!$D261=\"R\",SUMIF('00 Alimenta'!$A:$A,$B261,'00 Alimenta'!D:D),SUMIF('00 Alimenta'!$A:$A,$B261,'00 Alimenta'!D:D)*-1)","v":0},{"$f":"IF('00 Aggregatore'!$D261=\"R\",SUMIF('00 Alimenta'!$A:$A,$B261,'00 Alimenta'!E:E),SUMIF('00 Alimenta'!$A:$A,$B261,'00 Alimenta'!E:E)*-1)","v":0}]
[{"$f":"LEFT(B262,1)&D262","v":"BC"},"BA1730","B.2.B.1.12.B) Altri servizi non sanitari da altri soggetti pubblici","C",{"$f":"IF('00 Aggregatore'!$D262=\"R\",SUMIF('00 Alimenta'!$A:$A,$B262,'00 Alimenta'!D:D),SUMIF('00 Alimenta'!$A:$A,$B262,'00 Alimenta'!D:D)*-1)","v":0},{"$f":"IF('00 Aggregatore'!$D262=\"R\",SUMIF('00 Alimenta'!$A:$A,$B262,'00 Alimenta'!E:E),SUMIF('00 Alimenta'!$A:$A,$B262,'00 Alimenta'!E:E)*-1)","v":0}]
["BC","BA1740","B.2.B.1.12.C) Altri servizi non sanitari da privato","C",{"$f":"IF('00 Aggregatore'!$D263=\"R\",SUMIF('00 Alimenta'!$A:$A,$B263,'00 Alimenta'!D:D),SUMIF('00 Alimenta'!$A:$A,$B263,'00 Alimenta'!D:D)*-1)","v":6621405.9100000001},{"$f":"IF('00 Aggregatore'!$D263=\"R\",SUMIF('00 Alimenta'!$A:$A,$B263,'00 Alimenta'!E:E),SUMIF('00 Alimenta'!$A:$A,$B263,'00 Alimenta'!E:E)*-1)","v":7014195.4199999999}]
["BC","BA1760","B.2.B.2.1) Consulenze non sanitarie da Aziende sanitarie pubbliche della Regione","C",{"$f":"IF('00 Aggregatore'!$D264=\"R\",SUMIF('00 Alimenta'!$A:$A,$B264,'00 Alimenta'!D:D),SUMIF('00 Alimenta'!$A:$A,$B264,'00 Alimenta'!D:D)*-1)","v":0},{"$f":"IF('00 Aggregatore'!$D264=\"R\",SUMIF('00 Alimenta'!$A:$A,$B264,'00 Alimenta'!E:E),SUMIF('00 Alimenta'!$A:$A,$B264,'00 Alimenta'!E:E)*-1)","v":0}]
["BC","BA1770","B.2.B.2.2) Consulenze non sanitarie da Terzi - Altri soggetti pubblici","C",{"$f":"IF('00 Aggregatore'!$D265=\"R\",SUMIF('00 Alimenta'!$A:$A,$B265,'00 Alimenta'!D:D),SUMIF('00 Alimenta'!$A:$A,$B265,'00 Alimenta'!D:D)*-1)","v":0},{"$f":"IF('00 Aggregatore'!$D265=\"R\",SUMIF('00 Alimenta'!$A:$A,$B265,'00 Alimenta'!E:E),SUMIF('00 Alimenta'!$A:$A,$B265,'00 Alimenta'!E:E)*-1)","v":0}]
["BC","BA1790","B.2.B.2.3.A) Consulenze non sanitarie da privato","C",{"$f":"IF('00 Aggregatore'!$D266=\"R\",SUMIF('00 Alimenta'!$A:$A,$B266,'00 Alimenta'!D:D),SUMIF('00 Alimenta'!$A:$A,$B266,'00 Alimenta'!D:D)*-1)","v":432526.65},{"$f":"IF('00 Aggregatore'!$D266=\"R\",SUMIF('00 Alimenta'!$A:$A,$B266,'00 Alimenta'!E:E),SUMIF('00 Alimenta'!$A:$A,$B266,'00 Alimenta'!E:E)*-1)","v":305635.02}]
["BC","BA1800","B.2.B.2.3.B) Collaborazioni coordinate e continuative non sanitarie da privato","C",{"$f":"IF('00 Aggregatore'!$D267=\"R\",SUMIF('00 Alimenta'!$A:$A,$B267,'00 Alimenta'!D:D),SUMIF('00 Alimenta'!$A:$A,$B267,'00 Alimenta'!D:D)*-1)","v":31178.34},{"$f":"IF('00 Aggregatore'!$D267=\"R\",SUMIF('00 Alimenta'!$A:$A,$B267,'00 Alimenta'!E:E),SUMIF('00 Alimenta'!$A:$A,$B267,'00 Alimenta'!E:E)*-1)","v":30731.74}]
["BC","BA1810","B.2.B.2.3.C) Indennità a personale universitario - area non sanitaria ","C",{"$f":"IF('00 Aggregatore'!$D268=\"R\",SUMIF('00 Alimenta'!$A:$A,$B268,'00 Alimenta'!D:D),SUMIF('00 Alimenta'!$A:$A,$B268,'00 Alimenta'!D:D)*-1)","v":0},{"$f":"IF('00 Aggregatore'!$D268=\"R\",SUMIF('00 Alimenta'!$A:$A,$B268,'00 Alimenta'!E:E),SUMIF('00 Alimenta'!$A:$A,$B268,'00 Alimenta'!E:E)*-1)","v":0}]
["BC","BA1820","B.2.B.2.3.D) Lavoro interinale - area non sanitaria ","C",{"$f":"IF('00 Aggregatore'!$D269=\"R\",SUMIF('00 Alimenta'!$A:$A,$B269,'00 Alimenta'!D:D),SUMIF('00 Alimenta'!$A:$A,$B269,'00 Alimenta'!D:D)*-1)","v":0},{"$f":"IF('00 Aggregatore'!$D269=\"R\",SUMIF('00 Alimenta'!$A:$A,$B269,'00 Alimenta'!E:E),SUMIF('00 Alimenta'!$A:$A,$B269,'00 Alimenta'!E:E)*-1)","v":0}]
["BC","BA1830","B.2.B.2.3.E) Altre collaborazioni e prestazioni di lavoro - area non sanitaria ","C",{"$f":"IF('00 Aggregatore'!$D270=\"R\",SUMIF('00 Alimenta'!$A:$A,$B270,'00 Alimenta'!D:D),SUMIF('00 Alimenta'!$A:$A,$B270,'00 Alimenta'!D:D)*-1)","v":128297.41},{"$f":"IF('00 Aggregatore'!$D270=\"R\",SUMIF('00 Alimenta'!$A:$A,$B270,'00 Alimenta'!E:E),SUMIF('00 Alimenta'!$A:$A,$B270,'00 Alimenta'!E:E)*-1)","v":128829.68}]
["BC","BA1831","B.2.B.2.3.F) Altre Consulenze non sanitarie da privato -  in attuazione dell’art.79, comma 1 sexies lettera c), del D.L. 112/2008, convertito con legge 133/2008 e della legge 23 dicembre 2009 n. 191","C",{"$f":"IF('00 Aggregatore'!$D271=\"R\",SUMIF('00 Alimenta'!$A:$A,$B271,'00 Alimenta'!D:D),SUMIF('00 Alimenta'!$A:$A,$B271,'00 Alimenta'!D:D)*-1)","v":0},{"$f":"IF('00 Aggregatore'!$D271=\"R\",SUMIF('00 Alimenta'!$A:$A,$B271,'00 Alimenta'!E:E),SUMIF('00 Alimenta'!$A:$A,$B271,'00 Alimenta'!E:E)*-1)","v":0}]
["BC","BA1850","B.2.B.2.4.A) Rimborso oneri stipendiali personale non sanitario in comando da Aziende sanitarie pubbliche della Regione","C",{"$f":"IF('00 Aggregatore'!$D272=\"R\",SUMIF('00 Alimenta'!$A:$A,$B272,'00 Alimenta'!D:D),SUMIF('00 Alimenta'!$A:$A,$B272,'00 Alimenta'!D:D)*-1)","v":0},{"$f":"IF('00 Aggregatore'!$D272=\"R\",SUMIF('00 Alimenta'!$A:$A,$B272,'00 Alimenta'!E:E),SUMIF('00 Alimenta'!$A:$A,$B272,'00 Alimenta'!E:E)*-1)","v":0}]
["BC","BA1860","B.2.B.2.4.B) Rimborso oneri stipendiali personale non sanitario in comando da Regione, soggetti pubblici e da Università","C",{"$f":"IF('00 Aggregatore'!$D273=\"R\",SUMIF('00 Alimenta'!$A:$A,$B273,'00 Alimenta'!D:D),SUMIF('00 Alimenta'!$A:$A,$B273,'00 Alimenta'!D:D)*-1)","v":0},{"$f":"IF('00 Aggregatore'!$D273=\"R\",SUMIF('00 Alimenta'!$A:$A,$B273,'00 Alimenta'!E:E),SUMIF('00 Alimenta'!$A:$A,$B273,'00 Alimenta'!E:E)*-1)","v":0}]
["BC","BA1870","B.2.B.2.4.C) Rimborso oneri stipendiali personale non sanitario in comando da aziende di altre Regioni (Extraregione)","C",{"$f":"IF('00 Aggregatore'!$D274=\"R\",SUMIF('00 Alimenta'!$A:$A,$B274,'00 Alimenta'!D:D),SUMIF('00 Alimenta'!$A:$A,$B274,'00 Alimenta'!D:D)*-1)","v":0},{"$f":"IF('00 Aggregatore'!$D274=\"R\",SUMIF('00 Alimenta'!$A:$A,$B274,'00 Alimenta'!E:E),SUMIF('00 Alimenta'!$A:$A,$B274,'00 Alimenta'!E:E)*-1)","v":0}]
["BC","BA1890","B.2.B.3.1) Formazione (esternalizzata e non) da pubblico","C",{"$f":"IF('00 Aggregatore'!$D275=\"R\",SUMIF('00 Alimenta'!$A:$A,$B275,'00 Alimenta'!D:D),SUMIF('00 Alimenta'!$A:$A,$B275,'00 Alimenta'!D:D)*-1)","v":35012.980000000003},{"$f":"IF('00 Aggregatore'!$D275=\"R\",SUMIF('00 Alimenta'!$A:$A,$B275,'00 Alimenta'!E:E),SUMIF('00 Alimenta'!$A:$A,$B275,'00 Alimenta'!E:E)*-1)","v":39577.83}]
["BC","BA1900","B.2.B.3.2) Formazione (esternalizzata e non) da privato","C",{"$f":"IF('00 Aggregatore'!$D276=\"R\",SUMIF('00 Alimenta'!$A:$A,$B276,'00 Alimenta'!D:D),SUMIF('00 Alimenta'!$A:$A,$B276,'00 Alimenta'!D:D)*-1)","v":626252.09},{"$f":"IF('00 Aggregatore'!$D276=\"R\",SUMIF('00 Alimenta'!$A:$A,$B276,'00 Alimenta'!E:E),SUMIF('00 Alimenta'!$A:$A,$B276,'00 Alimenta'!E:E)*-1)","v":531262.68000000005}]
["BC","BA1920","B.3.A)  Manutenzione e riparazione ai fabbricati e loro pertinenze","C",{"$f":"IF('00 Aggregatore'!$D277=\"R\",SUMIF('00 Alimenta'!$A:$A,$B277,'00 Alimenta'!D:D),SUMIF('00 Alimenta'!$A:$A,$B277,'00 Alimenta'!D:D)*-1)","v":8571730.1999999993},{"$f":"IF('00 Aggregatore'!$D277=\"R\",SUMIF('00 Alimenta'!$A:$A,$B277,'00 Alimenta'!E:E),SUMIF('00 Alimenta'!$A:$A,$B277,'00 Alimenta'!E:E)*-1)","v":8135678.5800000001}]
["BC","BA1930","B.3.B)  Manutenzione e riparazione agli impianti e macchinari","C",{"$f":"IF('00 Aggregatore'!$D278=\"R\",SUMIF('00 Alimenta'!$A:$A,$B278,'00 Alimenta'!D:D),SUMIF('00 Alimenta'!$A:$A,$B278,'00 Alimenta'!D:D)*-1)","v":0},{"$f":"IF('00 Aggregatore'!$D278=\"R\",SUMIF('00 Alimenta'!$A:$A,$B278,'00 Alimenta'!E:E),SUMIF('00 Alimenta'!$A:$A,$B278,'00 Alimenta'!E:E)*-1)","v":11712}]
["BC","BA1940","B.3.C)  Manutenzione e riparazione alle attrezzature sanitarie e scientifiche","C",{"$f":"IF('00 Aggregatore'!$D279=\"R\",SUMIF('00 Alimenta'!$A:$A,$B279,'00 Alimenta'!D:D),SUMIF('00 Alimenta'!$A:$A,$B279,'00 Alimenta'!D:D)*-1)","v":6129147.0499999998},{"$f":"IF('00 Aggregatore'!$D279=\"R\",SUMIF('00 Alimenta'!$A:$A,$B279,'00 Alimenta'!E:E),SUMIF('00 Alimenta'!$A:$A,$B279,'00 Alimenta'!E:E)*-1)","v":5458525.2800000003}]
["BC","BA1950","B.3.D)  Manutenzione e riparazione ai mobili e arredi","C",{"$f":"IF('00 Aggregatore'!$D280=\"R\",SUMIF('00 Alimenta'!$A:$A,$B280,'00 Alimenta'!D:D),SUMIF('00 Alimenta'!$A:$A,$B280,'00 Alimenta'!D:D)*-1)","v":0},{"$f":"IF('00 Aggregatore'!$D280=\"R\",SUMIF('00 Alimenta'!$A:$A,$B280,'00 Alimenta'!E:E),SUMIF('00 Alimenta'!$A:$A,$B280,'00 Alimenta'!E:E)*-1)","v":0}]
["BC","BA1960","B.3.E)  Manutenzione e riparazione agli automezzi","C",{"$f":"IF('00 Aggregatore'!$D281=\"R\",SUMIF('00 Alimenta'!$A:$A,$B281,'00 Alimenta'!D:D),SUMIF('00 Alimenta'!$A:$A,$B281,'00 Alimenta'!D:D)*-1)","v":125986.4},{"$f":"IF('00 Aggregatore'!$D281=\"R\",SUMIF('00 Alimenta'!$A:$A,$B281,'00 Alimenta'!E:E),SUMIF('00 Alimenta'!$A:$A,$B281,'00 Alimenta'!E:E)*-1)","v":83762.679999999993}]
["BC","BA1970","B.3.F)  Altre manutenzioni e riparazioni","C",{"$f":"IF('00 Aggregatore'!$D282=\"R\",SUMIF('00 Alimenta'!$A:$A,$B282,'00 Alimenta'!D:D),SUMIF('00 Alimenta'!$A:$A,$B282,'00 Alimenta'!D:D)*-1)","v":883986.33},{"$f":"IF('00 Aggregatore'!$D282=\"R\",SUMIF('00 Alimenta'!$A:$A,$B282,'00 Alimenta'!E:E),SUMIF('00 Alimenta'!$A:$A,$B282,'00 Alimenta'!E:E)*-1)","v":816680.65}]
["BC","BA1980","B.3.G)  Manutenzioni e riparazioni da Aziende sanitarie pubbliche della Regione","C",{"$f":"IF('00 Aggregatore'!$D283=\"R\",SUMIF('00 Alimenta'!$A:$A,$B283,'00 Alimenta'!D:D),SUMIF('00 Alimenta'!$A:$A,$B283,'00 Alimenta'!D:D)*-1)","v":0},{"$f":"IF('00 Aggregatore'!$D283=\"R\",SUMIF('00 Alimenta'!$A:$A,$B283,'00 Alimenta'!E:E),SUMIF('00 Alimenta'!$A:$A,$B283,'00 Alimenta'!E:E)*-1)","v":0}]
["BC","BA2000","B.4.A)  Fitti passivi","C",{"$f":"IF('00 Aggregatore'!$D284=\"R\",SUMIF('00 Alimenta'!$A:$A,$B284,'00 Alimenta'!D:D),SUMIF('00 Alimenta'!$A:$A,$B284,'00 Alimenta'!D:D)*-1)","v":1330887.46},{"$f":"IF('00 Aggregatore'!$D284=\"R\",SUMIF('00 Alimenta'!$A:$A,$B284,'00 Alimenta'!E:E),SUMIF('00 Alimenta'!$A:$A,$B284,'00 Alimenta'!E:E)*-1)","v":1240355.3500000001}]
["BC","BA2020","B.4.B.1) Canoni di noleggio - area sanitaria","C",{"$f":"IF('00 Aggregatore'!$D285=\"R\",SUMIF('00 Alimenta'!$A:$A,$B285,'00 Alimenta'!D:D),SUMIF('00 Alimenta'!$A:$A,$B285,'00 Alimenta'!D:D)*-1)","v":5015627.3600000003},{"$f":"IF('00 Aggregatore'!$D285=\"R\",SUMIF('00 Alimenta'!$A:$A,$B285,'00 Alimenta'!E:E),SUMIF('00 Alimenta'!$A:$A,$B285,'00 Alimenta'!E:E)*-1)","v":5095865.6500000004}]
["BC","BA2030","B.4.B.2) Canoni di noleggio - area non sanitaria","C",{"$f":"IF('00 Aggregatore'!$D286=\"R\",SUMIF('00 Alimenta'!$A:$A,$B286,'00 Alimenta'!D:D),SUMIF('00 Alimenta'!$A:$A,$B286,'00 Alimenta'!D:D)*-1)","v":429967.97},{"$f":"IF('00 Aggregatore'!$D286=\"R\",SUMIF('00 Alimenta'!$A:$A,$B286,'00 Alimenta'!E:E),SUMIF('00 Alimenta'!$A:$A,$B286,'00 Alimenta'!E:E)*-1)","v":240591.28}]
["BC","BA2050","B.4.C.1) Canoni di leasing - area sanitaria","C",{"$f":"IF('00 Aggregatore'!$D287=\"R\",SUMIF('00 Alimenta'!$A:$A,$B287,'00 Alimenta'!D:D),SUMIF('00 Alimenta'!$A:$A,$B287,'00 Alimenta'!D:D)*-1)","v":0},{"$f":"IF('00 Aggregatore'!$D287=\"R\",SUMIF('00 Alimenta'!$A:$A,$B287,'00 Alimenta'!E:E),SUMIF('00 Alimenta'!$A:$A,$B287,'00 Alimenta'!E:E)*-1)","v":0}]
["BC","BA2060","B.4.C.2) Canoni di leasing - area non sanitaria","C",{"$f":"IF('00 Aggregatore'!$D288=\"R\",SUMIF('00 Alimenta'!$A:$A,$B288,'00 Alimenta'!D:D),SUMIF('00 Alimenta'!$A:$A,$B288,'00 Alimenta'!D:D)*-1)","v":0},{"$f":"IF('00 Aggregatore'!$D288=\"R\",SUMIF('00 Alimenta'!$A:$A,$B288,'00 Alimenta'!E:E),SUMIF('00 Alimenta'!$A:$A,$B288,'00 Alimenta'!E:E)*-1)","v":0}]
["BC","BA2061","B.4.D)  Canoni di project financing","C",{"$f":"IF('00 Aggregatore'!$D289=\"R\",SUMIF('00 Alimenta'!$A:$A,$B289,'00 Alimenta'!D:D),SUMIF('00 Alimenta'!$A:$A,$B289,'00 Alimenta'!D:D)*-1)","v":0},{"$f":"IF('00 Aggregatore'!$D289=\"R\",SUMIF('00 Alimenta'!$A:$A,$B289,'00 Alimenta'!E:E),SUMIF('00 Alimenta'!$A:$A,$B289,'00 Alimenta'!E:E)*-1)","v":0}]
["BC","BA2070","B.4.E)  Locazioni e noleggi da Aziende sanitarie pubbliche della Regione","C",{"$f":"IF('00 Aggregatore'!$D290=\"R\",SUMIF('00 Alimenta'!$A:$A,$B290,'00 Alimenta'!D:D),SUMIF('00 Alimenta'!$A:$A,$B290,'00 Alimenta'!D:D)*-1)","v":0},{"$f":"IF('00 Aggregatore'!$D290=\"R\",SUMIF('00 Alimenta'!$A:$A,$B290,'00 Alimenta'!E:E),SUMIF('00 Alimenta'!$A:$A,$B290,'00 Alimenta'!E:E)*-1)","v":0}]
["BC","BA2120","B.5.A.1.1) Costo del personale dirigente medico - tempo indeterminato","C",{"$f":"IF('00 Aggregatore'!$D291=\"R\",SUMIF('00 Alimenta'!$A:$A,$B291,'00 Alimenta'!D:D),SUMIF('00 Alimenta'!$A:$A,$B291,'00 Alimenta'!D:D)*-1)","v":64319241.780000001},{"$f":"IF('00 Aggregatore'!$D291=\"R\",SUMIF('00 Alimenta'!$A:$A,$B291,'00 Alimenta'!E:E),SUMIF('00 Alimenta'!$A:$A,$B291,'00 Alimenta'!E:E)*-1)","v":64754869.079999991}]
["BC","BA2130","B.5.A.1.2) Costo del personale dirigente medico - tempo determinato","C",{"$f":"IF('00 Aggregatore'!$D292=\"R\",SUMIF('00 Alimenta'!$A:$A,$B292,'00 Alimenta'!D:D),SUMIF('00 Alimenta'!$A:$A,$B292,'00 Alimenta'!D:D)*-1)","v":3032628.94},{"$f":"IF('00 Aggregatore'!$D292=\"R\",SUMIF('00 Alimenta'!$A:$A,$B292,'00 Alimenta'!E:E),SUMIF('00 Alimenta'!$A:$A,$B292,'00 Alimenta'!E:E)*-1)","v":4081366.97}]
["BC","BA2140","B.5.A.1.3) Costo del personale dirigente medico - altro","C",{"$f":"IF('00 Aggregatore'!$D293=\"R\",SUMIF('00 Alimenta'!$A:$A,$B293,'00 Alimenta'!D:D),SUMIF('00 Alimenta'!$A:$A,$B293,'00 Alimenta'!D:D)*-1)","v":0},{"$f":"IF('00 Aggregatore'!$D293=\"R\",SUMIF('00 Alimenta'!$A:$A,$B293,'00 Alimenta'!E:E),SUMIF('00 Alimenta'!$A:$A,$B293,'00 Alimenta'!E:E)*-1)","v":0}]
["BC","BA2160","B.5.A.2.1) Costo del personale dirigente non medico - tempo indeterminato","C",{"$f":"IF('00 Aggregatore'!$D294=\"R\",SUMIF('00 Alimenta'!$A:$A,$B294,'00 Alimenta'!D:D),SUMIF('00 Alimenta'!$A:$A,$B294,'00 Alimenta'!D:D)*-1)","v":4831272.49},{"$f":"IF('00 Aggregatore'!$D294=\"R\",SUMIF('00 Alimenta'!$A:$A,$B294,'00 Alimenta'!E:E),SUMIF('00 Alimenta'!$A:$A,$B294,'00 Alimenta'!E:E)*-1)","v":4801927.3800000008}]
["BC","BA2170","B.5.A.2.2) Costo del personale dirigente non medico - tempo determinato","C",{"$f":"IF('00 Aggregatore'!$D295=\"R\",SUMIF('00 Alimenta'!$A:$A,$B295,'00 Alimenta'!D:D),SUMIF('00 Alimenta'!$A:$A,$B295,'00 Alimenta'!D:D)*-1)","v":388279.68},{"$f":"IF('00 Aggregatore'!$D295=\"R\",SUMIF('00 Alimenta'!$A:$A,$B295,'00 Alimenta'!E:E),SUMIF('00 Alimenta'!$A:$A,$B295,'00 Alimenta'!E:E)*-1)","v":743647.2200000002}]
["BC","BA2180","B.5.A.2.3) Costo del personale dirigente non medico - altro","C",{"$f":"IF('00 Aggregatore'!$D296=\"R\",SUMIF('00 Alimenta'!$A:$A,$B296,'00 Alimenta'!D:D),SUMIF('00 Alimenta'!$A:$A,$B296,'00 Alimenta'!D:D)*-1)","v":0},{"$f":"IF('00 Aggregatore'!$D296=\"R\",SUMIF('00 Alimenta'!$A:$A,$B296,'00 Alimenta'!E:E),SUMIF('00 Alimenta'!$A:$A,$B296,'00 Alimenta'!E:E)*-1)","v":0}]
["BC","BA2200","B.5.B.1) Costo del personale comparto ruolo sanitario - tempo indeterminato","C",{"$f":"IF('00 Aggregatore'!$D297=\"R\",SUMIF('00 Alimenta'!$A:$A,$B297,'00 Alimenta'!D:D),SUMIF('00 Alimenta'!$A:$A,$B297,'00 Alimenta'!D:D)*-1)","v":65514162.510000005},{"$f":"IF('00 Aggregatore'!$D297=\"R\",SUMIF('00 Alimenta'!$A:$A,$B297,'00 Alimenta'!E:E),SUMIF('00 Alimenta'!$A:$A,$B297,'00 Alimenta'!E:E)*-1)","v":66799162.539999999}]
["BC","BA2210","B.5.B.2) Costo del personale comparto ruolo sanitario - tempo determinato","C",{"$f":"IF('00 Aggregatore'!$D298=\"R\",SUMIF('00 Alimenta'!$A:$A,$B298,'00 Alimenta'!D:D),SUMIF('00 Alimenta'!$A:$A,$B298,'00 Alimenta'!D:D)*-1)","v":1734965.7400000002},{"$f":"IF('00 Aggregatore'!$D298=\"R\",SUMIF('00 Alimenta'!$A:$A,$B298,'00 Alimenta'!E:E),SUMIF('00 Alimenta'!$A:$A,$B298,'00 Alimenta'!E:E)*-1)","v":1912519.63}]
["BC","BA2220","B.5.B.3) Costo del personale comparto ruolo sanitario - altro","C",{"$f":"IF('00 Aggregatore'!$D299=\"R\",SUMIF('00 Alimenta'!$A:$A,$B299,'00 Alimenta'!D:D),SUMIF('00 Alimenta'!$A:$A,$B299,'00 Alimenta'!D:D)*-1)","v":0},{"$f":"IF('00 Aggregatore'!$D299=\"R\",SUMIF('00 Alimenta'!$A:$A,$B299,'00 Alimenta'!E:E),SUMIF('00 Alimenta'!$A:$A,$B299,'00 Alimenta'!E:E)*-1)","v":0}]
["BC","BA2250","B.6.A.1) Costo del personale dirigente ruolo professionale - tempo indeterminato","C",{"$f":"IF('00 Aggregatore'!$D300=\"R\",SUMIF('00 Alimenta'!$A:$A,$B300,'00 Alimenta'!D:D),SUMIF('00 Alimenta'!$A:$A,$B300,'00 Alimenta'!D:D)*-1)","v":367654.11},{"$f":"IF('00 Aggregatore'!$D300=\"R\",SUMIF('00 Alimenta'!$A:$A,$B300,'00 Alimenta'!E:E),SUMIF('00 Alimenta'!$A:$A,$B300,'00 Alimenta'!E:E)*-1)","v":368506.20999999996}]
["BC","BA2260","B.6.A.2) Costo del personale dirigente ruolo professionale - tempo determinato","C",{"$f":"IF('00 Aggregatore'!$D301=\"R\",SUMIF('00 Alimenta'!$A:$A,$B301,'00 Alimenta'!D:D),SUMIF('00 Alimenta'!$A:$A,$B301,'00 Alimenta'!D:D)*-1)","v":69627.22},{"$f":"IF('00 Aggregatore'!$D301=\"R\",SUMIF('00 Alimenta'!$A:$A,$B301,'00 Alimenta'!E:E),SUMIF('00 Alimenta'!$A:$A,$B301,'00 Alimenta'!E:E)*-1)","v":75093.89}]
["BC","BA2270","B.6.A.3) Costo del personale dirigente ruolo professionale - altro","C",{"$f":"IF('00 Aggregatore'!$D302=\"R\",SUMIF('00 Alimenta'!$A:$A,$B302,'00 Alimenta'!D:D),SUMIF('00 Alimenta'!$A:$A,$B302,'00 Alimenta'!D:D)*-1)","v":0},{"$f":"IF('00 Aggregatore'!$D302=\"R\",SUMIF('00 Alimenta'!$A:$A,$B302,'00 Alimenta'!E:E),SUMIF('00 Alimenta'!$A:$A,$B302,'00 Alimenta'!E:E)*-1)","v":0}]
["BC","BA2290","B.6.B.1) Costo del personale comparto ruolo professionale - tempo indeterminato","C",{"$f":"IF('00 Aggregatore'!$D303=\"R\",SUMIF('00 Alimenta'!$A:$A,$B303,'00 Alimenta'!D:D),SUMIF('00 Alimenta'!$A:$A,$B303,'00 Alimenta'!D:D)*-1)","v":1579.73},{"$f":"IF('00 Aggregatore'!$D303=\"R\",SUMIF('00 Alimenta'!$A:$A,$B303,'00 Alimenta'!E:E),SUMIF('00 Alimenta'!$A:$A,$B303,'00 Alimenta'!E:E)*-1)","v":1602.88}]
["BC","BA2300","B.6.B.2) Costo del personale comparto ruolo professionale - tempo determinato","C",{"$f":"IF('00 Aggregatore'!$D304=\"R\",SUMIF('00 Alimenta'!$A:$A,$B304,'00 Alimenta'!D:D),SUMIF('00 Alimenta'!$A:$A,$B304,'00 Alimenta'!D:D)*-1)","v":0},{"$f":"IF('00 Aggregatore'!$D304=\"R\",SUMIF('00 Alimenta'!$A:$A,$B304,'00 Alimenta'!E:E),SUMIF('00 Alimenta'!$A:$A,$B304,'00 Alimenta'!E:E)*-1)","v":0}]
["BC","BA2310","B.6.B.3) Costo del personale comparto ruolo professionale - altro","C",{"$f":"IF('00 Aggregatore'!$D305=\"R\",SUMIF('00 Alimenta'!$A:$A,$B305,'00 Alimenta'!D:D),SUMIF('00 Alimenta'!$A:$A,$B305,'00 Alimenta'!D:D)*-1)","v":0},{"$f":"IF('00 Aggregatore'!$D305=\"R\",SUMIF('00 Alimenta'!$A:$A,$B305,'00 Alimenta'!E:E),SUMIF('00 Alimenta'!$A:$A,$B305,'00 Alimenta'!E:E)*-1)","v":0}]
["BC","BA2340","B.7.A.1) Costo del personale dirigente ruolo tecnico - tempo indeterminato","C",{"$f":"IF('00 Aggregatore'!$D306=\"R\",SUMIF('00 Alimenta'!$A:$A,$B306,'00 Alimenta'!D:D),SUMIF('00 Alimenta'!$A:$A,$B306,'00 Alimenta'!D:D)*-1)","v":345702.9},{"$f":"IF('00 Aggregatore'!$D306=\"R\",SUMIF('00 Alimenta'!$A:$A,$B306,'00 Alimenta'!E:E),SUMIF('00 Alimenta'!$A:$A,$B306,'00 Alimenta'!E:E)*-1)","v":315254.98}]
["BC","BA2350","B.7.A.2) Costo del personale dirigente ruolo tecnico - tempo determinato","C",{"$f":"IF('00 Aggregatore'!$D307=\"R\",SUMIF('00 Alimenta'!$A:$A,$B307,'00 Alimenta'!D:D),SUMIF('00 Alimenta'!$A:$A,$B307,'00 Alimenta'!D:D)*-1)","v":0},{"$f":"IF('00 Aggregatore'!$D307=\"R\",SUMIF('00 Alimenta'!$A:$A,$B307,'00 Alimenta'!E:E),SUMIF('00 Alimenta'!$A:$A,$B307,'00 Alimenta'!E:E)*-1)","v":0}]
["BC","BA2360","B.7.A.3) Costo del personale dirigente ruolo tecnico - altro","C",{"$f":"IF('00 Aggregatore'!$D308=\"R\",SUMIF('00 Alimenta'!$A:$A,$B308,'00 Alimenta'!D:D),SUMIF('00 Alimenta'!$A:$A,$B308,'00 Alimenta'!D:D)*-1)","v":0},{"$f":"IF('00 Aggregatore'!$D308=\"R\",SUMIF('00 Alimenta'!$A:$A,$B308,'00 Alimenta'!E:E),SUMIF('00 Alimenta'!$A:$A,$B308,'00 Alimenta'!E:E)*-1)","v":0}]
["BC","BA2380","B.7.B.1) Costo del personale comparto ruolo tecnico - tempo indeterminato","C",{"$f":"IF('00 Aggregatore'!$D309=\"R\",SUMIF('00 Alimenta'!$A:$A,$B309,'00 Alimenta'!D:D),SUMIF('00 Alimenta'!$A:$A,$B309,'00 Alimenta'!D:D)*-1)","v":16881837.510000002},{"$f":"IF('00 Aggregatore'!$D309=\"R\",SUMIF('00 Alimenta'!$A:$A,$B309,'00 Alimenta'!E:E),SUMIF('00 Alimenta'!$A:$A,$B309,'00 Alimenta'!E:E)*-1)","v":17604653.789999999}]
["BC","BA2390","B.7.B.2) Costo del personale comparto ruolo tecnico - tempo determinato","C",{"$f":"IF('00 Aggregatore'!$D310=\"R\",SUMIF('00 Alimenta'!$A:$A,$B310,'00 Alimenta'!D:D),SUMIF('00 Alimenta'!$A:$A,$B310,'00 Alimenta'!D:D)*-1)","v":291302.39999999997},{"$f":"IF('00 Aggregatore'!$D310=\"R\",SUMIF('00 Alimenta'!$A:$A,$B310,'00 Alimenta'!E:E),SUMIF('00 Alimenta'!$A:$A,$B310,'00 Alimenta'!E:E)*-1)","v":480702.67000000004}]
["BC","BA2400","B.7.B.3) Costo del personale comparto ruolo tecnico - altro","C",{"$f":"IF('00 Aggregatore'!$D311=\"R\",SUMIF('00 Alimenta'!$A:$A,$B311,'00 Alimenta'!D:D),SUMIF('00 Alimenta'!$A:$A,$B311,'00 Alimenta'!D:D)*-1)","v":0},{"$f":"IF('00 Aggregatore'!$D311=\"R\",SUMIF('00 Alimenta'!$A:$A,$B311,'00 Alimenta'!E:E),SUMIF('00 Alimenta'!$A:$A,$B311,'00 Alimenta'!E:E)*-1)","v":0}]
["BC","BA2430","B.8.A.1) Costo del personale dirigente ruolo amministrativo - tempo indeterminato","C",{"$f":"IF('00 Aggregatore'!$D312=\"R\",SUMIF('00 Alimenta'!$A:$A,$B312,'00 Alimenta'!D:D),SUMIF('00 Alimenta'!$A:$A,$B312,'00 Alimenta'!D:D)*-1)","v":922464.95},{"$f":"IF('00 Aggregatore'!$D312=\"R\",SUMIF('00 Alimenta'!$A:$A,$B312,'00 Alimenta'!E:E),SUMIF('00 Alimenta'!$A:$A,$B312,'00 Alimenta'!E:E)*-1)","v":1058085.3999999999}]
["BC","BA2440","B.8.A.2) Costo del personale dirigente ruolo amministrativo - tempo determinato","C",{"$f":"IF('00 Aggregatore'!$D313=\"R\",SUMIF('00 Alimenta'!$A:$A,$B313,'00 Alimenta'!D:D),SUMIF('00 Alimenta'!$A:$A,$B313,'00 Alimenta'!D:D)*-1)","v":15595.28},{"$f":"IF('00 Aggregatore'!$D313=\"R\",SUMIF('00 Alimenta'!$A:$A,$B313,'00 Alimenta'!E:E),SUMIF('00 Alimenta'!$A:$A,$B313,'00 Alimenta'!E:E)*-1)","v":52157.53}]
["BC","BA2450","B.8.A.3) Costo del personale dirigente ruolo amministrativo - altro","C",{"$f":"IF('00 Aggregatore'!$D314=\"R\",SUMIF('00 Alimenta'!$A:$A,$B314,'00 Alimenta'!D:D),SUMIF('00 Alimenta'!$A:$A,$B314,'00 Alimenta'!D:D)*-1)","v":0},{"$f":"IF('00 Aggregatore'!$D314=\"R\",SUMIF('00 Alimenta'!$A:$A,$B314,'00 Alimenta'!E:E),SUMIF('00 Alimenta'!$A:$A,$B314,'00 Alimenta'!E:E)*-1)","v":0}]
["BC","BA2470","B.8.B.1) Costo del personale comparto ruolo amministrativo - tempo indeterminato","C",{"$f":"IF('00 Aggregatore'!$D315=\"R\",SUMIF('00 Alimenta'!$A:$A,$B315,'00 Alimenta'!D:D),SUMIF('00 Alimenta'!$A:$A,$B315,'00 Alimenta'!D:D)*-1)","v":9121759.0600000005},{"$f":"IF('00 Aggregatore'!$D315=\"R\",SUMIF('00 Alimenta'!$A:$A,$B315,'00 Alimenta'!E:E),SUMIF('00 Alimenta'!$A:$A,$B315,'00 Alimenta'!E:E)*-1)","v":8820511.5299999993}]
["BC","BA2480","B.8.B.2) Costo del personale comparto ruolo amministrativo - tempo determinato","C",{"$f":"IF('00 Aggregatore'!$D316=\"R\",SUMIF('00 Alimenta'!$A:$A,$B316,'00 Alimenta'!D:D),SUMIF('00 Alimenta'!$A:$A,$B316,'00 Alimenta'!D:D)*-1)","v":37487.29},{"$f":"IF('00 Aggregatore'!$D316=\"R\",SUMIF('00 Alimenta'!$A:$A,$B316,'00 Alimenta'!E:E),SUMIF('00 Alimenta'!$A:$A,$B316,'00 Alimenta'!E:E)*-1)","v":103573.26}]
["BC","BA2490","B.8.B.3) Costo del personale comparto ruolo amministrativo - altro","C",{"$f":"IF('00 Aggregatore'!$D317=\"R\",SUMIF('00 Alimenta'!$A:$A,$B317,'00 Alimenta'!D:D),SUMIF('00 Alimenta'!$A:$A,$B317,'00 Alimenta'!D:D)*-1)","v":0},{"$f":"IF('00 Aggregatore'!$D317=\"R\",SUMIF('00 Alimenta'!$A:$A,$B317,'00 Alimenta'!E:E),SUMIF('00 Alimenta'!$A:$A,$B317,'00 Alimenta'!E:E)*-1)","v":0}]
["BC","BA2510","B.9.A)  Imposte e tasse (escluso IRAP e IRES)","C",{"$f":"IF('00 Aggregatore'!$D318=\"R\",SUMIF('00 Alimenta'!$A:$A,$B318,'00 Alimenta'!D:D),SUMIF('00 Alimenta'!$A:$A,$B318,'00 Alimenta'!D:D)*-1)","v":1247157.1599999999},{"$f":"IF('00 Aggregatore'!$D318=\"R\",SUMIF('00 Alimenta'!$A:$A,$B318,'00 Alimenta'!E:E),SUMIF('00 Alimenta'!$A:$A,$B318,'00 Alimenta'!E:E)*-1)","v":1146250.02}]
["BC","BA2520","B.9.B)  Perdite su crediti","C",{"$f":"IF('00 Aggregatore'!$D319=\"R\",SUMIF('00 Alimenta'!$A:$A,$B319,'00 Alimenta'!D:D),SUMIF('00 Alimenta'!$A:$A,$B319,'00 Alimenta'!D:D)*-1)","v":0},{"$f":"IF('00 Aggregatore'!$D319=\"R\",SUMIF('00 Alimenta'!$A:$A,$B319,'00 Alimenta'!E:E),SUMIF('00 Alimenta'!$A:$A,$B319,'00 Alimenta'!E:E)*-1)","v":0}]
["BC","BA2540","B.9.C.1)  Indennità, rimborso spese e oneri sociali per gli Organi Direttivi e Collegio Sindacale","C",{"$f":"IF('00 Aggregatore'!$D320=\"R\",SUMIF('00 Alimenta'!$A:$A,$B320,'00 Alimenta'!D:D),SUMIF('00 Alimenta'!$A:$A,$B320,'00 Alimenta'!D:D)*-1)","v":1338906.02},{"$f":"IF('00 Aggregatore'!$D320=\"R\",SUMIF('00 Alimenta'!$A:$A,$B320,'00 Alimenta'!E:E),SUMIF('00 Alimenta'!$A:$A,$B320,'00 Alimenta'!E:E)*-1)","v":1360331.84}]
["BC","BA2550","B.9.C.2)  Altri oneri diversi di gestione","C",{"$f":"IF('00 Aggregatore'!$D321=\"R\",SUMIF('00 Alimenta'!$A:$A,$B321,'00 Alimenta'!D:D),SUMIF('00 Alimenta'!$A:$A,$B321,'00 Alimenta'!D:D)*-1)","v":251935.31999999998},{"$f":"IF('00 Aggregatore'!$D321=\"R\",SUMIF('00 Alimenta'!$A:$A,$B321,'00 Alimenta'!E:E),SUMIF('00 Alimenta'!$A:$A,$B321,'00 Alimenta'!E:E)*-1)","v":339768.47}]
["BC","BA2570","B.10) Ammortamenti delle immobilizzazioni immateriali","C",{"$f":"IF('00 Aggregatore'!$D322=\"R\",SUMIF('00 Alimenta'!$A:$A,$B322,'00 Alimenta'!D:D),SUMIF('00 Alimenta'!$A:$A,$B322,'00 Alimenta'!D:D)*-1)","v":160938.81},{"$f":"IF('00 Aggregatore'!$D322=\"R\",SUMIF('00 Alimenta'!$A:$A,$B322,'00 Alimenta'!E:E),SUMIF('00 Alimenta'!$A:$A,$B322,'00 Alimenta'!E:E)*-1)","v":155437.62}]
["BC","BA2600","B.11.A.1) Ammortamenti fabbricati non strumentali (disponibili)","C",{"$f":"IF('00 Aggregatore'!$D323=\"R\",SUMIF('00 Alimenta'!$A:$A,$B323,'00 Alimenta'!D:D),SUMIF('00 Alimenta'!$A:$A,$B323,'00 Alimenta'!D:D)*-1)","v":0},{"$f":"IF('00 Aggregatore'!$D323=\"R\",SUMIF('00 Alimenta'!$A:$A,$B323,'00 Alimenta'!E:E),SUMIF('00 Alimenta'!$A:$A,$B323,'00 Alimenta'!E:E)*-1)","v":0}]
["BC","BA2610","B.11.A.2) Ammortamenti fabbricati strumentali (indisponibili)","C",{"$f":"IF('00 Aggregatore'!$D324=\"R\",SUMIF('00 Alimenta'!$A:$A,$B324,'00 Alimenta'!D:D),SUMIF('00 Alimenta'!$A:$A,$B324,'00 Alimenta'!D:D)*-1)","v":4970458.6100000003},{"$f":"IF('00 Aggregatore'!$D324=\"R\",SUMIF('00 Alimenta'!$A:$A,$B324,'00 Alimenta'!E:E),SUMIF('00 Alimenta'!$A:$A,$B324,'00 Alimenta'!E:E)*-1)","v":5032903.95}]
["BC","BA2620","B.11.B) Ammortamenti delle altre immobilizzazioni materiali","C",{"$f":"IF('00 Aggregatore'!$D325=\"R\",SUMIF('00 Alimenta'!$A:$A,$B325,'00 Alimenta'!D:D),SUMIF('00 Alimenta'!$A:$A,$B325,'00 Alimenta'!D:D)*-1)","v":5750040.4199999999},{"$f":"IF('00 Aggregatore'!$D325=\"R\",SUMIF('00 Alimenta'!$A:$A,$B325,'00 Alimenta'!E:E),SUMIF('00 Alimenta'!$A:$A,$B325,'00 Alimenta'!E:E)*-1)","v":5883847.7700000005}]
[{"$f":"LEFT(B326,1)&D326","v":"BC"},"BA2640","B.12.A) Svalutazione delle immobilizzazioni immateriali e materiali","C",{"$f":"IF('00 Aggregatore'!$D326=\"R\",SUMIF('00 Alimenta'!$A:$A,$B326,'00 Alimenta'!D:D),SUMIF('00 Alimenta'!$A:$A,$B326,'00 Alimenta'!D:D)*-1)","v":0},{"$f":"IF('00 Aggregatore'!$D326=\"R\",SUMIF('00 Alimenta'!$A:$A,$B326,'00 Alimenta'!E:E),SUMIF('00 Alimenta'!$A:$A,$B326,'00 Alimenta'!E:E)*-1)","v":0}]
["BC","BA2650","B.12.B) Svalutazione dei crediti","C",{"$f":"IF('00 Aggregatore'!$D327=\"R\",SUMIF('00 Alimenta'!$A:$A,$B327,'00 Alimenta'!D:D),SUMIF('00 Alimenta'!$A:$A,$B327,'00 Alimenta'!D:D)*-1)","v":0},{"$f":"IF('00 Aggregatore'!$D327=\"R\",SUMIF('00 Alimenta'!$A:$A,$B327,'00 Alimenta'!E:E),SUMIF('00 Alimenta'!$A:$A,$B327,'00 Alimenta'!E:E)*-1)","v":0}]
["BC","BA2671","B.13.A.1) Prodotti farmaceutici ed emoderivati","C",{"$f":"IF('00 Aggregatore'!$D328=\"R\",SUMIF('00 Alimenta'!$A:$A,$B328,'00 Alimenta'!D:D),SUMIF('00 Alimenta'!$A:$A,$B328,'00 Alimenta'!D:D)*-1)","v":-4223772.2200000007},{"$f":"IF('00 Aggregatore'!$D328=\"R\",SUMIF('00 Alimenta'!$A:$A,$B328,'00 Alimenta'!E:E),SUMIF('00 Alimenta'!$A:$A,$B328,'00 Alimenta'!E:E)*-1)","v":1121269.5500000005}]
["BC","BA2672","B.13.A.2) Sangue ed emocomponenti","C",{"$f":"IF('00 Aggregatore'!$D329=\"R\",SUMIF('00 Alimenta'!$A:$A,$B329,'00 Alimenta'!D:D),SUMIF('00 Alimenta'!$A:$A,$B329,'00 Alimenta'!D:D)*-1)","v":0},{"$f":"IF('00 Aggregatore'!$D329=\"R\",SUMIF('00 Alimenta'!$A:$A,$B329,'00 Alimenta'!E:E),SUMIF('00 Alimenta'!$A:$A,$B329,'00 Alimenta'!E:E)*-1)","v":0}]
["BC","BA2673","B.13.A.3) Dispositivi medici","C",{"$f":"IF('00 Aggregatore'!$D330=\"R\",SUMIF('00 Alimenta'!$A:$A,$B330,'00 Alimenta'!D:D),SUMIF('00 Alimenta'!$A:$A,$B330,'00 Alimenta'!D:D)*-1)","v":1194882.1699999988},{"$f":"IF('00 Aggregatore'!$D330=\"R\",SUMIF('00 Alimenta'!$A:$A,$B330,'00 Alimenta'!E:E),SUMIF('00 Alimenta'!$A:$A,$B330,'00 Alimenta'!E:E)*-1)","v":1433650.5700000008}]
["BC","BA2674","B.13.A.4) Prodotti dietetici","C",{"$f":"IF('00 Aggregatore'!$D331=\"R\",SUMIF('00 Alimenta'!$A:$A,$B331,'00 Alimenta'!D:D),SUMIF('00 Alimenta'!$A:$A,$B331,'00 Alimenta'!D:D)*-1)","v":-60796.87},{"$f":"IF('00 Aggregatore'!$D331=\"R\",SUMIF('00 Alimenta'!$A:$A,$B331,'00 Alimenta'!E:E),SUMIF('00 Alimenta'!$A:$A,$B331,'00 Alimenta'!E:E)*-1)","v":-59825.45}]
["BC","BA2675","B.13.A.5) Materiali per la profilassi (vaccini)","C",{"$f":"IF('00 Aggregatore'!$D332=\"R\",SUMIF('00 Alimenta'!$A:$A,$B332,'00 Alimenta'!D:D),SUMIF('00 Alimenta'!$A:$A,$B332,'00 Alimenta'!D:D)*-1)","v":-1743.9399999999998},{"$f":"IF('00 Aggregatore'!$D332=\"R\",SUMIF('00 Alimenta'!$A:$A,$B332,'00 Alimenta'!E:E),SUMIF('00 Alimenta'!$A:$A,$B332,'00 Alimenta'!E:E)*-1)","v":2856.7}]
["BC","BA2676","B.13.A.6) Prodotti chimici","C",{"$f":"IF('00 Aggregatore'!$D333=\"R\",SUMIF('00 Alimenta'!$A:$A,$B333,'00 Alimenta'!D:D),SUMIF('00 Alimenta'!$A:$A,$B333,'00 Alimenta'!D:D)*-1)","v":0},{"$f":"IF('00 Aggregatore'!$D333=\"R\",SUMIF('00 Alimenta'!$A:$A,$B333,'00 Alimenta'!E:E),SUMIF('00 Alimenta'!$A:$A,$B333,'00 Alimenta'!E:E)*-1)","v":0}]
["BC","BA2677","B.13.A.7)  Materiali e prodotti per uso veterinario","C",{"$f":"IF('00 Aggregatore'!$D334=\"R\",SUMIF('00 Alimenta'!$A:$A,$B334,'00 Alimenta'!D:D),SUMIF('00 Alimenta'!$A:$A,$B334,'00 Alimenta'!D:D)*-1)","v":-109094.08},{"$f":"IF('00 Aggregatore'!$D334=\"R\",SUMIF('00 Alimenta'!$A:$A,$B334,'00 Alimenta'!E:E),SUMIF('00 Alimenta'!$A:$A,$B334,'00 Alimenta'!E:E)*-1)","v":-96747.28}]
["BC","BA2678","B.13.A.8)  Altri beni e prodotti sanitari","C",{"$f":"IF('00 Aggregatore'!$D335=\"R\",SUMIF('00 Alimenta'!$A:$A,$B335,'00 Alimenta'!D:D),SUMIF('00 Alimenta'!$A:$A,$B335,'00 Alimenta'!D:D)*-1)","v":-1922975.3300000005},{"$f":"IF('00 Aggregatore'!$D335=\"R\",SUMIF('00 Alimenta'!$A:$A,$B335,'00 Alimenta'!E:E),SUMIF('00 Alimenta'!$A:$A,$B335,'00 Alimenta'!E:E)*-1)","v":-2036630.5100000002}]
["BC","BA2681","B.13.B.1) Prodotti alimentari","C",{"$f":"IF('00 Aggregatore'!$D336=\"R\",SUMIF('00 Alimenta'!$A:$A,$B336,'00 Alimenta'!D:D),SUMIF('00 Alimenta'!$A:$A,$B336,'00 Alimenta'!D:D)*-1)","v":0},{"$f":"IF('00 Aggregatore'!$D336=\"R\",SUMIF('00 Alimenta'!$A:$A,$B336,'00 Alimenta'!E:E),SUMIF('00 Alimenta'!$A:$A,$B336,'00 Alimenta'!E:E)*-1)","v":0}]
["BC","BA2682","B.13.B.2) Materiali di guardaroba, di pulizia, e di convivenza in genere","C",{"$f":"IF('00 Aggregatore'!$D337=\"R\",SUMIF('00 Alimenta'!$A:$A,$B337,'00 Alimenta'!D:D),SUMIF('00 Alimenta'!$A:$A,$B337,'00 Alimenta'!D:D)*-1)","v":223.03999999999724},{"$f":"IF('00 Aggregatore'!$D337=\"R\",SUMIF('00 Alimenta'!$A:$A,$B337,'00 Alimenta'!E:E),SUMIF('00 Alimenta'!$A:$A,$B337,'00 Alimenta'!E:E)*-1)","v":-840.34999999999854}]
["BC","BA2683","B.13.B.3) Combustibili, carburanti e lubrificanti","C",{"$f":"IF('00 Aggregatore'!$D338=\"R\",SUMIF('00 Alimenta'!$A:$A,$B338,'00 Alimenta'!D:D),SUMIF('00 Alimenta'!$A:$A,$B338,'00 Alimenta'!D:D)*-1)","v":0},{"$f":"IF('00 Aggregatore'!$D338=\"R\",SUMIF('00 Alimenta'!$A:$A,$B338,'00 Alimenta'!E:E),SUMIF('00 Alimenta'!$A:$A,$B338,'00 Alimenta'!E:E)*-1)","v":0}]
["BC","BA2684","B.13.B.4) Supporti informatici e cancelleria","C",{"$f":"IF('00 Aggregatore'!$D339=\"R\",SUMIF('00 Alimenta'!$A:$A,$B339,'00 Alimenta'!D:D),SUMIF('00 Alimenta'!$A:$A,$B339,'00 Alimenta'!D:D)*-1)","v":152733.92000000001},{"$f":"IF('00 Aggregatore'!$D339=\"R\",SUMIF('00 Alimenta'!$A:$A,$B339,'00 Alimenta'!E:E),SUMIF('00 Alimenta'!$A:$A,$B339,'00 Alimenta'!E:E)*-1)","v":-15700.220000000001}]
["BC","BA2685","B.13.B.5) Materiale per la manutenzione","C",{"$f":"IF('00 Aggregatore'!$D340=\"R\",SUMIF('00 Alimenta'!$A:$A,$B340,'00 Alimenta'!D:D),SUMIF('00 Alimenta'!$A:$A,$B340,'00 Alimenta'!D:D)*-1)","v":-41185.560000000012},{"$f":"IF('00 Aggregatore'!$D340=\"R\",SUMIF('00 Alimenta'!$A:$A,$B340,'00 Alimenta'!E:E),SUMIF('00 Alimenta'!$A:$A,$B340,'00 Alimenta'!E:E)*-1)","v":137019.65}]
["BC","BA2686","B.13.B.6) Altri beni e prodotti non sanitari","C",{"$f":"IF('00 Aggregatore'!$D341=\"R\",SUMIF('00 Alimenta'!$A:$A,$B341,'00 Alimenta'!D:D),SUMIF('00 Alimenta'!$A:$A,$B341,'00 Alimenta'!D:D)*-1)","v":727.31},{"$f":"IF('00 Aggregatore'!$D341=\"R\",SUMIF('00 Alimenta'!$A:$A,$B341,'00 Alimenta'!E:E),SUMIF('00 Alimenta'!$A:$A,$B341,'00 Alimenta'!E:E)*-1)","v":-655.53}]
["BC","BA2710","B.14.A.1)  Accantonamenti per cause civili ed oneri processuali","C",{"$f":"IF('00 Aggregatore'!$D342=\"R\",SUMIF('00 Alimenta'!$A:$A,$B342,'00 Alimenta'!D:D),SUMIF('00 Alimenta'!$A:$A,$B342,'00 Alimenta'!D:D)*-1)","v":1357811.38},{"$f":"IF('00 Aggregatore'!$D342=\"R\",SUMIF('00 Alimenta'!$A:$A,$B342,'00 Alimenta'!E:E),SUMIF('00 Alimenta'!$A:$A,$B342,'00 Alimenta'!E:E)*-1)","v":6378882.71}]
["BC","BA2720","B.14.A.2)  Accantonamenti per contenzioso personale dipendente","C",{"$f":"IF('00 Aggregatore'!$D343=\"R\",SUMIF('00 Alimenta'!$A:$A,$B343,'00 Alimenta'!D:D),SUMIF('00 Alimenta'!$A:$A,$B343,'00 Alimenta'!D:D)*-1)","v":0},{"$f":"IF('00 Aggregatore'!$D343=\"R\",SUMIF('00 Alimenta'!$A:$A,$B343,'00 Alimenta'!E:E),SUMIF('00 Alimenta'!$A:$A,$B343,'00 Alimenta'!E:E)*-1)","v":811978.17}]
["BC","BA2730","B.14.A.3)  Accantonamenti per rischi connessi all'acquisto di prestazioni sanitarie da privato","C",{"$f":"IF('00 Aggregatore'!$D344=\"R\",SUMIF('00 Alimenta'!$A:$A,$B344,'00 Alimenta'!D:D),SUMIF('00 Alimenta'!$A:$A,$B344,'00 Alimenta'!D:D)*-1)","v":272176.8},{"$f":"IF('00 Aggregatore'!$D344=\"R\",SUMIF('00 Alimenta'!$A:$A,$B344,'00 Alimenta'!E:E),SUMIF('00 Alimenta'!$A:$A,$B344,'00 Alimenta'!E:E)*-1)","v":1823614}]
["BC","BA2740","B.14.A.4)  Accantonamenti per copertura diretta dei rischi (autoassicurazione)","C",{"$f":"IF('00 Aggregatore'!$D345=\"R\",SUMIF('00 Alimenta'!$A:$A,$B345,'00 Alimenta'!D:D),SUMIF('00 Alimenta'!$A:$A,$B345,'00 Alimenta'!D:D)*-1)","v":2297725.7799999998},{"$f":"IF('00 Aggregatore'!$D345=\"R\",SUMIF('00 Alimenta'!$A:$A,$B345,'00 Alimenta'!E:E),SUMIF('00 Alimenta'!$A:$A,$B345,'00 Alimenta'!E:E)*-1)","v":0}]
["BC","BA2741","B.14.A.5) Accantonamenti per franchigia assicurativa","C",{"$f":"IF('00 Aggregatore'!$D346=\"R\",SUMIF('00 Alimenta'!$A:$A,$B346,'00 Alimenta'!D:D),SUMIF('00 Alimenta'!$A:$A,$B346,'00 Alimenta'!D:D)*-1)","v":0},{"$f":"IF('00 Aggregatore'!$D346=\"R\",SUMIF('00 Alimenta'!$A:$A,$B346,'00 Alimenta'!E:E),SUMIF('00 Alimenta'!$A:$A,$B346,'00 Alimenta'!E:E)*-1)","v":4897037.83}]
["BC","BA2750","B.14.A.6)  Altri accantonamenti per rischi","C",{"$f":"IF('00 Aggregatore'!$D347=\"R\",SUMIF('00 Alimenta'!$A:$A,$B347,'00 Alimenta'!D:D),SUMIF('00 Alimenta'!$A:$A,$B347,'00 Alimenta'!D:D)*-1)","v":0},{"$f":"IF('00 Aggregatore'!$D347=\"R\",SUMIF('00 Alimenta'!$A:$A,$B347,'00 Alimenta'!E:E),SUMIF('00 Alimenta'!$A:$A,$B347,'00 Alimenta'!E:E)*-1)","v":0}]
["BC","BA2751","B.14.A.7)  Accantonamenti per interessi di mora","C",{"$f":"IF('00 Aggregatore'!$D348=\"R\",SUMIF('00 Alimenta'!$A:$A,$B348,'00 Alimenta'!D:D),SUMIF('00 Alimenta'!$A:$A,$B348,'00 Alimenta'!D:D)*-1)","v":0},{"$f":"IF('00 Aggregatore'!$D348=\"R\",SUMIF('00 Alimenta'!$A:$A,$B348,'00 Alimenta'!E:E),SUMIF('00 Alimenta'!$A:$A,$B348,'00 Alimenta'!E:E)*-1)","v":0}]
["BC","BA2751","B.14.A.7)  Accantonamenti per interessi di mora","C",{"$f":"IF('00 Aggregatore'!$D349=\"R\",SUMIF('00 Alimenta'!$A:$A,$B349,'00 Alimenta'!D:D),SUMIF('00 Alimenta'!$A:$A,$B349,'00 Alimenta'!D:D)*-1)","v":0},{"$f":"IF('00 Aggregatore'!$D349=\"R\",SUMIF('00 Alimenta'!$A:$A,$B349,'00 Alimenta'!E:E),SUMIF('00 Alimenta'!$A:$A,$B349,'00 Alimenta'!E:E)*-1)","v":0}]
["BC","BA2760","B.14.B) Accantonamenti per premio di operosità (SUMAI)","C",{"$f":"IF('00 Aggregatore'!$D350=\"R\",SUMIF('00 Alimenta'!$A:$A,$B350,'00 Alimenta'!D:D),SUMIF('00 Alimenta'!$A:$A,$B350,'00 Alimenta'!D:D)*-1)","v":264664.11},{"$f":"IF('00 Aggregatore'!$D350=\"R\",SUMIF('00 Alimenta'!$A:$A,$B350,'00 Alimenta'!E:E),SUMIF('00 Alimenta'!$A:$A,$B350,'00 Alimenta'!E:E)*-1)","v":277851.92}]
["BC","BA2771","B.14.C.1)  Accantonamenti per quote inutilizzate contributi da Regione e Prov. Aut. per quota F.S. indistinto finalizzato","C",{"$f":"IF('00 Aggregatore'!$D351=\"R\",SUMIF('00 Alimenta'!$A:$A,$B351,'00 Alimenta'!D:D),SUMIF('00 Alimenta'!$A:$A,$B351,'00 Alimenta'!D:D)*-1)","v":0},{"$f":"IF('00 Aggregatore'!$D351=\"R\",SUMIF('00 Alimenta'!$A:$A,$B351,'00 Alimenta'!E:E),SUMIF('00 Alimenta'!$A:$A,$B351,'00 Alimenta'!E:E)*-1)","v":0}]
["BC","BA2780","B.14.C.2)  Accantonamenti per quote inutilizzate contributi da Regione e Prov. Aut. per quota F.S. vincolato","C",{"$f":"IF('00 Aggregatore'!$D352=\"R\",SUMIF('00 Alimenta'!$A:$A,$B352,'00 Alimenta'!D:D),SUMIF('00 Alimenta'!$A:$A,$B352,'00 Alimenta'!D:D)*-1)","v":7216729.6299999999},{"$f":"IF('00 Aggregatore'!$D352=\"R\",SUMIF('00 Alimenta'!$A:$A,$B352,'00 Alimenta'!E:E),SUMIF('00 Alimenta'!$A:$A,$B352,'00 Alimenta'!E:E)*-1)","v":5204388.66}]
["BC","BA2790","B.14.C.3)  Accantonamenti per quote inutilizzate contributi da soggetti pubblici (extra fondo) vincolati","C",{"$f":"IF('00 Aggregatore'!$D353=\"R\",SUMIF('00 Alimenta'!$A:$A,$B353,'00 Alimenta'!D:D),SUMIF('00 Alimenta'!$A:$A,$B353,'00 Alimenta'!D:D)*-1)","v":53105.86},{"$f":"IF('00 Aggregatore'!$D353=\"R\",SUMIF('00 Alimenta'!$A:$A,$B353,'00 Alimenta'!E:E),SUMIF('00 Alimenta'!$A:$A,$B353,'00 Alimenta'!E:E)*-1)","v":0}]
["BC","BA2800","B.14.C.4)  Accantonamenti per quote inutilizzate contributi da soggetti pubblici per ricerca","C",{"$f":"IF('00 Aggregatore'!$D354=\"R\",SUMIF('00 Alimenta'!$A:$A,$B354,'00 Alimenta'!D:D),SUMIF('00 Alimenta'!$A:$A,$B354,'00 Alimenta'!D:D)*-1)","v":0},{"$f":"IF('00 Aggregatore'!$D354=\"R\",SUMIF('00 Alimenta'!$A:$A,$B354,'00 Alimenta'!E:E),SUMIF('00 Alimenta'!$A:$A,$B354,'00 Alimenta'!E:E)*-1)","v":0}]
["BC","BA2810","B.14.C.5)  Accantonamenti per quote inutilizzate contributi vincolati da privati","C",{"$f":"IF('00 Aggregatore'!$D355=\"R\",SUMIF('00 Alimenta'!$A:$A,$B355,'00 Alimenta'!D:D),SUMIF('00 Alimenta'!$A:$A,$B355,'00 Alimenta'!D:D)*-1)","v":0},{"$f":"IF('00 Aggregatore'!$D355=\"R\",SUMIF('00 Alimenta'!$A:$A,$B355,'00 Alimenta'!E:E),SUMIF('00 Alimenta'!$A:$A,$B355,'00 Alimenta'!E:E)*-1)","v":0}]
["BC","BA2811","B.14.C.6)  Accantonamenti per quote inutilizzate contributi da soggetti privati per ricerca","C",{"$f":"IF('00 Aggregatore'!$D356=\"R\",SUMIF('00 Alimenta'!$A:$A,$B356,'00 Alimenta'!D:D),SUMIF('00 Alimenta'!$A:$A,$B356,'00 Alimenta'!D:D)*-1)","v":0},{"$f":"IF('00 Aggregatore'!$D356=\"R\",SUMIF('00 Alimenta'!$A:$A,$B356,'00 Alimenta'!E:E),SUMIF('00 Alimenta'!$A:$A,$B356,'00 Alimenta'!E:E)*-1)","v":0}]
["BC","BA2840","B.14.D.1)  Acc. Rinnovi convenzioni MMG/PLS/MCA","C",{"$f":"IF('00 Aggregatore'!$D357=\"R\",SUMIF('00 Alimenta'!$A:$A,$B357,'00 Alimenta'!D:D),SUMIF('00 Alimenta'!$A:$A,$B357,'00 Alimenta'!D:D)*-1)","v":1507157},{"$f":"IF('00 Aggregatore'!$D357=\"R\",SUMIF('00 Alimenta'!$A:$A,$B357,'00 Alimenta'!E:E),SUMIF('00 Alimenta'!$A:$A,$B357,'00 Alimenta'!E:E)*-1)","v":1990220}]
["BC","BA2850","B.14.D.2)  Acc. Rinnovi convenzioni Medici Sumai","C",{"$f":"IF('00 Aggregatore'!$D358=\"R\",SUMIF('00 Alimenta'!$A:$A,$B358,'00 Alimenta'!D:D),SUMIF('00 Alimenta'!$A:$A,$B358,'00 Alimenta'!D:D)*-1)","v":200998},{"$f":"IF('00 Aggregatore'!$D358=\"R\",SUMIF('00 Alimenta'!$A:$A,$B358,'00 Alimenta'!E:E),SUMIF('00 Alimenta'!$A:$A,$B358,'00 Alimenta'!E:E)*-1)","v":261948}]
["BC","BA2860","B.14.D.3)  Acc. Rinnovi contratt.: dirigenza medica","C",{"$f":"IF('00 Aggregatore'!$D359=\"R\",SUMIF('00 Alimenta'!$A:$A,$B359,'00 Alimenta'!D:D),SUMIF('00 Alimenta'!$A:$A,$B359,'00 Alimenta'!D:D)*-1)","v":2419388},{"$f":"IF('00 Aggregatore'!$D359=\"R\",SUMIF('00 Alimenta'!$A:$A,$B359,'00 Alimenta'!E:E),SUMIF('00 Alimenta'!$A:$A,$B359,'00 Alimenta'!E:E)*-1)","v":579101.55000000005}]
["BC","BA2870","B.14.D.4)  Acc. Rinnovi contratt.: dirigenza non medica","C",{"$f":"IF('00 Aggregatore'!$D360=\"R\",SUMIF('00 Alimenta'!$A:$A,$B360,'00 Alimenta'!D:D),SUMIF('00 Alimenta'!$A:$A,$B360,'00 Alimenta'!D:D)*-1)","v":239284},{"$f":"IF('00 Aggregatore'!$D360=\"R\",SUMIF('00 Alimenta'!$A:$A,$B360,'00 Alimenta'!E:E),SUMIF('00 Alimenta'!$A:$A,$B360,'00 Alimenta'!E:E)*-1)","v":119552}]
["BC","BA2880","B.14.D.5)  Acc. Rinnovi contratt.: comparto","C",{"$f":"IF('00 Aggregatore'!$D361=\"R\",SUMIF('00 Alimenta'!$A:$A,$B361,'00 Alimenta'!D:D),SUMIF('00 Alimenta'!$A:$A,$B361,'00 Alimenta'!D:D)*-1)","v":0},{"$f":"IF('00 Aggregatore'!$D361=\"R\",SUMIF('00 Alimenta'!$A:$A,$B361,'00 Alimenta'!E:E),SUMIF('00 Alimenta'!$A:$A,$B361,'00 Alimenta'!E:E)*-1)","v":121658}]
["BC","BA2881","B.14.D.6)  Acc. per Trattamento di fine rapporto dipendenti","C",{"$f":"IF('00 Aggregatore'!$D362=\"R\",SUMIF('00 Alimenta'!$A:$A,$B362,'00 Alimenta'!D:D),SUMIF('00 Alimenta'!$A:$A,$B362,'00 Alimenta'!D:D)*-1)","v":0},{"$f":"IF('00 Aggregatore'!$D362=\"R\",SUMIF('00 Alimenta'!$A:$A,$B362,'00 Alimenta'!E:E),SUMIF('00 Alimenta'!$A:$A,$B362,'00 Alimenta'!E:E)*-1)","v":0}]
["BC","BA2882","B.14.D.7)  Acc. per Trattamenti di quiescenza e simili","C",{"$f":"IF('00 Aggregatore'!$D363=\"R\",SUMIF('00 Alimenta'!$A:$A,$B363,'00 Alimenta'!D:D),SUMIF('00 Alimenta'!$A:$A,$B363,'00 Alimenta'!D:D)*-1)","v":0},{"$f":"IF('00 Aggregatore'!$D363=\"R\",SUMIF('00 Alimenta'!$A:$A,$B363,'00 Alimenta'!E:E),SUMIF('00 Alimenta'!$A:$A,$B363,'00 Alimenta'!E:E)*-1)","v":0}]
["BC","BA2883","B.14.D.8)  Acc. per Fondi integrativi pensione","C",{"$f":"IF('00 Aggregatore'!$D364=\"R\",SUMIF('00 Alimenta'!$A:$A,$B364,'00 Alimenta'!D:D),SUMIF('00 Alimenta'!$A:$A,$B364,'00 Alimenta'!D:D)*-1)","v":0},{"$f":"IF('00 Aggregatore'!$D364=\"R\",SUMIF('00 Alimenta'!$A:$A,$B364,'00 Alimenta'!E:E),SUMIF('00 Alimenta'!$A:$A,$B364,'00 Alimenta'!E:E)*-1)","v":0}]
["BC","BA2884","B.14.D.9)  Acc. Incentivi funzioni tecniche art. 113 D.lgs 50/2016","C",{"$f":"IF('00 Aggregatore'!$D365=\"R\",SUMIF('00 Alimenta'!$A:$A,$B365,'00 Alimenta'!D:D),SUMIF('00 Alimenta'!$A:$A,$B365,'00 Alimenta'!D:D)*-1)","v":0},{"$f":"IF('00 Aggregatore'!$D365=\"R\",SUMIF('00 Alimenta'!$A:$A,$B365,'00 Alimenta'!E:E),SUMIF('00 Alimenta'!$A:$A,$B365,'00 Alimenta'!E:E)*-1)","v":0}]
["BC","BA2890","B.14.D.10) Altri accantonamenti","C",{"$f":"IF('00 Aggregatore'!$D366=\"R\",SUMIF('00 Alimenta'!$A:$A,$B366,'00 Alimenta'!D:D),SUMIF('00 Alimenta'!$A:$A,$B366,'00 Alimenta'!D:D)*-1)","v":2400000},{"$f":"IF('00 Aggregatore'!$D366=\"R\",SUMIF('00 Alimenta'!$A:$A,$B366,'00 Alimenta'!E:E),SUMIF('00 Alimenta'!$A:$A,$B366,'00 Alimenta'!E:E)*-1)","v":0}]
["CR","CA0020","C.1.A) Interessi attivi su c/tesoreria unica","R",{"$f":"IF('00 Aggregatore'!$D367=\"R\",SUMIF('00 Alimenta'!$A:$A,$B367,'00 Alimenta'!D:D),SUMIF('00 Alimenta'!$A:$A,$B367,'00 Alimenta'!D:D)*-1)","v":0},{"$f":"IF('00 Aggregatore'!$D367=\"R\",SUMIF('00 Alimenta'!$A:$A,$B367,'00 Alimenta'!E:E),SUMIF('00 Alimenta'!$A:$A,$B367,'00 Alimenta'!E:E)*-1)","v":0}]
["CR","CA0030","C.1.B) Interessi attivi su c/c postali e bancari","R",{"$f":"IF('00 Aggregatore'!$D368=\"R\",SUMIF('00 Alimenta'!$A:$A,$B368,'00 Alimenta'!D:D),SUMIF('00 Alimenta'!$A:$A,$B368,'00 Alimenta'!D:D)*-1)","v":1395.3},{"$f":"IF('00 Aggregatore'!$D368=\"R\",SUMIF('00 Alimenta'!$A:$A,$B368,'00 Alimenta'!E:E),SUMIF('00 Alimenta'!$A:$A,$B368,'00 Alimenta'!E:E)*-1)","v":0}]
["CR","CA0040","C.1.C) Altri interessi attivi","R",{"$f":"IF('00 Aggregatore'!$D369=\"R\",SUMIF('00 Alimenta'!$A:$A,$B369,'00 Alimenta'!D:D),SUMIF('00 Alimenta'!$A:$A,$B369,'00 Alimenta'!D:D)*-1)","v":0},{"$f":"IF('00 Aggregatore'!$D369=\"R\",SUMIF('00 Alimenta'!$A:$A,$B369,'00 Alimenta'!E:E),SUMIF('00 Alimenta'!$A:$A,$B369,'00 Alimenta'!E:E)*-1)","v":0}]
["CR","CA0060","C.2.A) Proventi da partecipazioni","R",{"$f":"IF('00 Aggregatore'!$D370=\"R\",SUMIF('00 Alimenta'!$A:$A,$B370,'00 Alimenta'!D:D),SUMIF('00 Alimenta'!$A:$A,$B370,'00 Alimenta'!D:D)*-1)","v":0},{"$f":"IF('00 Aggregatore'!$D370=\"R\",SUMIF('00 Alimenta'!$A:$A,$B370,'00 Alimenta'!E:E),SUMIF('00 Alimenta'!$A:$A,$B370,'00 Alimenta'!E:E)*-1)","v":0}]
["CR","CA0070","C.2.B) Proventi finanziari da crediti iscritti nelle immobilizzazioni","R",{"$f":"IF('00 Aggregatore'!$D371=\"R\",SUMIF('00 Alimenta'!$A:$A,$B371,'00 Alimenta'!D:D),SUMIF('00 Alimenta'!$A:$A,$B371,'00 Alimenta'!D:D)*-1)","v":0},{"$f":"IF('00 Aggregatore'!$D371=\"R\",SUMIF('00 Alimenta'!$A:$A,$B371,'00 Alimenta'!E:E),SUMIF('00 Alimenta'!$A:$A,$B371,'00 Alimenta'!E:E)*-1)","v":0}]
["CR","CA0080","C.2.C) Proventi finanziari da titoli iscritti nelle immobilizzazioni","R",{"$f":"IF('00 Aggregatore'!$D372=\"R\",SUMIF('00 Alimenta'!$A:$A,$B372,'00 Alimenta'!D:D),SUMIF('00 Alimenta'!$A:$A,$B372,'00 Alimenta'!D:D)*-1)","v":0},{"$f":"IF('00 Aggregatore'!$D372=\"R\",SUMIF('00 Alimenta'!$A:$A,$B372,'00 Alimenta'!E:E),SUMIF('00 Alimenta'!$A:$A,$B372,'00 Alimenta'!E:E)*-1)","v":0}]
["CR","CA0090","C.2.D) Altri proventi finanziari diversi dai precedenti","R",{"$f":"IF('00 Aggregatore'!$D373=\"R\",SUMIF('00 Alimenta'!$A:$A,$B373,'00 Alimenta'!D:D),SUMIF('00 Alimenta'!$A:$A,$B373,'00 Alimenta'!D:D)*-1)","v":0},{"$f":"IF('00 Aggregatore'!$D373=\"R\",SUMIF('00 Alimenta'!$A:$A,$B373,'00 Alimenta'!E:E),SUMIF('00 Alimenta'!$A:$A,$B373,'00 Alimenta'!E:E)*-1)","v":0}]
["CR","CA0100","C.2.E) Utili su cambi","R",{"$f":"IF('00 Aggregatore'!$D374=\"R\",SUMIF('00 Alimenta'!$A:$A,$B374,'00 Alimenta'!D:D),SUMIF('00 Alimenta'!$A:$A,$B374,'00 Alimenta'!D:D)*-1)","v":0},{"$f":"IF('00 Aggregatore'!$D374=\"R\",SUMIF('00 Alimenta'!$A:$A,$B374,'00 Alimenta'!E:E),SUMIF('00 Alimenta'!$A:$A,$B374,'00 Alimenta'!E:E)*-1)","v":0}]
["CC","CA0120","C.3.A) Interessi passivi su anticipazioni di cassa","C",{"$f":"IF('00 Aggregatore'!$D375=\"R\",SUMIF('00 Alimenta'!$A:$A,$B375,'00 Alimenta'!D:D),SUMIF('00 Alimenta'!$A:$A,$B375,'00 Alimenta'!D:D)*-1)","v":0},{"$f":"IF('00 Aggregatore'!$D375=\"R\",SUMIF('00 Alimenta'!$A:$A,$B375,'00 Alimenta'!E:E),SUMIF('00 Alimenta'!$A:$A,$B375,'00 Alimenta'!E:E)*-1)","v":0}]
["CC","CA0130","C.3.B) Interessi passivi su mutui","C",{"$f":"IF('00 Aggregatore'!$D376=\"R\",SUMIF('00 Alimenta'!$A:$A,$B376,'00 Alimenta'!D:D),SUMIF('00 Alimenta'!$A:$A,$B376,'00 Alimenta'!D:D)*-1)","v":0},{"$f":"IF('00 Aggregatore'!$D376=\"R\",SUMIF('00 Alimenta'!$A:$A,$B376,'00 Alimenta'!E:E),SUMIF('00 Alimenta'!$A:$A,$B376,'00 Alimenta'!E:E)*-1)","v":0}]
["CC","CA0140","C.3.C) Altri interessi passivi","C",{"$f":"IF('00 Aggregatore'!$D377=\"R\",SUMIF('00 Alimenta'!$A:$A,$B377,'00 Alimenta'!D:D),SUMIF('00 Alimenta'!$A:$A,$B377,'00 Alimenta'!D:D)*-1)","v":1449403.09},{"$f":"IF('00 Aggregatore'!$D377=\"R\",SUMIF('00 Alimenta'!$A:$A,$B377,'00 Alimenta'!E:E),SUMIF('00 Alimenta'!$A:$A,$B377,'00 Alimenta'!E:E)*-1)","v":367752.63}]
["CC","CA0160","C.4.A) Altri oneri finanziari","C",{"$f":"IF('00 Aggregatore'!$D378=\"R\",SUMIF('00 Alimenta'!$A:$A,$B378,'00 Alimenta'!D:D),SUMIF('00 Alimenta'!$A:$A,$B378,'00 Alimenta'!D:D)*-1)","v":1932.36},{"$f":"IF('00 Aggregatore'!$D378=\"R\",SUMIF('00 Alimenta'!$A:$A,$B378,'00 Alimenta'!E:E),SUMIF('00 Alimenta'!$A:$A,$B378,'00 Alimenta'!E:E)*-1)","v":187.16}]
["CC","CA0170","C.4.B) Perdite su cambi","C",{"$f":"IF('00 Aggregatore'!$D379=\"R\",SUMIF('00 Alimenta'!$A:$A,$B379,'00 Alimenta'!D:D),SUMIF('00 Alimenta'!$A:$A,$B379,'00 Alimenta'!D:D)*-1)","v":0},{"$f":"IF('00 Aggregatore'!$D379=\"R\",SUMIF('00 Alimenta'!$A:$A,$B379,'00 Alimenta'!E:E),SUMIF('00 Alimenta'!$A:$A,$B379,'00 Alimenta'!E:E)*-1)","v":0}]
["DR","DA0010","D.1)  Rivalutazioni","R",{"$f":"IF('00 Aggregatore'!$D380=\"R\",SUMIF('00 Alimenta'!$A:$A,$B380,'00 Alimenta'!D:D),SUMIF('00 Alimenta'!$A:$A,$B380,'00 Alimenta'!D:D)*-1)","v":0},{"$f":"IF('00 Aggregatore'!$D380=\"R\",SUMIF('00 Alimenta'!$A:$A,$B380,'00 Alimenta'!E:E),SUMIF('00 Alimenta'!$A:$A,$B380,'00 Alimenta'!E:E)*-1)","v":0}]
["DC","DA0020","D.2)  Svalutazioni","C",{"$f":"IF('00 Aggregatore'!$D381=\"R\",SUMIF('00 Alimenta'!$A:$A,$B381,'00 Alimenta'!D:D),SUMIF('00 Alimenta'!$A:$A,$B381,'00 Alimenta'!D:D)*-1)","v":0},{"$f":"IF('00 Aggregatore'!$D381=\"R\",SUMIF('00 Alimenta'!$A:$A,$B381,'00 Alimenta'!E:E),SUMIF('00 Alimenta'!$A:$A,$B381,'00 Alimenta'!E:E)*-1)","v":0}]
["ER","EA0020","E.1.A) Plusvalenze","R",{"$f":"IF('00 Aggregatore'!$D382=\"R\",SUMIF('00 Alimenta'!$A:$A,$B382,'00 Alimenta'!D:D),SUMIF('00 Alimenta'!$A:$A,$B382,'00 Alimenta'!D:D)*-1)","v":0},{"$f":"IF('00 Aggregatore'!$D382=\"R\",SUMIF('00 Alimenta'!$A:$A,$B382,'00 Alimenta'!E:E),SUMIF('00 Alimenta'!$A:$A,$B382,'00 Alimenta'!E:E)*-1)","v":0}]
["ER","EA0040","E.1.B.1) Proventi da donazioni e liberalità diverse","R",{"$f":"IF('00 Aggregatore'!$D383=\"R\",SUMIF('00 Alimenta'!$A:$A,$B383,'00 Alimenta'!D:D),SUMIF('00 Alimenta'!$A:$A,$B383,'00 Alimenta'!D:D)*-1)","v":0},{"$f":"IF('00 Aggregatore'!$D383=\"R\",SUMIF('00 Alimenta'!$A:$A,$B383,'00 Alimenta'!E:E),SUMIF('00 Alimenta'!$A:$A,$B383,'00 Alimenta'!E:E)*-1)","v":0}]
["ER","EA0051","E.1.B.2.1) Sopravvenienze attive per quote F.S. vincolato","R",{"$f":"IF('00 Aggregatore'!$D384=\"R\",SUMIF('00 Alimenta'!$A:$A,$B384,'00 Alimenta'!D:D),SUMIF('00 Alimenta'!$A:$A,$B384,'00 Alimenta'!D:D)*-1)","v":0},{"$f":"IF('00 Aggregatore'!$D384=\"R\",SUMIF('00 Alimenta'!$A:$A,$B384,'00 Alimenta'!E:E),SUMIF('00 Alimenta'!$A:$A,$B384,'00 Alimenta'!E:E)*-1)","v":0}]
["ER","EA0060","E.1.B.2.2) Sopravvenienze attive v/Aziende sanitarie pubbliche della Regione ","R",{"$f":"IF('00 Aggregatore'!$D385=\"R\",SUMIF('00 Alimenta'!$A:$A,$B385,'00 Alimenta'!D:D),SUMIF('00 Alimenta'!$A:$A,$B385,'00 Alimenta'!D:D)*-1)","v":3054055.48},{"$f":"IF('00 Aggregatore'!$D385=\"R\",SUMIF('00 Alimenta'!$A:$A,$B385,'00 Alimenta'!E:E),SUMIF('00 Alimenta'!$A:$A,$B385,'00 Alimenta'!E:E)*-1)","v":1398774.74}]
["ER","EA0080","E.1.B.2.3.A) Sopravvenienze attive v/terzi relative alla mobilità extraregionale","R",{"$f":"IF('00 Aggregatore'!$D386=\"R\",SUMIF('00 Alimenta'!$A:$A,$B386,'00 Alimenta'!D:D),SUMIF('00 Alimenta'!$A:$A,$B386,'00 Alimenta'!D:D)*-1)","v":0},{"$f":"IF('00 Aggregatore'!$D386=\"R\",SUMIF('00 Alimenta'!$A:$A,$B386,'00 Alimenta'!E:E),SUMIF('00 Alimenta'!$A:$A,$B386,'00 Alimenta'!E:E)*-1)","v":0}]
["ER","EA0090","E.1.B.2.3.B) Sopravvenienze attive v/terzi relative al personale","R",{"$f":"IF('00 Aggregatore'!$D387=\"R\",SUMIF('00 Alimenta'!$A:$A,$B387,'00 Alimenta'!D:D),SUMIF('00 Alimenta'!$A:$A,$B387,'00 Alimenta'!D:D)*-1)","v":0},{"$f":"IF('00 Aggregatore'!$D387=\"R\",SUMIF('00 Alimenta'!$A:$A,$B387,'00 Alimenta'!E:E),SUMIF('00 Alimenta'!$A:$A,$B387,'00 Alimenta'!E:E)*-1)","v":444.89}]
["ER","EA0100","E.1.B.2.3.C) Sopravvenienze attive v/terzi relative alle convenzioni con medici di base","R",{"$f":"IF('00 Aggregatore'!$D388=\"R\",SUMIF('00 Alimenta'!$A:$A,$B388,'00 Alimenta'!D:D),SUMIF('00 Alimenta'!$A:$A,$B388,'00 Alimenta'!D:D)*-1)","v":0},{"$f":"IF('00 Aggregatore'!$D388=\"R\",SUMIF('00 Alimenta'!$A:$A,$B388,'00 Alimenta'!E:E),SUMIF('00 Alimenta'!$A:$A,$B388,'00 Alimenta'!E:E)*-1)","v":0}]
["ER","EA0110","E.1.B.2.3.D) Sopravvenienze attive v/terzi relative alle convenzioni per la specialistica","R",{"$f":"IF('00 Aggregatore'!$D389=\"R\",SUMIF('00 Alimenta'!$A:$A,$B389,'00 Alimenta'!D:D),SUMIF('00 Alimenta'!$A:$A,$B389,'00 Alimenta'!D:D)*-1)","v":0},{"$f":"IF('00 Aggregatore'!$D389=\"R\",SUMIF('00 Alimenta'!$A:$A,$B389,'00 Alimenta'!E:E),SUMIF('00 Alimenta'!$A:$A,$B389,'00 Alimenta'!E:E)*-1)","v":1157.96}]
[{"$f":"LEFT(B390,1)&D390","v":"ER"},"EA0120","E.1.B.2.3.E) Sopravvenienze attive v/terzi relative all'acquisto prestaz. sanitarie da operatori accreditati","R",{"$f":"IF('00 Aggregatore'!$D390=\"R\",SUMIF('00 Alimenta'!$A:$A,$B390,'00 Alimenta'!D:D),SUMIF('00 Alimenta'!$A:$A,$B390,'00 Alimenta'!D:D)*-1)","v":2636094.7400000002},{"$f":"IF('00 Aggregatore'!$D390=\"R\",SUMIF('00 Alimenta'!$A:$A,$B390,'00 Alimenta'!E:E),SUMIF('00 Alimenta'!$A:$A,$B390,'00 Alimenta'!E:E)*-1)","v":1400536.99}]
["ER","EA0130","E.1.B.2.3.F) Sopravvenienze attive v/terzi relative all'acquisto di beni e servizi","R",{"$f":"IF('00 Aggregatore'!$D391=\"R\",SUMIF('00 Alimenta'!$A:$A,$B391,'00 Alimenta'!D:D),SUMIF('00 Alimenta'!$A:$A,$B391,'00 Alimenta'!D:D)*-1)","v":468853.64},{"$f":"IF('00 Aggregatore'!$D391=\"R\",SUMIF('00 Alimenta'!$A:$A,$B391,'00 Alimenta'!E:E),SUMIF('00 Alimenta'!$A:$A,$B391,'00 Alimenta'!E:E)*-1)","v":1839404.96}]
["ER","EA0140","E.1.B.2.3.G) Altre sopravvenienze attive v/terzi","R",{"$f":"IF('00 Aggregatore'!$D392=\"R\",SUMIF('00 Alimenta'!$A:$A,$B392,'00 Alimenta'!D:D),SUMIF('00 Alimenta'!$A:$A,$B392,'00 Alimenta'!D:D)*-1)","v":1380885.09},{"$f":"IF('00 Aggregatore'!$D392=\"R\",SUMIF('00 Alimenta'!$A:$A,$B392,'00 Alimenta'!E:E),SUMIF('00 Alimenta'!$A:$A,$B392,'00 Alimenta'!E:E)*-1)","v":1815242.22}]
["ER","EA0160","E.1.B.3.1) Insussistenze attive v/Aziende sanitarie pubbliche della Regione","R",{"$f":"IF('00 Aggregatore'!$D393=\"R\",SUMIF('00 Alimenta'!$A:$A,$B393,'00 Alimenta'!D:D),SUMIF('00 Alimenta'!$A:$A,$B393,'00 Alimenta'!D:D)*-1)","v":0},{"$f":"IF('00 Aggregatore'!$D393=\"R\",SUMIF('00 Alimenta'!$A:$A,$B393,'00 Alimenta'!E:E),SUMIF('00 Alimenta'!$A:$A,$B393,'00 Alimenta'!E:E)*-1)","v":2}]
["ER","EA0180","E.1.B.3.2.A) Insussistenze attive v/terzi relative alla mobilità extraregionale","R",{"$f":"IF('00 Aggregatore'!$D394=\"R\",SUMIF('00 Alimenta'!$A:$A,$B394,'00 Alimenta'!D:D),SUMIF('00 Alimenta'!$A:$A,$B394,'00 Alimenta'!D:D)*-1)","v":0},{"$f":"IF('00 Aggregatore'!$D394=\"R\",SUMIF('00 Alimenta'!$A:$A,$B394,'00 Alimenta'!E:E),SUMIF('00 Alimenta'!$A:$A,$B394,'00 Alimenta'!E:E)*-1)","v":0}]
["ER","EA0190","E.1.B.3.2.B) Insussistenze attive v/terzi relative al personale","R",{"$f":"IF('00 Aggregatore'!$D395=\"R\",SUMIF('00 Alimenta'!$A:$A,$B395,'00 Alimenta'!D:D),SUMIF('00 Alimenta'!$A:$A,$B395,'00 Alimenta'!D:D)*-1)","v":0},{"$f":"IF('00 Aggregatore'!$D395=\"R\",SUMIF('00 Alimenta'!$A:$A,$B395,'00 Alimenta'!E:E),SUMIF('00 Alimenta'!$A:$A,$B395,'00 Alimenta'!E:E)*-1)","v":686937}]
["ER","EA0200","E.1.B.3.2.C) Insussistenze attive v/terzi relative alle convenzioni con medici di base","R",{"$f":"IF('00 Aggregatore'!$D396=\"R\",SUMIF('00 Alimenta'!$A:$A,$B396,'00 Alimenta'!D:D),SUMIF('00 Alimenta'!$A:$A,$B396,'00 Alimenta'!D:D)*-1)","v":0},{"$f":"IF('00 Aggregatore'!$D396=\"R\",SUMIF('00 Alimenta'!$A:$A,$B396,'00 Alimenta'!E:E),SUMIF('00 Alimenta'!$A:$A,$B396,'00 Alimenta'!E:E)*-1)","v":0}]
["ER","EA0210","E.1.B.3.2.D) Insussistenze attive v/terzi relative alle convenzioni per la specialistica","R",{"$f":"IF('00 Aggregatore'!$D397=\"R\",SUMIF('00 Alimenta'!$A:$A,$B397,'00 Alimenta'!D:D),SUMIF('00 Alimenta'!$A:$A,$B397,'00 Alimenta'!D:D)*-1)","v":0},{"$f":"IF('00 Aggregatore'!$D397=\"R\",SUMIF('00 Alimenta'!$A:$A,$B397,'00 Alimenta'!E:E),SUMIF('00 Alimenta'!$A:$A,$B397,'00 Alimenta'!E:E)*-1)","v":0}]
["ER","EA0220","E.1.B.3.2.E) Insussistenze attive v/terzi relative all'acquisto prestaz. sanitarie da operatori accreditati","R",{"$f":"IF('00 Aggregatore'!$D398=\"R\",SUMIF('00 Alimenta'!$A:$A,$B398,'00 Alimenta'!D:D),SUMIF('00 Alimenta'!$A:$A,$B398,'00 Alimenta'!D:D)*-1)","v":326389.61},{"$f":"IF('00 Aggregatore'!$D398=\"R\",SUMIF('00 Alimenta'!$A:$A,$B398,'00 Alimenta'!E:E),SUMIF('00 Alimenta'!$A:$A,$B398,'00 Alimenta'!E:E)*-1)","v":34973.760000000002}]
["ER","EA0230","E.1.B.3.2.F) Insussistenze attive v/terzi relative all'acquisto di beni e servizi","R",{"$f":"IF('00 Aggregatore'!$D399=\"R\",SUMIF('00 Alimenta'!$A:$A,$B399,'00 Alimenta'!D:D),SUMIF('00 Alimenta'!$A:$A,$B399,'00 Alimenta'!D:D)*-1)","v":4775754.84},{"$f":"IF('00 Aggregatore'!$D399=\"R\",SUMIF('00 Alimenta'!$A:$A,$B399,'00 Alimenta'!E:E),SUMIF('00 Alimenta'!$A:$A,$B399,'00 Alimenta'!E:E)*-1)","v":77558.42}]
["ER","EA0240","E.1.B.3.2.G) Altre insussistenze attive v/terzi","R",{"$f":"IF('00 Aggregatore'!$D400=\"R\",SUMIF('00 Alimenta'!$A:$A,$B400,'00 Alimenta'!D:D),SUMIF('00 Alimenta'!$A:$A,$B400,'00 Alimenta'!D:D)*-1)","v":68794.210000000006},{"$f":"IF('00 Aggregatore'!$D400=\"R\",SUMIF('00 Alimenta'!$A:$A,$B400,'00 Alimenta'!E:E),SUMIF('00 Alimenta'!$A:$A,$B400,'00 Alimenta'!E:E)*-1)","v":18799.61}]
["ER","EA0250","E.1.B.4) Altri proventi straordinari","R",{"$f":"IF('00 Aggregatore'!$D401=\"R\",SUMIF('00 Alimenta'!$A:$A,$B401,'00 Alimenta'!D:D),SUMIF('00 Alimenta'!$A:$A,$B401,'00 Alimenta'!D:D)*-1)","v":0},{"$f":"IF('00 Aggregatore'!$D401=\"R\",SUMIF('00 Alimenta'!$A:$A,$B401,'00 Alimenta'!E:E),SUMIF('00 Alimenta'!$A:$A,$B401,'00 Alimenta'!E:E)*-1)","v":0}]
["EC","EA0270","E.2.A) Minusvalenze","C",{"$f":"IF('00 Aggregatore'!$D402=\"R\",SUMIF('00 Alimenta'!$A:$A,$B402,'00 Alimenta'!D:D),SUMIF('00 Alimenta'!$A:$A,$B402,'00 Alimenta'!D:D)*-1)","v":19530.05},{"$f":"IF('00 Aggregatore'!$D402=\"R\",SUMIF('00 Alimenta'!$A:$A,$B402,'00 Alimenta'!E:E),SUMIF('00 Alimenta'!$A:$A,$B402,'00 Alimenta'!E:E)*-1)","v":15877.5}]
["EC","EA0290","E.2.B.1) Oneri tributari da esercizi precedenti","C",{"$f":"IF('00 Aggregatore'!$D403=\"R\",SUMIF('00 Alimenta'!$A:$A,$B403,'00 Alimenta'!D:D),SUMIF('00 Alimenta'!$A:$A,$B403,'00 Alimenta'!D:D)*-1)","v":0},{"$f":"IF('00 Aggregatore'!$D403=\"R\",SUMIF('00 Alimenta'!$A:$A,$B403,'00 Alimenta'!E:E),SUMIF('00 Alimenta'!$A:$A,$B403,'00 Alimenta'!E:E)*-1)","v":0}]
["EC","EA0300","E.2.B.2) Oneri da cause civili ed oneri processuali","C",{"$f":"IF('00 Aggregatore'!$D404=\"R\",SUMIF('00 Alimenta'!$A:$A,$B404,'00 Alimenta'!D:D),SUMIF('00 Alimenta'!$A:$A,$B404,'00 Alimenta'!D:D)*-1)","v":0},{"$f":"IF('00 Aggregatore'!$D404=\"R\",SUMIF('00 Alimenta'!$A:$A,$B404,'00 Alimenta'!E:E),SUMIF('00 Alimenta'!$A:$A,$B404,'00 Alimenta'!E:E)*-1)","v":0}]
["EC","EA0330","E.2.B.3.1.A) Sopravvenienze passive v/Aziende sanitarie pubbliche relative alla mobilità intraregionale","C",{"$f":"IF('00 Aggregatore'!$D405=\"R\",SUMIF('00 Alimenta'!$A:$A,$B405,'00 Alimenta'!D:D),SUMIF('00 Alimenta'!$A:$A,$B405,'00 Alimenta'!D:D)*-1)","v":0},{"$f":"IF('00 Aggregatore'!$D405=\"R\",SUMIF('00 Alimenta'!$A:$A,$B405,'00 Alimenta'!E:E),SUMIF('00 Alimenta'!$A:$A,$B405,'00 Alimenta'!E:E)*-1)","v":1777259.44}]
["EC","EA0340","E.2.B.3.1.B) Altre sopravvenienze passive v/Aziende sanitarie pubbliche della Regione","C",{"$f":"IF('00 Aggregatore'!$D406=\"R\",SUMIF('00 Alimenta'!$A:$A,$B406,'00 Alimenta'!D:D),SUMIF('00 Alimenta'!$A:$A,$B406,'00 Alimenta'!D:D)*-1)","v":122869.51},{"$f":"IF('00 Aggregatore'!$D406=\"R\",SUMIF('00 Alimenta'!$A:$A,$B406,'00 Alimenta'!E:E),SUMIF('00 Alimenta'!$A:$A,$B406,'00 Alimenta'!E:E)*-1)","v":241065.45}]
["EC","EA0360","E.2.B.3.2.A) Sopravvenienze passive v/terzi relative alla mobilità extraregionale","C",{"$f":"IF('00 Aggregatore'!$D407=\"R\",SUMIF('00 Alimenta'!$A:$A,$B407,'00 Alimenta'!D:D),SUMIF('00 Alimenta'!$A:$A,$B407,'00 Alimenta'!D:D)*-1)","v":0},{"$f":"IF('00 Aggregatore'!$D407=\"R\",SUMIF('00 Alimenta'!$A:$A,$B407,'00 Alimenta'!E:E),SUMIF('00 Alimenta'!$A:$A,$B407,'00 Alimenta'!E:E)*-1)","v":0}]
["EC","EA0380","E.2.B.3.2.B.1) Soprav. passive v/terzi relative al personale - dirigenza medica","C",{"$f":"IF('00 Aggregatore'!$D408=\"R\",SUMIF('00 Alimenta'!$A:$A,$B408,'00 Alimenta'!D:D),SUMIF('00 Alimenta'!$A:$A,$B408,'00 Alimenta'!D:D)*-1)","v":3919.87},{"$f":"IF('00 Aggregatore'!$D408=\"R\",SUMIF('00 Alimenta'!$A:$A,$B408,'00 Alimenta'!E:E),SUMIF('00 Alimenta'!$A:$A,$B408,'00 Alimenta'!E:E)*-1)","v":34724.99}]
["EC","EA0390","E.2.B.3.2.B.2) Soprav. passive v/terzi relative al personale - dirigenza non medica","C",{"$f":"IF('00 Aggregatore'!$D409=\"R\",SUMIF('00 Alimenta'!$A:$A,$B409,'00 Alimenta'!D:D),SUMIF('00 Alimenta'!$A:$A,$B409,'00 Alimenta'!D:D)*-1)","v":7520.5},{"$f":"IF('00 Aggregatore'!$D409=\"R\",SUMIF('00 Alimenta'!$A:$A,$B409,'00 Alimenta'!E:E),SUMIF('00 Alimenta'!$A:$A,$B409,'00 Alimenta'!E:E)*-1)","v":0.01}]
["EC","EA0400","E.2.B.3.2.B.3) Soprav. passive v/terzi relative al personale - comparto","C",{"$f":"IF('00 Aggregatore'!$D410=\"R\",SUMIF('00 Alimenta'!$A:$A,$B410,'00 Alimenta'!D:D),SUMIF('00 Alimenta'!$A:$A,$B410,'00 Alimenta'!D:D)*-1)","v":2590077.62},{"$f":"IF('00 Aggregatore'!$D410=\"R\",SUMIF('00 Alimenta'!$A:$A,$B410,'00 Alimenta'!E:E),SUMIF('00 Alimenta'!$A:$A,$B410,'00 Alimenta'!E:E)*-1)","v":18778.349999999999}]
["EC","EA0410","E.2.B.3.2.C) Sopravvenienze passive v/terzi relative alle convenzioni con medici di base","C",{"$f":"IF('00 Aggregatore'!$D411=\"R\",SUMIF('00 Alimenta'!$A:$A,$B411,'00 Alimenta'!D:D),SUMIF('00 Alimenta'!$A:$A,$B411,'00 Alimenta'!D:D)*-1)","v":2272.9499999999998},{"$f":"IF('00 Aggregatore'!$D411=\"R\",SUMIF('00 Alimenta'!$A:$A,$B411,'00 Alimenta'!E:E),SUMIF('00 Alimenta'!$A:$A,$B411,'00 Alimenta'!E:E)*-1)","v":107401.09}]
["EC","EA0420","E.2.B.3.2.D) Sopravvenienze passive v/terzi relative alle convenzioni per la specialistica","C",{"$f":"IF('00 Aggregatore'!$D412=\"R\",SUMIF('00 Alimenta'!$A:$A,$B412,'00 Alimenta'!D:D),SUMIF('00 Alimenta'!$A:$A,$B412,'00 Alimenta'!D:D)*-1)","v":53207.86},{"$f":"IF('00 Aggregatore'!$D412=\"R\",SUMIF('00 Alimenta'!$A:$A,$B412,'00 Alimenta'!E:E),SUMIF('00 Alimenta'!$A:$A,$B412,'00 Alimenta'!E:E)*-1)","v":110856.75}]
["EC","EA0430","E.2.B.3.2.E) Sopravvenienze passive v/terzi relative all'acquisto prestaz. sanitarie da operatori accreditati","C",{"$f":"IF('00 Aggregatore'!$D413=\"R\",SUMIF('00 Alimenta'!$A:$A,$B413,'00 Alimenta'!D:D),SUMIF('00 Alimenta'!$A:$A,$B413,'00 Alimenta'!D:D)*-1)","v":965342.11},{"$f":"IF('00 Aggregatore'!$D413=\"R\",SUMIF('00 Alimenta'!$A:$A,$B413,'00 Alimenta'!E:E),SUMIF('00 Alimenta'!$A:$A,$B413,'00 Alimenta'!E:E)*-1)","v":4016863.83}]
["EC","EA0440","E.2.B.3.2.F) Sopravvenienze passive v/terzi relative all'acquisto di beni e servizi","C",{"$f":"IF('00 Aggregatore'!$D414=\"R\",SUMIF('00 Alimenta'!$A:$A,$B414,'00 Alimenta'!D:D),SUMIF('00 Alimenta'!$A:$A,$B414,'00 Alimenta'!D:D)*-1)","v":2001061.54},{"$f":"IF('00 Aggregatore'!$D414=\"R\",SUMIF('00 Alimenta'!$A:$A,$B414,'00 Alimenta'!E:E),SUMIF('00 Alimenta'!$A:$A,$B414,'00 Alimenta'!E:E)*-1)","v":2252258.5499999998}]
["EC","EA0450","E.2.B.3.2.G) Altre sopravvenienze passive v/terzi","C",{"$f":"IF('00 Aggregatore'!$D415=\"R\",SUMIF('00 Alimenta'!$A:$A,$B415,'00 Alimenta'!D:D),SUMIF('00 Alimenta'!$A:$A,$B415,'00 Alimenta'!D:D)*-1)","v":557030.55000000005},{"$f":"IF('00 Aggregatore'!$D415=\"R\",SUMIF('00 Alimenta'!$A:$A,$B415,'00 Alimenta'!E:E),SUMIF('00 Alimenta'!$A:$A,$B415,'00 Alimenta'!E:E)*-1)","v":801890.96}]
["EC","EA0461","E.2.B.4.1) Insussistenze passive per quote F.S. vincolato","C",{"$f":"IF('00 Aggregatore'!$D416=\"R\",SUMIF('00 Alimenta'!$A:$A,$B416,'00 Alimenta'!D:D),SUMIF('00 Alimenta'!$A:$A,$B416,'00 Alimenta'!D:D)*-1)","v":0},{"$f":"IF('00 Aggregatore'!$D416=\"R\",SUMIF('00 Alimenta'!$A:$A,$B416,'00 Alimenta'!E:E),SUMIF('00 Alimenta'!$A:$A,$B416,'00 Alimenta'!E:E)*-1)","v":0}]
["EC","EA0470","E.2.B.4.2) Insussistenze passive v/Aziende sanitarie pubbliche della Regione","C",{"$f":"IF('00 Aggregatore'!$D417=\"R\",SUMIF('00 Alimenta'!$A:$A,$B417,'00 Alimenta'!D:D),SUMIF('00 Alimenta'!$A:$A,$B417,'00 Alimenta'!D:D)*-1)","v":0},{"$f":"IF('00 Aggregatore'!$D417=\"R\",SUMIF('00 Alimenta'!$A:$A,$B417,'00 Alimenta'!E:E),SUMIF('00 Alimenta'!$A:$A,$B417,'00 Alimenta'!E:E)*-1)","v":0}]
["EC","EA0490","E.2.B.4.3.A) Insussistenze passive v/terzi relative alla mobilità extraregionale","C",{"$f":"IF('00 Aggregatore'!$D418=\"R\",SUMIF('00 Alimenta'!$A:$A,$B418,'00 Alimenta'!D:D),SUMIF('00 Alimenta'!$A:$A,$B418,'00 Alimenta'!D:D)*-1)","v":0},{"$f":"IF('00 Aggregatore'!$D418=\"R\",SUMIF('00 Alimenta'!$A:$A,$B418,'00 Alimenta'!E:E),SUMIF('00 Alimenta'!$A:$A,$B418,'00 Alimenta'!E:E)*-1)","v":0}]
["EC","EA0500","E.2.B.4.3.B) Insussistenze passive v/terzi relative al personale","C",{"$f":"IF('00 Aggregatore'!$D419=\"R\",SUMIF('00 Alimenta'!$A:$A,$B419,'00 Alimenta'!D:D),SUMIF('00 Alimenta'!$A:$A,$B419,'00 Alimenta'!D:D)*-1)","v":0},{"$f":"IF('00 Aggregatore'!$D419=\"R\",SUMIF('00 Alimenta'!$A:$A,$B419,'00 Alimenta'!E:E),SUMIF('00 Alimenta'!$A:$A,$B419,'00 Alimenta'!E:E)*-1)","v":0}]
["EC","EA0510","E.2.B.4.3.C) Insussistenze passive v/terzi relative alle convenzioni con medici di base","C",{"$f":"IF('00 Aggregatore'!$D420=\"R\",SUMIF('00 Alimenta'!$A:$A,$B420,'00 Alimenta'!D:D),SUMIF('00 Alimenta'!$A:$A,$B420,'00 Alimenta'!D:D)*-1)","v":0},{"$f":"IF('00 Aggregatore'!$D420=\"R\",SUMIF('00 Alimenta'!$A:$A,$B420,'00 Alimenta'!E:E),SUMIF('00 Alimenta'!$A:$A,$B420,'00 Alimenta'!E:E)*-1)","v":0}]
["EC","EA0520","E.2.B.4.3.D) Insussistenze passive v/terzi relative alle convenzioni per la specialistica","C",{"$f":"IF('00 Aggregatore'!$D421=\"R\",SUMIF('00 Alimenta'!$A:$A,$B421,'00 Alimenta'!D:D),SUMIF('00 Alimenta'!$A:$A,$B421,'00 Alimenta'!D:D)*-1)","v":0},{"$f":"IF('00 Aggregatore'!$D421=\"R\",SUMIF('00 Alimenta'!$A:$A,$B421,'00 Alimenta'!E:E),SUMIF('00 Alimenta'!$A:$A,$B421,'00 Alimenta'!E:E)*-1)","v":0}]
["EC","EA0530","E.2.B.4.3.E) Insussistenze passive v/terzi relative all'acquisto prestaz. sanitarie da operatori accreditati","C",{"$f":"IF('00 Aggregatore'!$D422=\"R\",SUMIF('00 Alimenta'!$A:$A,$B422,'00 Alimenta'!D:D),SUMIF('00 Alimenta'!$A:$A,$B422,'00 Alimenta'!D:D)*-1)","v":907726.79},{"$f":"IF('00 Aggregatore'!$D422=\"R\",SUMIF('00 Alimenta'!$A:$A,$B422,'00 Alimenta'!E:E),SUMIF('00 Alimenta'!$A:$A,$B422,'00 Alimenta'!E:E)*-1)","v":0.01}]
["EC","EA0540","E.2.B.4.3.F) Insussistenze passive v/terzi relative all'acquisto di beni e servizi","C",{"$f":"IF('00 Aggregatore'!$D423=\"R\",SUMIF('00 Alimenta'!$A:$A,$B423,'00 Alimenta'!D:D),SUMIF('00 Alimenta'!$A:$A,$B423,'00 Alimenta'!D:D)*-1)","v":33658.5},{"$f":"IF('00 Aggregatore'!$D423=\"R\",SUMIF('00 Alimenta'!$A:$A,$B423,'00 Alimenta'!E:E),SUMIF('00 Alimenta'!$A:$A,$B423,'00 Alimenta'!E:E)*-1)","v":71630.8}]
["EC","EA0550","E.2.B.4.3.G) Altre insussistenze passive v/terzi","C",{"$f":"IF('00 Aggregatore'!$D424=\"R\",SUMIF('00 Alimenta'!$A:$A,$B424,'00 Alimenta'!D:D),SUMIF('00 Alimenta'!$A:$A,$B424,'00 Alimenta'!D:D)*-1)","v":171030.37},{"$f":"IF('00 Aggregatore'!$D424=\"R\",SUMIF('00 Alimenta'!$A:$A,$B424,'00 Alimenta'!E:E),SUMIF('00 Alimenta'!$A:$A,$B424,'00 Alimenta'!E:E)*-1)","v":73906.539999999994}]
["EC","EA0560","E.2.B.5) Altri oneri straordinari","C",{"$f":"IF('00 Aggregatore'!$D425=\"R\",SUMIF('00 Alimenta'!$A:$A,$B425,'00 Alimenta'!D:D),SUMIF('00 Alimenta'!$A:$A,$B425,'00 Alimenta'!D:D)*-1)","v":0},{"$f":"IF('00 Aggregatore'!$D425=\"R\",SUMIF('00 Alimenta'!$A:$A,$B425,'00 Alimenta'!E:E),SUMIF('00 Alimenta'!$A:$A,$B425,'00 Alimenta'!E:E)*-1)","v":0}]
["YC","YA0020","Y.1.A) IRAP relativa a personale dipendente","C",{"$f":"IF('00 Aggregatore'!$D426=\"R\",SUMIF('00 Alimenta'!$A:$A,$B426,'00 Alimenta'!D:D),SUMIF('00 Alimenta'!$A:$A,$B426,'00 Alimenta'!D:D)*-1)","v":11109282.459999999},{"$f":"IF('00 Aggregatore'!$D426=\"R\",SUMIF('00 Alimenta'!$A:$A,$B426,'00 Alimenta'!E:E),SUMIF('00 Alimenta'!$A:$A,$B426,'00 Alimenta'!E:E)*-1)","v":11133451.4}]
["YC","YA0030","Y.1.B) IRAP relativa a collaboratori e personale assimilato a lavoro dipendente","C",{"$f":"IF('00 Aggregatore'!$D427=\"R\",SUMIF('00 Alimenta'!$A:$A,$B427,'00 Alimenta'!D:D),SUMIF('00 Alimenta'!$A:$A,$B427,'00 Alimenta'!D:D)*-1)","v":577892.56999999995},{"$f":"IF('00 Aggregatore'!$D427=\"R\",SUMIF('00 Alimenta'!$A:$A,$B427,'00 Alimenta'!E:E),SUMIF('00 Alimenta'!$A:$A,$B427,'00 Alimenta'!E:E)*-1)","v":578860.73}]
["YC","YA0040","Y.1.C) IRAP relativa ad attività di libera professione (intramoenia)","C",{"$f":"IF('00 Aggregatore'!$D428=\"R\",SUMIF('00 Alimenta'!$A:$A,$B428,'00 Alimenta'!D:D),SUMIF('00 Alimenta'!$A:$A,$B428,'00 Alimenta'!D:D)*-1)","v":418750.77},{"$f":"IF('00 Aggregatore'!$D428=\"R\",SUMIF('00 Alimenta'!$A:$A,$B428,'00 Alimenta'!E:E),SUMIF('00 Alimenta'!$A:$A,$B428,'00 Alimenta'!E:E)*-1)","v":408949.44999999995}]
["YC","YA0050","Y.1.D) IRAP relativa ad attività commerciale","C",{"$f":"IF('00 Aggregatore'!$D429=\"R\",SUMIF('00 Alimenta'!$A:$A,$B429,'00 Alimenta'!D:D),SUMIF('00 Alimenta'!$A:$A,$B429,'00 Alimenta'!D:D)*-1)","v":0},{"$f":"IF('00 Aggregatore'!$D429=\"R\",SUMIF('00 Alimenta'!$A:$A,$B429,'00 Alimenta'!E:E),SUMIF('00 Alimenta'!$A:$A,$B429,'00 Alimenta'!E:E)*-1)","v":0}]
["YC","YA0070","Y.2.A) IRES su attività istituzionale","C",{"$f":"IF('00 Aggregatore'!$D430=\"R\",SUMIF('00 Alimenta'!$A:$A,$B430,'00 Alimenta'!D:D),SUMIF('00 Alimenta'!$A:$A,$B430,'00 Alimenta'!D:D)*-1)","v":0},{"$f":"IF('00 Aggregatore'!$D430=\"R\",SUMIF('00 Alimenta'!$A:$A,$B430,'00 Alimenta'!E:E),SUMIF('00 Alimenta'!$A:$A,$B430,'00 Alimenta'!E:E)*-1)","v":0}]
["YC","YA0080","Y.2.B) IRES su attività commerciale","C",{"$f":"IF('00 Aggregatore'!$D431=\"R\",SUMIF('00 Alimenta'!$A:$A,$B431,'00 Alimenta'!D:D),SUMIF('00 Alimenta'!$A:$A,$B431,'00 Alimenta'!D:D)*-1)","v":408274},{"$f":"IF('00 Aggregatore'!$D431=\"R\",SUMIF('00 Alimenta'!$A:$A,$B431,'00 Alimenta'!E:E),SUMIF('00 Alimenta'!$A:$A,$B431,'00 Alimenta'!E:E)*-1)","v":408988}]
["YC","YA0090","Y.3) Accantonamento a F.do Imposte (Accertamenti, condoni, ecc.)","C",{"$f":"IF('00 Aggregatore'!$D432=\"R\",SUMIF('00 Alimenta'!$A:$A,$B432,'00 Alimenta'!D:D),SUMIF('00 Alimenta'!$A:$A,$B432,'00 Alimenta'!D:D)*-1)","v":0},{"$f":"IF('00 Aggregatore'!$D432=\"R\",SUMIF('00 Alimenta'!$A:$A,$B432,'00 Alimenta'!E:E),SUMIF('00 Alimenta'!$A:$A,$B432,'00 Alimenta'!E:E)*-1)","v":0}]
[]
[]
[null,"AR","VALORE DELLA PRODUZIONE - RICAVI",null,{"$f":"SUMIF($A:$A,$B435,E:E)","v":726128606.7299999},746630253.02999973]
[null,"CR","PROVENTI ED ONERI FINAZIARI - RICAVI",null,1395.3,0]
[null,"DR","RETTIFICHE DI VALORE ATTIVITA' FINANZIARIE - RICAVI",null,0,0]
[null,"ER","PROVENTI ED ONERI STRAORDINARI -RICAVI",null,12710827.610000001,7273832.5499999998]
[null,"BC","COSTI DELLA PRODUZIONE - COSTI",null,717438368.82999921,741720234.93999982]
[null,"CC","PROVENTI ED ONERI FINAZIARI - COSTI",null,1451335.4500000002,367939.79]
[null,"DC","RETTIFICHE DI VALORE ATTIVITA' FINANZIARIE - COSTI",null,0,0]
[null,"EC","PROVENTI ED ONERI STRAORDINARI - COSTI",null,7435248.2199999997,9522514.2700000014]
[null,"YC","IMPOSTE E TASSE - COSTI",null,12514199.799999999,12530249.58]
[null,null,"UTILE/PERDITA DI ESERCIZIO",null,{"$f":"(E435+E436+E437+E438)-(E439+E440+E441+E442+E443)","v":1677.340000629425},{"$f":"(F435+F436+F437+F438)-(F439+F440+F441+F442+F443)","v":-10236853.000000119}]

{"sheet":"00 CE","index":2,"n_rows":565,"n_cols":7,"rows_kept":565,"cut":false,"hidden":false,"merged":[]}
[]
["AGG","CODICE","VOCE MODELLO CE","SUM",null,{"$f":"'00 Aggregatore'!E4","v":"Esercizio 2018"},{"$f":"'00 Aggregatore'!F4","v":"Esercizio 2019"}]
[null,null,"A)  Valore della produzione"]
[null,"AA0010","A.1)  Contributi in c/esercizio","S","AA0010",{"$f":"(F5+F14+F29+F34)","v":569823505.82000005},{"$f":"(G5+G14+G29+G34)","v":573160588.66000009}]
[null,"AA0020","A.1.A)  Contributi da Regione o Prov. Aut. per quota F.S. regionale","S","AA0020",{"$f":"+F6+F13","v":569244565.85000002},{"$f":"+G6+G13","v":571940770.62000012}]
[null,"AA0030","A.1.A.1)  da Regione o Prov. Aut. per quota F.S. regionale indistinto","S","AA0030",{"$f":"+F7+F8+F9+F12","v":555479764.00999999},{"$f":"+G7+G8+G9+G12","v":559016190.6500001}]
[null,"AA0031","A.1.A.1.1) Finanziamento indistinto",null,"AA0031",{"$f":"SUMIF('00 Aggregatore'!$B:$B,$E7,'00 Aggregatore'!E:E)","v":555479764.00999999},{"$f":"SUMIF('00 Aggregatore'!$B:$B,$E7,'00 Aggregatore'!F:F)","v":557753921.82000005}]
[null,"AA0032","A.1.A.1.2) Finanziamento indistinto finalizzato da Regione",null,"AA0032",{"$f":"SUMIF('00 Aggregatore'!$B:$B,$E8,'00 Aggregatore'!E:E)","v":0},{"$f":"SUMIF('00 Aggregatore'!$B:$B,$E8,'00 Aggregatore'!F:F)","v":1262268.83}]
[null,"AA0033","A.1.A.1.3) Funzioni","S","AA0033",{"$f":"+F10+F11","v":0},{"$f":"+G10+G11","v":0}]
[null,"AA0034","A.1.A.1.3.A) Funzioni - Pronto Soccorso",null,"AA0034",{"$f":"SUMIF('00 Aggregatore'!$B:$B,$E10,'00 Aggregatore'!E:E)","v":0},{"$f":"SUMIF('00 Aggregatore'!$B:$B,$E10,'00 Aggregatore'!F:F)","v":0}]
[null,"AA0035","A.1.A.1.3.B) Funzioni - Altro",null,"AA0035",{"$f":"SUMIF('00 Aggregatore'!$B:$B,$E11,'00 Aggregatore'!E:E)","v":0},{"$f":"SUMIF('00 Aggregatore'!$B:$B,$E11,'00 Aggregatore'!F:F)","v":0}]
[null,"AA0036","A.1.A.1.4) Quota finalizzata per il Piano aziendale di cui all'art. 1, comma 528, L. 208/2015",null,"AA0036",{"$f":"SUMIF('00 Aggregatore'!$B:$B,$E12,'00 Aggregatore'!E:E)","v":0},{"$f":"SUMIF('00 Aggregatore'!$B:$B,$E12,'00 Aggregatore'!F:F)","v":0}]
[null,"AA0040","A.1.A.2)  da Regione o Prov. Aut. per quota F.S. regionale vincolato",null,"AA0040",{"$f":"SUMIF('00 Aggregatore'!$B:$B,$E13,'00 Aggregatore'!E:E)","v":13764801.84},{"$f":"SUMIF('00 Aggregatore'!$B:$B,$E13,'00 Aggregatore'!F:F)","v":12924579.970000001}]
[null,"AA0050","A.1.B)  Contributi c/esercizio (extra fondo)","S","AA0050",{"$f":"+F15+F20+F23","v":578939.97},{"$f":"+G15+G20+G23","v":1219818.04}]
[null,"AA0060","A.1.B.1)  da Regione o Prov. Aut. (extra fondo) ","S","AA0060",{"$f":"+F16+F17+F18+F19","v":410404.72},{"$f":"+G16+G17+G18+G19","v":1181117.45}]
[null,"AA0070","A.1.B.1.1)  Contributi da Regione o Prov. Aut. (extra fondo) vincolati",null,"AA0070",{"$f":"SUMIF('00 Aggregatore'!$B:$B,$E16,'00 Aggregatore'!E:E)","v":410404.72},{"$f":"SUMIF('00 Aggregatore'!$B:$B,$E16,'00 Aggregatore'!F:F)","v":964199.29}]
[null,"AA0080","A.1.B.1.2)  Contributi da Regione o Prov. Aut. (extra fondo) - Risorse aggiuntive da bilancio regionale a titolo di copertura LEA",null,"AA0080",{"$f":"SUMIF('00 Aggregatore'!$B:$B,$E17,'00 Aggregatore'!E:E)","v":0},{"$f":"SUMIF('00 Aggregatore'!$B:$B,$E17,'00 Aggregatore'!F:F)","v":0}]
[null,"AA0090","A.1.B.1.3)  Contributi da Regione o Prov. Aut. (extra fondo) - Risorse aggiuntive da bilancio regionale a titolo di copertura extra LEA",null,"AA0090",{"$f":"SUMIF('00 Aggregatore'!$B:$B,$E18,'00 Aggregatore'!E:E)","v":0},{"$f":"SUMIF('00 Aggregatore'!$B:$B,$E18,'00 Aggregatore'!F:F)","v":0}]
[null,"AA0100","A.1.B.1.4)  Contributi da Regione o Prov. Aut. (extra fondo) - Altro",null,"AA0100",{"$f":"SUMIF('00 Aggregatore'!$B:$B,$E19,'00 Aggregatore'!E:E)","v":0},{"$f":"SUMIF('00 Aggregatore'!$B:$B,$E19,'00 Aggregatore'!F:F)","v":216918.16}]
[null,"AA0110","A.1.B.2)  Contributi da Aziende sanitarie pubbliche della Regione o Prov. Aut. (extra fondo) ","S","AA0110",{"$f":"+F21+F22","v":0},{"$f":"+G21+G22","v":0}]
[null,"AA0120","A.1.B.2.1)  Contributi da Aziende sanitarie pubbliche della Regione o Prov. Aut. (extra fondo) vincolati",null,"AA0120",{"$f":"SUMIF('00 Aggregatore'!$B:$B,$E21,'00 Aggregatore'!E:E)","v":0},{"$f":"SUMIF('00 Aggregatore'!$B:$B,$E21,'00 Aggregatore'!F:F)","v":0}]
[null,"AA0130","A.1.B.2.2)  Contributi da Aziende sanitarie pubbliche della Regione o Prov. Aut. (extra fondo) altro",null,"AA0130",{"$f":"SUMIF('00 Aggregatore'!$B:$B,$E22,'00 Aggregatore'!E:E)","v":0},{"$f":"SUMIF('00 Aggregatore'!$B:$B,$E22,'00 Aggregatore'!F:F)","v":0}]
[null,"AA0140","A.1.B.3)  Contributi da Ministero della Salute e da altri soggetti pubblici (extra fondo) ","S","AA0140",{"$f":"+F24+F25+F26+F27+F28","v":168535.25},{"$f":"+G24+G25+G26+G27+G28","v":38700.589999999997}]
[null,"AA0141","A.1.B.3.1)  Contributi da Ministero della Salute (extra fondo)",null,"AA0141",{"$f":"SUMIF('00 Aggregatore'!$B:$B,$E24,'00 Aggregatore'!E:E)","v":0},{"$f":"SUMIF('00 Aggregatore'!$B:$B,$E24,'00 Aggregatore'!F:F)","v":0}]
[null,"AA0150","A.1.B.3.2)  Contributi da altri soggetti pubblici (extra fondo) vincolati",null,"AA0150",{"$f":"SUMIF('00 Aggregatore'!$B:$B,$E25,'00 Aggregatore'!E:E)","v":168535.25},{"$f":"SUMIF('00 Aggregatore'!$B:$B,$E25,'00 Aggregatore'!F:F)","v":38700.589999999997}]
[null,"AA0160","A.1.B.3.3)  Contributi da altri soggetti pubblici (extra fondo) L. 210/92",null,"AA0160",{"$f":"SUMIF('00 Aggregatore'!$B:$B,$E26,'00 Aggregatore'!E:E)","v":0},{"$f":"SUMIF('00 Aggregatore'!$B:$B,$E26,'00 Aggregatore'!F:F)","v":0}]
[null,"AA0170","A.1.B.3.4)  Contributi da altri soggetti pubblici (extra fondo) altro",null,"AA0170",{"$f":"SUMIF('00 Aggregatore'!$B:$B,$E27,'00 Aggregatore'!E:E)","v":0},{"$f":"SUMIF('00 Aggregatore'!$B:$B,$E27,'00 Aggregatore'!F:F)","v":0}]
[null,"AA0171","A.1.B.3.5) Contibuti da altri soggetti pubblici (extra fondo) - in attuazione dell’art.79, comma 1 sexies lettera c), del D.L. 112/2008, convertito con legge 133/2008 e della legge 23 dicembre 2009 n. 191.",null,"AA0171",{"$f":"SUMIF('00 Aggregatore'!$B:$B,$E28,'00 Aggregatore'!E:E)","v":0},{"$f":"SUMIF('00 Aggregatore'!$B:$B,$E28,'00 Aggregatore'!F:F)","v":0}]
[null,"AA0180","A.1.C)  Contributi c/esercizio per ricerca","S","AA0180",{"$f":"+F30+F31+F32+F33","v":0},{"$f":"+G30+G31+G32+G33","v":0}]
[null,"AA0190","A.1.C.1)  Contributi da Ministero della Salute per ricerca corrente",null,"AA0190",{"$f":"SUMIF('00 Aggregatore'!$B:$B,$E30,'00 Aggregatore'!E:E)","v":0},{"$f":"SUMIF('00 Aggregatore'!$B:$B,$E30,'00 Aggregatore'!F:F)","v":0}]
[null,"AA0200","A.1.C.2)  Contributi da Ministero della Salute per ricerca finalizzata",null,"AA0200",{"$f":"SUMIF('00 Aggregatore'!$B:$B,$E31,'00 Aggregatore'!E:E)","v":0},{"$f":"SUMIF('00 Aggregatore'!$B:$B,$E31,'00 Aggregatore'!F:F)","v":0}]
[null,"AA0210","A.1.C.3)  Contributi da Regione ed altri soggetti pubblici per ricerca",null,"AA0210",{"$f":"SUMIF('00 Aggregatore'!$B:$B,$E32,'00 Aggregatore'!E:E)","v":0},{"$f":"SUMIF('00 Aggregatore'!$B:$B,$E32,'00 Aggregatore'!F:F)","v":0}]
[null,"AA0220","A.1.C.4)  Contributi da privati per ricerca",null,"AA0220",{"$f":"SUMIF('00 Aggregatore'!$B:$B,$E33,'00 Aggregatore'!E:E)","v":0},{"$f":"SUMIF('00 Aggregatore'!$B:$B,$E33,'00 Aggregatore'!F:F)","v":0}]
[null,"AA0230","A.1.D)  Contributi c/esercizio da privati",null,"AA0230",{"$f":"SUMIF('00 Aggregatore'!$B:$B,$E34,'00 Aggregatore'!E:E)","v":0},{"$f":"SUMIF('00 Aggregatore'!$B:$B,$E34,'00 Aggregatore'!F:F)","v":0}]
[null,"AA0240","A.2)  Rettifica contributi c/esercizio per destinazione ad investimenti","S","AA0240",{"$f":"+F36+F37","v":-4347846.8099999996},{"$f":"+G36+G37","v":-3379701.26}]
[null,"AA0250","A.2.A)  Rettifica contributi in c/esercizio per destinazione ad investimenti - da Regione o Prov. Aut. per quota F.S. regionale",null,"AA0250",{"$f":"SUMIF('00 Aggregatore'!$B:$B,$E36,'00 Aggregatore'!E:E)","v":-4347846.8099999996},{"$f":"SUMIF('00 Aggregatore'!$B:$B,$E36,'00 Aggregatore'!F:F)","v":-3379701.26}]
[null,"AA0260","A.2.B)  Rettifica contributi in c/esercizio per destinazione ad investimenti - altri contributi",null,"AA0260",{"$f":"SUMIF('00 Aggregatore'!$B:$B,$E37,'00 Aggregatore'!E:E)","v":0},{"$f":"SUMIF('00 Aggregatore'!$B:$B,$E37,'00 Aggregatore'!F:F)","v":0}]
[null,"AA0270","A.3) Utilizzo fondi per quote inutilizzate contributi finalizzati e vincolati di esercizi precedenti","S","AA0270",{"$f":"+F39+F40+F41+F42+F43","v":8070784.3200000003},{"$f":"+G39+G40+G41+G42+G43","v":17786604.379999999}]
[null,"AA0271","A.3.A)  Utilizzo fondi per quote inutilizzate contributi di esercizi precedenti da Regione o Prov. Aut. per quota F.S. regionale indistinto finalizzato",null,"AA0271",{"$f":"SUMIF('00 Aggregatore'!$B:$B,$E39,'00 Aggregatore'!E:E)","v":0},{"$f":"SUMIF('00 Aggregatore'!$B:$B,$E39,'00 Aggregatore'!F:F)","v":0}]
[null,"AA0280","A.3.B)  Utilizzo fondi per quote inutilizzate contributi di esercizi precedenti da Regione o Prov. Aut. per quota F.S. regionale vincolato",null,"AA0280",{"$f":"SUMIF('00 Aggregatore'!$B:$B,$E40,'00 Aggregatore'!E:E)","v":8070784.3200000003},{"$f":"SUMIF('00 Aggregatore'!$B:$B,$E40,'00 Aggregatore'!F:F)","v":17544374.609999999}]
[null,"AA0290","A.3.C) Utilizzo fondi per quote inutilizzate contributi di esercizi precedenti da soggetti pubblici (extra fondo) vincolati",null,"AA0290",{"$f":"SUMIF('00 Aggregatore'!$B:$B,$E41,'00 Aggregatore'!E:E)","v":0},{"$f":"SUMIF('00 Aggregatore'!$B:$B,$E41,'00 Aggregatore'!F:F)","v":242229.77}]
[null,"AA0300","A.3.D)  Utilizzo fondi per quote inutilizzate contributi di esercizi precedenti per ricerca",null,"AA0300",{"$f":"SUMIF('00 Aggregatore'!$B:$B,$E42,'00 Aggregatore'!E:E)","v":0},{"$f":"SUMIF('00 Aggregatore'!$B:$B,$E42,'00 Aggregatore'!F:F)","v":0}]
[null,"AA0310","A.3.E) Utilizzo fondi per quote inutilizzate contributi vincolati di esercizi precedenti da privati",null,"AA0310",{"$f":"SUMIF('00 Aggregatore'!$B:$B,$E43,'00 Aggregatore'!E:E)","v":0},{"$f":"SUMIF('00 Aggregatore'!$B:$B,$E43,'00 Aggregatore'!F:F)","v":0}]
[null,"AA0320","A.4)  Ricavi per prestazioni sanitarie e sociosanitarie a rilevanza sanitaria","S","AA0320",{"$f":"+F45+F84+F90+F91","v":130750492},{"$f":"+G45+G84+G90+G91","v":136688020.46999997}]
[null,"AA0330","A.4.A)  Ricavi per prestazioni sanitarie e sociosanitarie a rilevanza sanitaria erogate a soggetti pubblici ","S","AA0330",{"$f":"+F46+F62+F63","v":112404019.08},{"$f":"+G46+G62+G63","v":120511919.91999999}]
[null,"AA0340","A.4.A.1)  Ricavi per prestaz. sanitarie  e sociosanitarie a rilevanza sanitaria erogate ad Aziende sanitarie pubbliche della Regione","S","AA0340",{"$f":"SUM(F47:F61)","v":99510381.00999999},{"$f":"SUM(G47:G61)","v":102476232.31999999}]
[null,"AA0350","A.4.A.1.1) Prestazioni di ricovero",null,"AA0350",{"$f":"SUMIF('00 Aggregatore'!$B:$B,$E47,'00 Aggregatore'!E:E)","v":63932152.799999997},{"$f":"SUMIF('00 Aggregatore'!$B:$B,$E47,'00 Aggregatore'!F:F)","v":64992534.340000004}]
[null,"AA0360","A.4.A.1.2) Prestazioni di specialistica ambulatoriale",null,"AA0360",{"$f":"SUMIF('00 Aggregatore'!$B:$B,$E48,'00 Aggregatore'!E:E)","v":8495470.6699999999},{"$f":"SUMIF('00 Aggregatore'!$B:$B,$E48,'00 Aggregatore'!F:F)","v":9019951.5700000003}]
[null,"AA0361","A.4.A.1.3) Prestazioni di pronto soccorso non seguite da ricovero",null,"AA0361",{"$f":"SUMIF('00 Aggregatore'!$B:$B,$E49,'00 Aggregatore'!E:E)","v":0},{"$f":"SUMIF('00 Aggregatore'!$B:$B,$E49,'00 Aggregatore'!F:F)","v":0}]
[null,"AA0370","A.4.A.1.4) Prestazioni di psichiatria residenziale e semiresidenziale",null,"AA0370",{"$f":"SUMIF('00 Aggregatore'!$B:$B,$E50,'00 Aggregatore'!E:E)","v":4667985.8600000003},{"$f":"SUMIF('00 Aggregatore'!$B:$B,$E50,'00 Aggregatore'!F:F)","v":4699731.63}]
[null,"AA0380","A.4.A.1.5) Prestazioni di File F",null,"AA0380",{"$f":"SUMIF('00 Aggregatore'!$B:$B,$E51,'00 Aggregatore'!E:E)","v":13551276.25},{"$f":"SUMIF('00 Aggregatore'!$B:$B,$E51,'00 Aggregatore'!F:F)","v":15293240.5}]
[null,"AA0390","A.4.A.1.6) Prestazioni servizi MMG, PLS, Contin. assistenziale",null,"AA0390",{"$f":"SUMIF('00 Aggregatore'!$B:$B,$E52,'00 Aggregatore'!E:E)","v":76930.02},{"$f":"SUMIF('00 Aggregatore'!$B:$B,$E52,'00 Aggregatore'!F:F)","v":139164.66}]
[null,"AA0400","A.4.A.1.7) Prestazioni servizi farmaceutica convenzionata",null,"AA0400",{"$f":"SUMIF('00 Aggregatore'!$B:$B,$E53,'00 Aggregatore'!E:E)","v":1554303.34},{"$f":"SUMIF('00 Aggregatore'!$B:$B,$E53,'00 Aggregatore'!F:F)","v":1464959.73}]
[null,"AA0410","A.4.A.1.8) Prestazioni termali",null,"AA0410",{"$f":"SUMIF('00 Aggregatore'!$B:$B,$E54,'00 Aggregatore'!E:E)","v":1071238.47},{"$f":"SUMIF('00 Aggregatore'!$B:$B,$E54,'00 Aggregatore'!F:F)","v":825373.77}]
[null,"AA0420","A.4.A.1.9) Prestazioni trasporto ambulanze ed elisoccorso",null,"AA0420",{"$f":"SUMIF('00 Aggregatore'!$B:$B,$E55,'00 Aggregatore'!E:E)","v":176712.63},{"$f":"SUMIF('00 Aggregatore'!$B:$B,$E55,'00 Aggregatore'!F:F)","v":215493.58}]
[null,"AA0421","A.4.A.1.10) Prestazioni assistenza integrativa",null,"AA0421",{"$f":"SUMIF('00 Aggregatore'!$B:$B,$E56,'00 Aggregatore'!E:E)","v":0},{"$f":"SUMIF('00 Aggregatore'!$B:$B,$E56,'00 Aggregatore'!F:F)","v":0}]
[null,"AA0422","A.4.A.1.11) Prestazioni assistenza protesica",null,"AA0422",{"$f":"SUMIF('00 Aggregatore'!$B:$B,$E57,'00 Aggregatore'!E:E)","v":0},{"$f":"SUMIF('00 Aggregatore'!$B:$B,$E57,'00 Aggregatore'!F:F)","v":0}]
[null,"AA0423","A.4.A.1.12) Prestazioni assistenza riabilitativa extraospedaliera",null,"AA0423",{"$f":"SUMIF('00 Aggregatore'!$B:$B,$E58,'00 Aggregatore'!E:E)","v":0},{"$f":"SUMIF('00 Aggregatore'!$B:$B,$E58,'00 Aggregatore'!F:F)","v":0}]
[null,"AA0424","A.4.A.1.13) Ricavi per cessione di emocomponenti e cellule staminali",null,"AA0424",{"$f":"SUMIF('00 Aggregatore'!$B:$B,$E59,'00 Aggregatore'!E:E)","v":0},{"$f":"SUMIF('00 Aggregatore'!$B:$B,$E59,'00 Aggregatore'!F:F)","v":0}]
[null,"AA0425","A.4.A.1.14) Prestazioni assistenza domiciliare integrata (ADI)",null,"AA0425",{"$f":"SUMIF('00 Aggregatore'!$B:$B,$E60,'00 Aggregatore'!E:E)","v":0},{"$f":"SUMIF('00 Aggregatore'!$B:$B,$E60,'00 Aggregatore'!F:F)","v":0}]
[null,"AA0430","A.4.A.1.15) Altre prestazioni sanitarie e socio-sanitarie a rilevanza sanitaria ",null,"AA0430",{"$f":"SUMIF('00 Aggregatore'!$B:$B,$E61,'00 Aggregatore'!E:E)","v":5984310.9699999997},{"$f":"SUMIF('00 Aggregatore'!$B:$B,$E61,'00 Aggregatore'!F:F)","v":5825782.54}]
[null,"AA0440","A.4.A.2) Ricavi per prestaz. sanitarie e sociosanitarie a rilevanza sanitaria erogate ad altri soggetti pubblici ",null,"AA0440",{"$f":"SUMIF('00 Aggregatore'!$B:$B,$E62,'00 Aggregatore'!E:E)","v":90381.5},{"$f":"SUMIF('00 Aggregatore'!$B:$B,$E62,'00 Aggregatore'!F:F)","v":56370.17}]
[null,"AA0450","A.4.A.3) Ricavi per prestaz. sanitarie e sociosanitarie a rilevanza sanitaria erogate a soggetti pubblici Extraregione","S","AA0450",{"$f":"SUM(F64:F78,F81,F82,F83)","v":12803256.570000002},{"$f":"SUM(G64:G78,G81,G82,G83)","v":17979317.43}]
[null,"AA0460","A.4.A.3.1) Prestazioni di ricovero",null,"AA0460",{"$f":"SUMIF('00 Aggregatore'!$B:$B,$E64,'00 Aggregatore'!E:E)","v":7320391.0700000003},{"$f":"SUMIF('00 Aggregatore'!$B:$B,$E64,'00 Aggregatore'!F:F)","v":11878307.279999999}]
[null,"AA0470","A.4.A.3.2) Prestazioni ambulatoriali",null,"AA0470",{"$f":"SUMIF('00 Aggregatore'!$B:$B,$E65,'00 Aggregatore'!E:E)","v":1477229.91},{"$f":"SUMIF('00 Aggregatore'!$B:$B,$E65,'00 Aggregatore'!F:F)","v":2030527.06}]
[null,"AA0471","A.4.A.3.3) Prestazioni pronto soccorso non seguite da ricovero",null,"AA0471",{"$f":"SUMIF('00 Aggregatore'!$B:$B,$E66,'00 Aggregatore'!E:E)","v":0},{"$f":"SUMIF('00 Aggregatore'!$B:$B,$E66,'00 Aggregatore'!F:F)","v":0}]
[null,"AA0480","A.4.A.3.4) Prestazioni di psichiatria non soggetta a compensazione (resid. e semiresid.)",null,"AA0480",{"$f":"SUMIF('00 Aggregatore'!$B:$B,$E67,'00 Aggregatore'!E:E)","v":0},{"$f":"SUMIF('00 Aggregatore'!$B:$B,$E67,'00 Aggregatore'!F:F)","v":0}]
[null,"AA0490","A.4.A.3.5) Prestazioni di File F",null,"AA0490",{"$f":"SUMIF('00 Aggregatore'!$B:$B,$E68,'00 Aggregatore'!E:E)","v":2471453.08},{"$f":"SUMIF('00 Aggregatore'!$B:$B,$E68,'00 Aggregatore'!F:F)","v":1915086.72}]
[null,"AA0500","A.4.A.3.6) Prestazioni servizi MMG, PLS, Contin. assistenziale Extraregione",null,"AA0500",{"$f":"SUMIF('00 Aggregatore'!$B:$B,$E69,'00 Aggregatore'!E:E)","v":56122.64},{"$f":"SUMIF('00 Aggregatore'!$B:$B,$E69,'00 Aggregatore'!F:F)","v":19433.84}]
[null,"AA0510","A.4.A.3.7) Prestazioni servizi farmaceutica convenzionata Extraregione",null,"AA0510",{"$f":"SUMIF('00 Aggregatore'!$B:$B,$E70,'00 Aggregatore'!E:E)","v":506661.23},{"$f":"SUMIF('00 Aggregatore'!$B:$B,$E70,'00 Aggregatore'!F:F)","v":1142996.67}]
[null,"AA0520","A.4.A.3.8) Prestazioni termali Extraregione",null,"AA0520",{"$f":"SUMIF('00 Aggregatore'!$B:$B,$E71,'00 Aggregatore'!E:E)","v":180073.68},{"$f":"SUMIF('00 Aggregatore'!$B:$B,$E71,'00 Aggregatore'!F:F)","v":237345.51}]
[null,"AA0530","A.4.A.3.9) Prestazioni trasporto ambulanze ed elisoccorso Extraregione",null,"AA0530",{"$f":"SUMIF('00 Aggregatore'!$B:$B,$E72,'00 Aggregatore'!E:E)","v":469730.81},{"$f":"SUMIF('00 Aggregatore'!$B:$B,$E72,'00 Aggregatore'!F:F)","v":309535.11}]
[null,"AA0541","A.4.A.3.10) Prestazioni assistenza integrativa da pubblico (extraregione)",null,"AA0541",{"$f":"SUMIF('00 Aggregatore'!$B:$B,$E73,'00 Aggregatore'!E:E)","v":0},{"$f":"SUMIF('00 Aggregatore'!$B:$B,$E73,'00 Aggregatore'!F:F)","v":0}]
[null,"AA0542","A.4.A.3.11) Prestazioni assistenza protesica da pubblico (extraregione)",null,"AA0542",{"$f":"SUMIF('00 Aggregatore'!$B:$B,$E74,'00 Aggregatore'!E:E)","v":0},{"$f":"SUMIF('00 Aggregatore'!$B:$B,$E74,'00 Aggregatore'!F:F)","v":0}]
[null,"AA0550","A.4.A.3.12) Ricavi per cessione di emocomponenti e cellule staminali Extraregione",null,"AA0550",{"$f":"SUMIF('00 Aggregatore'!$B:$B,$E75,'00 Aggregatore'!E:E)","v":0},{"$f":"SUMIF('00 Aggregatore'!$B:$B,$E75,'00 Aggregatore'!F:F)","v":45357.06}]
[null,"AA0560","A.4.A.3.13) Ricavi GSA per differenziale saldo mobilità interregionale",null,"AA0560",{"$f":"SUMIF('00 Aggregatore'!$B:$B,$E76,'00 Aggregatore'!E:E)","v":0},{"$f":"SUMIF('00 Aggregatore'!$B:$B,$E76,'00 Aggregatore'!F:F)","v":0}]
[null,"AA0561","A.4.A.3.14) Altre prestazioni sanitarie e sociosanitarie a rilevanza sanitaria erogate a soggetti pubblici Extraregione",null,"AA0561",{"$f":"SUMIF('00 Aggregatore'!$B:$B,$E77,'00 Aggregatore'!E:E)","v":0},{"$f":"SUMIF('00 Aggregatore'!$B:$B,$E77,'00 Aggregatore'!F:F)","v":0}]
[null,"AA0570","A.4.A.3.15) Altre prestazioni sanitarie e sociosanitarie a rilevanza sanitaria non soggette a compensazione Extraregione","S","AA0570",{"$f":"+F79+F80","v":2626.39},{"$f":"+G79+G80","v":7192.04}]
[null,"AA0580","A.4.A.3.15.A) Prestazioni di assistenza riabilitativa non soggette a compensazione Extraregione",null,"AA0580",{"$f":"SUMIF('00 Aggregatore'!$B:$B,$E79,'00 Aggregatore'!E:E)","v":0},{"$f":"SUMIF('00 Aggregatore'!$B:$B,$E79,'00 Aggregatore'!F:F)","v":0}]
[null,"AA0590","A.4.A.3.15.B) Altre prestazioni sanitarie e socio-sanitarie a rilevanza sanitaria non soggette a compensazione Extraregione",null,"AA0590",{"$f":"SUMIF('00 Aggregatore'!$B:$B,$E80,'00 Aggregatore'!E:E)","v":2626.39},{"$f":"SUMIF('00 Aggregatore'!$B:$B,$E80,'00 Aggregatore'!F:F)","v":7192.04}]
[null,"AA0600","A.4.A.3.16) Altre prestazioni sanitarie a rilevanza sanitaria - Mobilità attiva Internazionale",null,"AA0600",{"$f":"SUMIF('00 Aggregatore'!$B:$B,$E81,'00 Aggregatore'!E:E)","v":318967.76},{"$f":"SUMIF('00 Aggregatore'!$B:$B,$E81,'00 Aggregatore'!F:F)","v":393536.14}]
[null,"AA0601","A.4.A.3.17) Altre prestazioni sanitarie a rilevanza sanitaria - Mobilità attiva Internazionale rilevata dalle AO, AOU, IRCCS.",null,"AA0601",{"$f":"SUMIF('00 Aggregatore'!$B:$B,$E82,'00 Aggregatore'!E:E)","v":0},{"$f":"SUMIF('00 Aggregatore'!$B:$B,$E82,'00 Aggregatore'!F:F)","v":0}]
[null,"AA0602","A.4.A.3.18) Altre prestazioni sanitarie e sociosanitarie a rilevanza sanitaria ad Aziende sanitarie e casse mutua estera - (fatturate direttamente)",null,"AA0602",{"$f":"SUMIF('00 Aggregatore'!$B:$B,$E83,'00 Aggregatore'!E:E)","v":0},{"$f":"SUMIF('00 Aggregatore'!$B:$B,$E83,'00 Aggregatore'!F:F)","v":0}]
[null,"AA0610","A.4.B)  Ricavi per prestazioni sanitarie e sociosanitarie a rilevanza sanitaria erogate da privati v/residenti Extraregione in compensazione (mobilità attiva)","S","AA0610",{"$f":"SUM(F85:F89)","v":10487489.539999999},{"$f":"SUM(G85:G89)","v":8627870.8800000008}]
[null,"AA0620","A.4.B.1)  Prestazioni di ricovero da priv. Extraregione in compensazione (mobilità attiva)",null,"AA0620",{"$f":"SUMIF('00 Aggregatore'!$B:$B,$E85,'00 Aggregatore'!E:E)","v":10285883.1},{"$f":"SUMIF('00 Aggregatore'!$B:$B,$E85,'00 Aggregatore'!F:F)","v":8426930.4800000004}]
[null,"AA0630","A.4.B.2)  Prestazioni ambulatoriali da priv. Extraregione in compensazione  (mobilità attiva)",null,"AA0630",{"$f":"SUMIF('00 Aggregatore'!$B:$B,$E86,'00 Aggregatore'!E:E)","v":201606.44},{"$f":"SUMIF('00 Aggregatore'!$B:$B,$E86,'00 Aggregatore'!F:F)","v":200940.4}]
[null,"AA0631","A.4.B.3)  Prestazioni  di pronto soccorso non seguite da ricovero da priv. Extraregione in compensazione  (mobilità attiva)",null,"AA0631",{"$f":"SUMIF('00 Aggregatore'!$B:$B,$E87,'00 Aggregatore'!E:E)","v":0},{"$f":"SUMIF('00 Aggregatore'!$B:$B,$E87,'00 Aggregatore'!F:F)","v":0}]
[null,"AA0640","A.4.B.4)  Prestazioni di File F da priv. Extraregione in compensazione (mobilità attiva)",null,"AA0640",{"$f":"SUMIF('00 Aggregatore'!$B:$B,$E88,'00 Aggregatore'!E:E)","v":0},{"$f":"SUMIF('00 Aggregatore'!$B:$B,$E88,'00 Aggregatore'!F:F)","v":0}]
[null,"AA0650","A.4.B.5)  Altre prestazioni sanitarie e sociosanitarie a rilevanza sanitaria erogate da privati v/residenti Extraregione in compensazione (mobilità attiva)",null,"AA0650",{"$f":"SUMIF('00 Aggregatore'!$B:$B,$E89,'00 Aggregatore'!E:E)","v":0},{"$f":"SUMIF('00 Aggregatore'!$B:$B,$E89,'00 Aggregatore'!F:F)","v":0}]
[null,"AA0660","A.4.C)  Ricavi per prestazioni sanitarie e sociosanitarie a rilevanza sanitaria erogate a privati ",null,"AA0660",{"$f":"SUMIF('00 Aggregatore'!$B:$B,$E90,'00 Aggregatore'!E:E)","v":3620504.31},{"$f":"SUMIF('00 Aggregatore'!$B:$B,$E90,'00 Aggregatore'!F:F)","v":3619505.5999999996}]
[null,"AA0670","A.4.D)  Ricavi per prestazioni sanitarie erogate in regime di intramoenia","S","AA0670",{"$f":"SUM(F92:F98)","v":4238479.07},{"$f":"SUM(G92:G98)","v":3928724.07}]
[null,"AA0680","A.4.D.1)  Ricavi per prestazioni sanitarie intramoenia - Area ospedaliera",null,"AA0680",{"$f":"SUMIF('00 Aggregatore'!$B:$B,$E92,'00 Aggregatore'!E:E)","v":80436.56},{"$f":"SUMIF('00 Aggregatore'!$B:$B,$E92,'00 Aggregatore'!F:F)","v":97957.71}]
[null,"AA0690","A.4.D.2)  Ricavi per prestazioni sanitarie intramoenia - Area specialistica",null,"AA0690",{"$f":"SUMIF('00 Aggregatore'!$B:$B,$E93,'00 Aggregatore'!E:E)","v":3326104},{"$f":"SUMIF('00 Aggregatore'!$B:$B,$E93,'00 Aggregatore'!F:F)","v":3340368}]
[null,"AA0700","A.4.D.3)  Ricavi per prestazioni sanitarie intramoenia - Area sanità pubblica",null,"AA0700",{"$f":"SUMIF('00 Aggregatore'!$B:$B,$E94,'00 Aggregatore'!E:E)","v":17534.57},{"$f":"SUMIF('00 Aggregatore'!$B:$B,$E94,'00 Aggregatore'!F:F)","v":16412.46}]
[null,"AA0710","A.4.D.4)  Ricavi per prestazioni sanitarie intramoenia - Consulenze (ex art. 55 c.1 lett. c), d) ed ex art. 57-58)",null,"AA0710",{"$f":"SUMIF('00 Aggregatore'!$B:$B,$E95,'00 Aggregatore'!E:E)","v":677848.85},{"$f":"SUMIF('00 Aggregatore'!$B:$B,$E95,'00 Aggregatore'!F:F)","v":385532.67}]
[null,"AA0720","A.4.D.5)  Ricavi per prestazioni sanitarie intramoenia - Consulenze (ex art. 55 c.1 lett. c), d) ed ex art. 57-58) (Aziende sanitarie pubbliche della Regione)",null,"AA0720",{"$f":"SUMIF('00 Aggregatore'!$B:$B,$E96,'00 Aggregatore'!E:E)","v":0},{"$f":"SUMIF('00 Aggregatore'!$B:$B,$E96,'00 Aggregatore'!F:F)","v":0}]
[null,"AA0730","A.4.D.6)  Ricavi per prestazioni sanitarie intramoenia - Altro",null,"AA0730",{"$f":"SUMIF('00 Aggregatore'!$B:$B,$E97,'00 Aggregatore'!E:E)","v":130775.39},{"$f":"SUMIF('00 Aggregatore'!$B:$B,$E97,'00 Aggregatore'!F:F)","v":70557.929999999993}]
[null,"AA0740","A.4.D.7)  Ricavi per prestazioni sanitarie intramoenia - Altro (Aziende sanitarie pubbliche della Regione)",null,"AA0740",{"$f":"SUMIF('00 Aggregatore'!$B:$B,$E98,'00 Aggregatore'!E:E)","v":5779.7},{"$f":"SUMIF('00 Aggregatore'!$B:$B,$E98,'00 Aggregatore'!F:F)","v":17895.3}]
[null,"AA0750","A.5) Concorsi, recuperi e rimborsi","S","AA0750",{"$f":"+F100+F101+F104+F109+F113","v":3858742.5700000003},{"$f":"+G100+G101+G104+G109+G113","v":3897788.3200000003}]
[null,"AA0760","A.5.A) Rimborsi assicurativi",null,"AA0760",{"$f":"SUMIF('00 Aggregatore'!$B:$B,$E100,'00 Aggregatore'!E:E)","v":151672.57999999999},{"$f":"SUMIF('00 Aggregatore'!$B:$B,$E100,'00 Aggregatore'!F:F)","v":157878.72}]
[null,"AA0770","A.5.B) Concorsi, recuperi e rimborsi da Regione","S","AA0770",{"$f":"+F102+F103","v":0},{"$f":"+G102+G103","v":0}]
[null,"AA0780","A.5.B.1) Rimborso degli oneri stipendiali del personale dell'azienda in posizione di comando presso la Regione",null,"AA0780",{"$f":"SUMIF('00 Aggregatore'!$B:$B,$E102,'00 Aggregatore'!E:E)","v":0},{"$f":"SUMIF('00 Aggregatore'!$B:$B,$E102,'00 Aggregatore'!F:F)","v":0}]
[null,"AA0790","A.5.B.2) Altri concorsi, recuperi e rimborsi da parte della Regione",null,"AA0790",{"$f":"SUMIF('00 Aggregatore'!$B:$B,$E103,'00 Aggregatore'!E:E)","v":0},{"$f":"SUMIF('00 Aggregatore'!$B:$B,$E103,'00 Aggregatore'!F:F)","v":0}]
[null,"AA0800","A.5.C) Concorsi, recuperi e rimborsi da Aziende sanitarie pubbliche della Regione","S","AA0800",{"$f":"+F105+F106+F107+F108","v":203850.7},{"$f":"+G105+G106+G107+G108","v":131694.35999999999}]
[null,"AA0810","A.5.C.1) Rimborso degli oneri stipendiali del personale dipendente dell'azienda in posizione di comando presso Aziende sanitarie pubbliche della Regione",null,"AA0810",{"$f":"SUMIF('00 Aggregatore'!$B:$B,$E105,'00 Aggregatore'!E:E)","v":23253.72},{"$f":"SUMIF('00 Aggregatore'!$B:$B,$E105,'00 Aggregatore'!F:F)","v":0}]
[null,"AA0820","A.5.C.2) Rimborsi per acquisto beni da parte di Aziende sanitarie pubbliche della Regione",null,"AA0820",{"$f":"SUMIF('00 Aggregatore'!$B:$B,$E106,'00 Aggregatore'!E:E)","v":0},{"$f":"SUMIF('00 Aggregatore'!$B:$B,$E106,'00 Aggregatore'!F:F)","v":0}]
[null,"AA0830","A.5.C.3) Altri concorsi, recuperi e rimborsi da parte di Aziende sanitarie pubbliche della Regione",null,"AA0830",{"$f":"SUMIF('00 Aggregatore'!$B:$B,$E107,'00 Aggregatore'!E:E)","v":180596.98},{"$f":"SUMIF('00 Aggregatore'!$B:$B,$E107,'00 Aggregatore'!F:F)","v":131694.35999999999}]
[null,"AA0831","A.5.C.4) Altri concorsi, recuperi e rimborsi da parte della Regione - GSA",null,"AA0831",{"$f":"SUMIF('00 Aggregatore'!$B:$B,$E108,'00 Aggregatore'!E:E)","v":0},{"$f":"SUMIF('00 Aggregatore'!$B:$B,$E108,'00 Aggregatore'!F:F)","v":0}]
[null,"AA0840","A.5.D) Concorsi, recuperi e rimborsi da altri soggetti pubblici","S","AA0840",{"$f":"+F110+F111+F112","v":253111.86},{"$f":"+G110+G111+G112","v":49011.560000000005}]
[null,"AA0850","A.5.D.1) Rimborso degli oneri stipendiali del personale dipendente dell'azienda in posizione di comando presso altri soggetti pubblici",null,"AA0850",{"$f":"SUMIF('00 Aggregatore'!$B:$B,$E110,'00 Aggregatore'!E:E)","v":150326.43},{"$f":"SUMIF('00 Aggregatore'!$B:$B,$E110,'00 Aggregatore'!F:F)","v":0}]
[null,"AA0860","A.5.D.2) Rimborsi per acquisto beni da parte di altri soggetti pubblici",null,"AA0860",{"$f":"SUMIF('00 Aggregatore'!$B:$B,$E111,'00 Aggregatore'!E:E)","v":8374.7800000000007},{"$f":"SUMIF('00 Aggregatore'!$B:$B,$E111,'00 Aggregatore'!F:F)","v":5464.29}]
[null,"AA0870","A.5.D.3) Altri concorsi, recuperi e rimborsi da parte di altri soggetti pubblici",null,"AA0870",{"$f":"SUMIF('00 Aggregatore'!$B:$B,$E112,'00 Aggregatore'!E:E)","v":94410.650000000009},{"$f":"SUMIF('00 Aggregatore'!$B:$B,$E112,'00 Aggregatore'!F:F)","v":43547.270000000004}]
[null,"AA0880","A.5.E) Concorsi, recuperi e rimborsi da privati","S","AA0880",{"$f":"+F114+F118+F119","v":3250107.43},{"$f":"+G114+G118+G119","v":3559203.68}]
[null,"AA0890","A.5.E.1) Rimborso da aziende farmaceutiche per Pay back","S","AA0890",{"$f":"+F115+F116+F117","v":2615698.91},{"$f":"+G115+G116+G117","v":2477467.9500000002}]
[null,"AA0900","A.5.E.1.1) Pay-back per il superamento del tetto della spesa farmaceutica territoriale",null,"AA0900",{"$f":"SUMIF('00 Aggregatore'!$B:$B,$E115,'00 Aggregatore'!E:E)","v":0},{"$f":"SUMIF('00 Aggregatore'!$B:$B,$E115,'00 Aggregatore'!F:F)","v":0}]
[null,"AA0910","A.5.E.1.2) Pay-back per superamento del tetto della spesa farmaceutica ospedaliera",null,"AA0910",{"$f":"SUMIF('00 Aggregatore'!$B:$B,$E116,'00 Aggregatore'!E:E)","v":0},{"$f":"SUMIF('00 Aggregatore'!$B:$B,$E116,'00 Aggregatore'!F:F)","v":0}]
[null,"AA0920","A.5.E.1.3) Ulteriore Pay-back",null,"AA0920",{"$f":"SUMIF('00 Aggregatore'!$B:$B,$E117,'00 Aggregatore'!E:E)","v":2615698.91},{"$f":"SUMIF('00 Aggregatore'!$B:$B,$E117,'00 Aggregatore'!F:F)","v":2477467.9500000002}]
[null,"AA0921","A.5.E.2) Rimborso per Pay back sui dispositivi medici",null,"AA0921",{"$f":"SUMIF('00 Aggregatore'!$B:$B,$E118,'00 Aggregatore'!E:E)","v":0},{"$f":"SUMIF('00 Aggregatore'!$B:$B,$E118,'00 Aggregatore'!F:F)","v":0}]
[null,"AA0930","A.5.E.3) Altri concorsi, recuperi e rimborsi da privati",null,"AA0930",{"$f":"SUMIF('00 Aggregatore'!$B:$B,$E119,'00 Aggregatore'!E:E)","v":634408.52},{"$f":"SUMIF('00 Aggregatore'!$B:$B,$E119,'00 Aggregatore'!F:F)","v":1081735.73}]
[null,"AA0940","A.6)  Compartecipazione alla spesa per prestazioni sanitarie (Ticket)","S","AA0940",{"$f":"+F121+F122+F123","v":6929806.9500000002},{"$f":"+G121+G122+G123","v":7163364.5099999998}]
[null,"AA0950","A.6.A)  Compartecipazione alla spesa per prestazioni sanitarie - Ticket sulle prestazioni di specialistica ambulatoriale e APA-PAC",null,"AA0950",{"$f":"SUMIF('00 Aggregatore'!$B:$B,$E121,'00 Aggregatore'!E:E)","v":6543145.3100000005},{"$f":"SUMIF('00 Aggregatore'!$B:$B,$E121,'00 Aggregatore'!F:F)","v":6930386.2599999998}]
[null,"AA0960","A.6.B)  Compartecipazione alla spesa per prestazioni sanitarie - Ticket sul pronto soccorso",null,"AA0960",{"$f":"SUMIF('00 Aggregatore'!$B:$B,$E122,'00 Aggregatore'!E:E)","v":386661.64},{"$f":"SUMIF('00 Aggregatore'!$B:$B,$E122,'00 Aggregatore'!F:F)","v":232978.25}]
[null,"AA0970","A.6.C)  Compartecipazione alla spesa per prestazioni sanitarie (Ticket) - Altro",null,"AA0970",{"$f":"SUMIF('00 Aggregatore'!$B:$B,$E123,'00 Aggregatore'!E:E)","v":0},{"$f":"SUMIF('00 Aggregatore'!$B:$B,$E123,'00 Aggregatore'!F:F)","v":0}]
[null,"AA0980","A.7)  Quota contributi c/capitale imputata all'esercizio","S","AA0980",{"$f":"+F125+F126+F127+F128+F129+F130","v":10491674.920000002},{"$f":"+G125+G126+G127+G128+G129+G130","v":10730936.629999999}]
[null,"AA0990","A.7.A) Quota imputata all'esercizio dei finanziamenti per investimenti dallo Stato",null,"AA0990",{"$f":"SUMIF('00 Aggregatore'!$B:$B,$E125,'00 Aggregatore'!E:E)","v":54754.03},{"$f":"SUMIF('00 Aggregatore'!$B:$B,$E125,'00 Aggregatore'!F:F)","v":86964.13}]
[null,"AA1000","A.7.B)  Quota imputata all'esercizio dei finanziamenti per investimenti da Regione ",null,"AA1000",{"$f":"SUMIF('00 Aggregatore'!$B:$B,$E126,'00 Aggregatore'!E:E)","v":1674245.68},{"$f":"SUMIF('00 Aggregatore'!$B:$B,$E126,'00 Aggregatore'!F:F)","v":1986864.15}]
[null,"AA1010","A.7.C)  Quota imputata all'esercizio dei finanziamenti per beni di prima dotazione",null,"AA1010",{"$f":"SUMIF('00 Aggregatore'!$B:$B,$E127,'00 Aggregatore'!E:E)","v":3577467.93},{"$f":"SUMIF('00 Aggregatore'!$B:$B,$E127,'00 Aggregatore'!F:F)","v":3577467.93}]
[null,"AA1020","A.7.D) Quota imputata all'esercizio dei contributi in c/ esercizio FSR destinati ad investimenti",null,"AA1020",{"$f":"SUMIF('00 Aggregatore'!$B:$B,$E128,'00 Aggregatore'!E:E)","v":5185207.28},{"$f":"SUMIF('00 Aggregatore'!$B:$B,$E128,'00 Aggregatore'!F:F)","v":5079640.42}]
[null,"AA1030","A.7.E) Quota imputata all'esercizio degli altri contributi in c/ esercizio destinati ad investimenti",null,"AA1030",{"$f":"SUMIF('00 Aggregatore'!$B:$B,$E129,'00 Aggregatore'!E:E)","v":0},{"$f":"SUMIF('00 Aggregatore'!$B:$B,$E129,'00 Aggregatore'!F:F)","v":0}]
[null,"AA1040","A.7.F) Quota imputata all'esercizio di altre poste del patrimonio netto",null,"AA1040",{"$f":"SUMIF('00 Aggregatore'!$B:$B,$E130,'00 Aggregatore'!E:E)","v":0},{"$f":"SUMIF('00 Aggregatore'!$B:$B,$E130,'00 Aggregatore'!F:F)","v":0}]
[null,"AA1050","A.8)  Incrementi delle immobilizzazioni per lavori interni",null,"AA1050",{"$f":"SUMIF('00 Aggregatore'!$B:$B,$E131,'00 Aggregatore'!E:E)","v":0},{"$f":"SUMIF('00 Aggregatore'!$B:$B,$E131,'00 Aggregatore'!F:F)","v":0}]
[null,"AA1060","A.9) Altri ricavi e proventi","S","AA1060",{"$f":"+F133+F134+F135","v":551446.96},{"$f":"+G133+G134+G135","v":582651.32000000007}]
[null,"AA1070","A.9.A) Ricavi per prestazioni non sanitarie",null,"AA1070",{"$f":"SUMIF('00 Aggregatore'!$B:$B,$E133,'00 Aggregatore'!E:E)","v":1738.6},{"$f":"SUMIF('00 Aggregatore'!$B:$B,$E133,'00 Aggregatore'!F:F)","v":6999.55}]
[null,"AA1080","A.9.B) Fitti attivi ed altri proventi da attività immobiliari",null,"AA1080",{"$f":"SUMIF('00 Aggregatore'!$B:$B,$E134,'00 Aggregatore'!E:E)","v":186882.15},{"$f":"SUMIF('00 Aggregatore'!$B:$B,$E134,'00 Aggregatore'!F:F)","v":286977.87}]
[null,"AA1090","A.9.C) Altri proventi diversi",null,"AA1090",{"$f":"SUMIF('00 Aggregatore'!$B:$B,$E135,'00 Aggregatore'!E:E)","v":362826.20999999996},{"$f":"SUMIF('00 Aggregatore'!$B:$B,$E135,'00 Aggregatore'!F:F)","v":288673.90000000002}]
[null,"AZ9999","Totale valore della produzione (A)","S","AZ9999",{"$f":"+F132+F131+F124+F120+F99+F44+F38+F35+F4","v":726128606.73000002},{"$f":"+G132+G131+G124+G120+G99+G44+G38+G35+G4","v":746630253.03000009}]
[null,null,"B)  Costi della produzione"]
[null,"BA0010","B.1)  Acquisti di beni","S","BA0010",{"$f":"+F139+F169","v":132089475.31999998},{"$f":"+G139+G169","v":137720253.81999999}]
[null,"BA0020","B.1.A)  Acquisti di beni sanitari","S","BA0020",{"$f":"+F140+F148+F152+F156+F157+F158+F159+F160+F161+F161","v":131089732.62999998},{"$f":"+G140+G148+G152+G156+G157+G158+G159+G160+G161+G161","v":136729513.87}]
[null,"BA0030","B.1.A.1)  Prodotti farmaceutici ed emoderivati","S","BA0030",{"$f":"SUM(F141:F144)","v":83288901.429999992},{"$f":"SUM(G141:G144)","v":86341021.25}]
[null,"BA0040","B.1.A.1.1) Medicinali con AIC, ad eccezione di vaccini, emoderivati di produzione regionale, ossigeno e altri gas medicali",null,"BA0040",{"$f":"SUMIF('00 Aggregatore'!$B:$B,$E141,'00 Aggregatore'!E:E)","v":81177784.879999995},{"$f":"SUMIF('00 Aggregatore'!$B:$B,$E141,'00 Aggregatore'!F:F)","v":85184508.769999996}]
[null,"BA0050","B.1.A.1.2) Medicinali senza AIC",null,"BA0050",{"$f":"SUMIF('00 Aggregatore'!$B:$B,$E142,'00 Aggregatore'!E:E)","v":752264.34},{"$f":"SUMIF('00 Aggregatore'!$B:$B,$E142,'00 Aggregatore'!F:F)","v":679663.84}]
[null,"BA0051","B.1.A.1.3) Ossigeno e altri gas medicali",null,"BA0051",{"$f":"SUMIF('00 Aggregatore'!$B:$B,$E143,'00 Aggregatore'!E:E)","v":1358852.21},{"$f":"SUMIF('00 Aggregatore'!$B:$B,$E143,'00 Aggregatore'!F:F)","v":476848.64000000001}]
[null,"BA0060","B.1.A.1.4) Emoderivati di produzione regionale","S","BA0060",{"$f":"SUM(F145:F147)","v":0},{"$f":"SUM(G145:G147)","v":0}]
[null,"BA0061","B.1.A.1.4.1) Emoderivati di produzione regionale da pubblico (Aziende sanitarie pubbliche della Regione) - Mobilità intraregionale",null,"BA0061",{"$f":"SUMIF('00 Aggregatore'!$B:$B,$E145,'00 Aggregatore'!E:E)","v":0},{"$f":"SUMIF('00 Aggregatore'!$B:$B,$E145,'00 Aggregatore'!F:F)","v":0}]
[null,"BA0062","B.1.A.1.4.2) Emoderivati di produzione regionale da pubblico (Aziende sanitarie pubbliche della Regione) - Mobilità extraregionale",null,"BA0062",{"$f":"SUMIF('00 Aggregatore'!$B:$B,$E146,'00 Aggregatore'!E:E)","v":0},{"$f":"SUMIF('00 Aggregatore'!$B:$B,$E146,'00 Aggregatore'!F:F)","v":0}]
[null,"BA0063","B.1.A.1.4.3) Emoderivati di produzione regionale da altri soggetti",null,"BA0063",{"$f":"SUMIF('00 Aggregatore'!$B:$B,$E147,'00 Aggregatore'!E:E)","v":0},{"$f":"SUMIF('00 Aggregatore'!$B:$B,$E147,'00 Aggregatore'!F:F)","v":0}]
[null,"BA0070","B.1.A.2)  Sangue ed emocomponenti","S","BA0070",{"$f":"SUM(F149:F151)","v":23080.75},{"$f":"SUM(G149:G151)","v":0}]
[null,"BA0080","B.1.A.2.1) da pubblico (Aziende sanitarie pubbliche della Regione) – Mobilità intraregionale",null,"BA0080",{"$f":"SUMIF('00 Aggregatore'!$B:$B,$E149,'00 Aggregatore'!E:E)","v":0},{"$f":"SUMIF('00 Aggregatore'!$B:$B,$E149,'00 Aggregatore'!F:F)","v":0}]
[null,"BA0090","B.1.A.2.2) da pubblico (Aziende sanitarie pubbliche extra Regione) – Mobilità extraregionale",null,"BA0090",{"$f":"SUMIF('00 Aggregatore'!$B:$B,$E150,'00 Aggregatore'!E:E)","v":23080.75},{"$f":"SUMIF('00 Aggregatore'!$B:$B,$E150,'00 Aggregatore'!F:F)","v":0}]
[null,"BA0100","B.1.A.2.3) da altri soggetti",null,"BA0100",{"$f":"SUMIF('00 Aggregatore'!$B:$B,$E151,'00 Aggregatore'!E:E)","v":0},{"$f":"SUMIF('00 Aggregatore'!$B:$B,$E151,'00 Aggregatore'!F:F)","v":0}]
[null,"BA0210","B.1.A.3) Dispositivi medici","S","BA0210",{"$f":"SUM(F153:F155)","v":42871861.68},{"$f":"SUM(G153:G155)","v":45240360.950000003}]
[null,"BA0220","B.1.A.3.1)  Dispositivi medici ",null,"BA0220",{"$f":"SUMIF('00 Aggregatore'!$B:$B,$E153,'00 Aggregatore'!E:E)","v":27013313.950000003},{"$f":"SUMIF('00 Aggregatore'!$B:$B,$E153,'00 Aggregatore'!F:F)","v":28968171.859999999}]
[null,"BA0230","B.1.A.3.2)  Dispositivi medici impiantabili attivi",null,"BA0230",{"$f":"SUMIF('00 Aggregatore'!$B:$B,$E154,'00 Aggregatore'!E:E)","v":3071999.01},{"$f":"SUMIF('00 Aggregatore'!$B:$B,$E154,'00 Aggregatore'!F:F)","v":3788645.64}]
[null,"BA0240","B.1.A.3.3)  Dispositivi medico diagnostici in vitro (IVD)",null,"BA0240",{"$f":"SUMIF('00 Aggregatore'!$B:$B,$E155,'00 Aggregatore'!E:E)","v":12786548.720000001},{"$f":"SUMIF('00 Aggregatore'!$B:$B,$E155,'00 Aggregatore'!F:F)","v":12483543.449999999}]
[null,"BA0250","B.1.A.4)  Prodotti dietetici",null,"BA0250",{"$f":"SUMIF('00 Aggregatore'!$B:$B,$E156,'00 Aggregatore'!E:E)","v":468960.66},{"$f":"SUMIF('00 Aggregatore'!$B:$B,$E156,'00 Aggregatore'!F:F)","v":459964.75}]
[null,"BA0260","B.1.A.5)  Materiali per la profilassi (vaccini)",null,"BA0260",{"$f":"SUMIF('00 Aggregatore'!$B:$B,$E157,'00 Aggregatore'!E:E)","v":2222785.11},{"$f":"SUMIF('00 Aggregatore'!$B:$B,$E157,'00 Aggregatore'!F:F)","v":2684881.73}]
[null,"BA0270","B.1.A.6)  Prodotti chimici",null,"BA0270",{"$f":"SUMIF('00 Aggregatore'!$B:$B,$E158,'00 Aggregatore'!E:E)","v":0},{"$f":"SUMIF('00 Aggregatore'!$B:$B,$E158,'00 Aggregatore'!F:F)","v":0}]
[null,"BA0280","B.1.A.7)  Materiali e prodotti per uso veterinario",null,"BA0280",{"$f":"SUMIF('00 Aggregatore'!$B:$B,$E159,'00 Aggregatore'!E:E)","v":20636.41},{"$f":"SUMIF('00 Aggregatore'!$B:$B,$E159,'00 Aggregatore'!F:F)","v":15170.48}]
[null,"BA0290","B.1.A.8)  Altri beni e prodotti sanitari",null,"BA0290",{"$f":"SUMIF('00 Aggregatore'!$B:$B,$E160,'00 Aggregatore'!E:E)","v":2193506.59},{"$f":"SUMIF('00 Aggregatore'!$B:$B,$E160,'00 Aggregatore'!F:F)","v":1988114.71}]
[null,"BA0300","B.1.A.9)  Beni e prodotti sanitari da Aziende sanitarie pubbliche della Regione","S","BA0300",{"$f":"SUM(F162:F168)","v":0},{"$f":"SUM(G162:G168)","v":0}]
[null,"BA0301","B.1.A.9.1)  Prodotti farmaceutici ed emoderivati",null,"BA0301",{"$f":"SUMIF('00 Aggregatore'!$B:$B,$E162,'00 Aggregatore'!E:E)","v":0},{"$f":"SUMIF('00 Aggregatore'!$B:$B,$E162,'00 Aggregatore'!F:F)","v":0}]
[null,"BA0303","B.1.A.9.3) Dispositivi medici",null,"BA0303",{"$f":"SUMIF('00 Aggregatore'!$B:$B,$E163,'00 Aggregatore'!E:E)","v":0},{"$f":"SUMIF('00 Aggregatore'!$B:$B,$E163,'00 Aggregatore'!F:F)","v":0}]
[null,"BA0304","B.1.A.9.4)  Prodotti dietetici",null,"BA0304",{"$f":"SUMIF('00 Aggregatore'!$B:$B,$E164,'00 Aggregatore'!E:E)","v":0},{"$f":"SUMIF('00 Aggregatore'!$B:$B,$E164,'00 Aggregatore'!F:F)","v":0}]
[null,"BA0305","B.1.A.9.5)  Materiali per la profilassi (vaccini)",null,"BA0305",{"$f":"SUMIF('00 Aggregatore'!$B:$B,$E165,'00 Aggregatore'!E:E)","v":0},{"$f":"SUMIF('00 Aggregatore'!$B:$B,$E165,'00 Aggregatore'!F:F)","v":0}]
[null,"BA0306","B.1.A.9.6)  Prodotti chimici",null,"BA0306",{"$f":"SUMIF('00 Aggregatore'!$B:$B,$E166,'00 Aggregatore'!E:E)","v":0},{"$f":"SUMIF('00 Aggregatore'!$B:$B,$E166,'00 Aggregatore'!F:F)","v":0}]
[null,"BA0307","B.1.A.9.7)  Materiali e prodotti per uso veterinario",null,"BA0307",{"$f":"SUMIF('00 Aggregatore'!$B:$B,$E167,'00 Aggregatore'!E:E)","v":0},{"$f":"SUMIF('00 Aggregatore'!$B:$B,$E167,'00 Aggregatore'!F:F)","v":0}]
[null,"BA0308","B.1.A.9.8)  Altri beni e prodotti sanitari",null,"BA0308",{"$f":"SUMIF('00 Aggregatore'!$B:$B,$E168,'00 Aggregatore'!E:E)","v":0},{"$f":"SUMIF('00 Aggregatore'!$B:$B,$E168,'00 Aggregatore'!F:F)","v":0}]
[null,"BA0310","B.1.B)  Acquisti di beni non sanitari","S","BA0310",{"$f":"SUM(F170:F176)","v":999742.69},{"$f":"SUM(G170:G176)","v":990739.95}]
[null,"BA0320","B.1.B.1)  Prodotti alimentari",null,"BA0320",{"$f":"SUMIF('00 Aggregatore'!$B:$B,$E170,'00 Aggregatore'!E:E)","v":83.52},{"$f":"SUMIF('00 Aggregatore'!$B:$B,$E170,'00 Aggregatore'!F:F)","v":336.06}]
[null,"BA0330","B.1.B.2)  Materiali di guardaroba, di pulizia e di convivenza in genere",null,"BA0330",{"$f":"SUMIF('00 Aggregatore'!$B:$B,$E171,'00 Aggregatore'!E:E)","v":64306.42},{"$f":"SUMIF('00 Aggregatore'!$B:$B,$E171,'00 Aggregatore'!F:F)","v":34271.29}]
[null,"BA0340","B.1.B.3)  Combustibili, carburanti e lubrificanti",null,"BA0340",{"$f":"SUMIF('00 Aggregatore'!$B:$B,$E172,'00 Aggregatore'!E:E)","v":172419.52},{"$f":"SUMIF('00 Aggregatore'!$B:$B,$E172,'00 Aggregatore'!F:F)","v":145758.07999999999}]
[null,"BA0350","B.1.B.4)  Supporti informatici e cancelleria",null,"BA0350",{"$f":"SUMIF('00 Aggregatore'!$B:$B,$E173,'00 Aggregatore'!E:E)","v":477974.89999999997},{"$f":"SUMIF('00 Aggregatore'!$B:$B,$E173,'00 Aggregatore'!F:F)","v":458683.01}]
[null,"BA0360","B.1.B.5)  Materiale per la manutenzione",null,"BA0360",{"$f":"SUMIF('00 Aggregatore'!$B:$B,$E174,'00 Aggregatore'!E:E)","v":239884.37},{"$f":"SUMIF('00 Aggregatore'!$B:$B,$E174,'00 Aggregatore'!F:F)","v":284528.75}]
[null,"BA0370","B.1.B.6)  Altri beni e prodotti non sanitari",null,"BA0370",{"$f":"SUMIF('00 Aggregatore'!$B:$B,$E175,'00 Aggregatore'!E:E)","v":45073.96},{"$f":"SUMIF('00 Aggregatore'!$B:$B,$E175,'00 Aggregatore'!F:F)","v":67162.759999999995}]
[null,"BA0380","B.1.B.7)  Beni e prodotti non sanitari da Aziende sanitarie pubbliche della Regione",null,"BA0380",{"$f":"SUMIF('00 Aggregatore'!$B:$B,$E176,'00 Aggregatore'!E:E)","v":0},{"$f":"SUMIF('00 Aggregatore'!$B:$B,$E176,'00 Aggregatore'!F:F)","v":0}]
[null,"BA0390","B.2)  Acquisti di servizi","S","BA0390",{"$f":"+F178+F308","v":368048523.80999982},{"$f":"+G178+G308","v":374074005.05000013}]
[null,"BA0400","B.2.A)   Acquisti servizi sanitari","S","BA0400",{"$f":"+F179+F187+F191+F210+F216+F221+F226+F236+F242+F249+F255+F260+F269+F277+F285+F299+F307","v":331170827.86999983},{"$f":"+G179+G187+G191+G210+G216+G221+G226+G236+G242+G249+G255+G260+G269+G277+G285+G299+G307","v":337098602.43000013}]
[null,"BA0410","B.2.A.1)   Acquisti servizi sanitari per medicina di base","S","BA0410",{"$f":"+F180+F185+F186","v":35909283.82},{"$f":"+G180+G185+G186","v":35330014.780000001}]
[null,"BA0420","B.2.A.1.1) - da convenzione","S","BA0420",{"$f":"SUM(F181:F184)","v":35653505.32},{"$f":"SUM(G181:G184)","v":35075850.210000001}]
[null,"BA0430","B.2.A.1.1.A) Costi per assistenza MMG",null,"BA0430",{"$f":"SUMIF('00 Aggregatore'!$B:$B,$E181,'00 Aggregatore'!E:E)","v":24517314.75},{"$f":"SUMIF('00 Aggregatore'!$B:$B,$E181,'00 Aggregatore'!F:F)","v":23959444.879999999}]
[null,"BA0440","B.2.A.1.1.B) Costi per assistenza PLS",null,"BA0440",{"$f":"SUMIF('00 Aggregatore'!$B:$B,$E182,'00 Aggregatore'!E:E)","v":6415070.5300000003},{"$f":"SUMIF('00 Aggregatore'!$B:$B,$E182,'00 Aggregatore'!F:F)","v":5870213.8600000003}]
[null,"BA0450","B.2.A.1.1.C) Costi per assistenza Continuità assistenziale",null,"BA0450",{"$f":"SUMIF('00 Aggregatore'!$B:$B,$E183,'00 Aggregatore'!E:E)","v":3931463.93},{"$f":"SUMIF('00 Aggregatore'!$B:$B,$E183,'00 Aggregatore'!F:F)","v":4254569.59}]
[null,"BA0460","B.2.A.1.1.D) Altro (medicina dei servizi, psicologi, medici 118, ecc)",null,"BA0460",{"$f":"SUMIF('00 Aggregatore'!$B:$B,$E184,'00 Aggregatore'!E:E)","v":789656.11},{"$f":"SUMIF('00 Aggregatore'!$B:$B,$E184,'00 Aggregatore'!F:F)","v":991621.88}]
[null,"BA0470","B.2.A.1.2) - da pubblico (Aziende sanitarie pubbliche della Regione) - Mobilità intraregionale",null,"BA0470",{"$f":"SUMIF('00 Aggregatore'!$B:$B,$E185,'00 Aggregatore'!E:E)","v":38671},{"$f":"SUMIF('00 Aggregatore'!$B:$B,$E185,'00 Aggregatore'!F:F)","v":51404.4}]
[null,"BA0480","B.2.A.1.3) - da pubblico (Aziende sanitarie pubbliche Extraregione) - Mobilità extraregionale",null,"BA0480",{"$f":"SUMIF('00 Aggregatore'!$B:$B,$E186,'00 Aggregatore'!E:E)","v":217107.5},{"$f":"SUMIF('00 Aggregatore'!$B:$B,$E186,'00 Aggregatore'!F:F)","v":202760.17}]
[null,"BA0490","B.2.A.2)   Acquisti servizi sanitari per farmaceutica","S","BA0490",{"$f":"+F188+F189+F190","v":51864361.029999994},{"$f":"+G188+G189+G190","v":48380817.380000003}]
[null,"BA0500","B.2.A.2.1) - da convenzione",null,"BA0500",{"$f":"SUMIF('00 Aggregatore'!$B:$B,$E188,'00 Aggregatore'!E:E)","v":50129678.229999997},{"$f":"SUMIF('00 Aggregatore'!$B:$B,$E188,'00 Aggregatore'!F:F)","v":46621762.020000003}]
[null,"BA0510","B.2.A.2.2) - da pubblico (Aziende sanitarie pubbliche della Regione)- Mobilità intraregionale",null,"BA0510",{"$f":"SUMIF('00 Aggregatore'!$B:$B,$E189,'00 Aggregatore'!E:E)","v":1277628.07},{"$f":"SUMIF('00 Aggregatore'!$B:$B,$E189,'00 Aggregatore'!F:F)","v":1255010.99}]
[null,"BA0520","B.2.A.2.3) - da pubblico (Extraregione)",null,"BA0520",{"$f":"SUMIF('00 Aggregatore'!$B:$B,$E190,'00 Aggregatore'!E:E)","v":457054.73},{"$f":"SUMIF('00 Aggregatore'!$B:$B,$E190,'00 Aggregatore'!F:F)","v":504044.37}]
[null,"BA0530","B.2.A.3)   Acquisti servizi sanitari per assistenza specialistica ambulatoriale","S","BA0530",{"$f":"+F192+F193+F194+F195+F196+F197+F198+F199+F208+F209","v":26809571.489999998},{"$f":"+G192+G193+G194+G195+G196+G197+G198+G199+G208+G209","v":26090460.290000003}]
[null,"BA0540","B.2.A.3.1) - da pubblico (Aziende sanitarie pubbliche della Regione)",null,"BA0540",{"$f":"SUMIF('00 Aggregatore'!$B:$B,$E192,'00 Aggregatore'!E:E)","v":8879359.5700000003},{"$f":"SUMIF('00 Aggregatore'!$B:$B,$E192,'00 Aggregatore'!F:F)","v":9027977.0899999999}]
[null,"BA0541","B.2.A.3.2) prestazioni di pronto soccorso  non seguite da ricovero - da pubblico (Aziende sanitarie pubbliche della Regione)",null,"BA0541",{"$f":"SUMIF('00 Aggregatore'!$B:$B,$E193,'00 Aggregatore'!E:E)","v":0},{"$f":"SUMIF('00 Aggregatore'!$B:$B,$E193,'00 Aggregatore'!F:F)","v":0}]
[null,"BA0550","B.2.A.3.3) - da pubblico (altri soggetti pubbl. della Regione)",null,"BA0550",{"$f":"SUMIF('00 Aggregatore'!$B:$B,$E194,'00 Aggregatore'!E:E)","v":360209.89},{"$f":"SUMIF('00 Aggregatore'!$B:$B,$E194,'00 Aggregatore'!F:F)","v":580281.24}]
[null,"BA0551","B.2.A.3.4) prestazioni di pronto soccorso  non seguite da ricovero - da pubblico (altri soggetti pubbl. della Regione)",null,"BA0551",{"$f":"SUMIF('00 Aggregatore'!$B:$B,$E195,'00 Aggregatore'!E:E)","v":0},{"$f":"SUMIF('00 Aggregatore'!$B:$B,$E195,'00 Aggregatore'!F:F)","v":0}]
[null,"BA0560","B.2.A.3.5) - da pubblico (Extraregione)",null,"BA0560",{"$f":"SUMIF('00 Aggregatore'!$B:$B,$E196,'00 Aggregatore'!E:E)","v":4000753.58},{"$f":"SUMIF('00 Aggregatore'!$B:$B,$E196,'00 Aggregatore'!F:F)","v":3402818.86}]
[null,"BA0561","B.2.A.3.6) prestazioni di pronto soccorso  non seguite da ricovero - da pubblico (Extraregione)",null,"BA0561",{"$f":"SUMIF('00 Aggregatore'!$B:$B,$E197,'00 Aggregatore'!E:E)","v":0},{"$f":"SUMIF('00 Aggregatore'!$B:$B,$E197,'00 Aggregatore'!F:F)","v":0}]
[null,"BA0570","B.2.A.3.7) - da privato - Medici SUMAI",null,"BA0570",{"$f":"SUMIF('00 Aggregatore'!$B:$B,$E198,'00 Aggregatore'!E:E)","v":4486744.21},{"$f":"SUMIF('00 Aggregatore'!$B:$B,$E198,'00 Aggregatore'!F:F)","v":4184408.7}]
[null,"BA0580","B.2.A.3.8) - da privato","S","BA0580",{"$f":"SUM(F200:F207)","v":8885806.0099999998},{"$f":"SUM(G200:G207)","v":8698101.9199999999}]
[null,"BA0590","B.2.A.3.8.A) Servizi sanitari per assistenza specialistica da IRCCS privati e Policlinici privati",null,"BA0590",{"$f":"SUMIF('00 Aggregatore'!$B:$B,$E200,'00 Aggregatore'!E:E)","v":83336.34},{"$f":"SUMIF('00 Aggregatore'!$B:$B,$E200,'00 Aggregatore'!F:F)","v":55662.5}]
[null,"BA0591","B.2.A.3.8.B) Servizi sanitari per prestazioni di pronto soccorso non seguite da ricovero - da IRCCS privati e Policlinici privati",null,"BA0591",{"$f":"SUMIF('00 Aggregatore'!$B:$B,$E201,'00 Aggregatore'!E:E)","v":0},{"$f":"SUMIF('00 Aggregatore'!$B:$B,$E201,'00 Aggregatore'!F:F)","v":0}]
[null,"BA0600","B.2.A.3.8.C) Servizi sanitari per assistenza specialistica da Ospedali Classificati privati",null,"BA0600",{"$f":"SUMIF('00 Aggregatore'!$B:$B,$E202,'00 Aggregatore'!E:E)","v":0},{"$f":"SUMIF('00 Aggregatore'!$B:$B,$E202,'00 Aggregatore'!F:F)","v":0}]
[null,"BA0601","B.2.A.3.8.D) Servizi sanitari per prestazioni di pronto soccorso non seguite da ricovero - da Ospedali Classificati privati",null,"BA0601",{"$f":"SUMIF('00 Aggregatore'!$B:$B,$E203,'00 Aggregatore'!E:E)","v":0},{"$f":"SUMIF('00 Aggregatore'!$B:$B,$E203,'00 Aggregatore'!F:F)","v":0}]
[null,"BA0610","B.2.A.3.8.E) Servizi sanitari per assistenza specialistica da Case di Cura private",null,"BA0610",{"$f":"SUMIF('00 Aggregatore'!$B:$B,$E204,'00 Aggregatore'!E:E)","v":5463686.8200000003},{"$f":"SUMIF('00 Aggregatore'!$B:$B,$E204,'00 Aggregatore'!F:F)","v":5344557.33}]
[null,"BA0611","B.2.A.3.8.F) Servizi sanitari per prestazioni di pronto soccorso non seguite da ricovero - da Case di Cura private",null,"BA0611",{"$f":"SUMIF('00 Aggregatore'!$B:$B,$E205,'00 Aggregatore'!E:E)","v":0},{"$f":"SUMIF('00 Aggregatore'!$B:$B,$E205,'00 Aggregatore'!F:F)","v":0}]
[null,"BA0620","B.2.A.3.8.G) Servizi sanitari per assistenza specialistica da altri privati",null,"BA0620",{"$f":"SUMIF('00 Aggregatore'!$B:$B,$E206,'00 Aggregatore'!E:E)","v":3338782.85},{"$f":"SUMIF('00 Aggregatore'!$B:$B,$E206,'00 Aggregatore'!F:F)","v":3297882.0900000003}]
[null,"BA0621","B.2.A.3.8.H) Servizi sanitari per prestazioni di pronto soccorso non seguite da ricovero - da altri privati",null,"BA0621",{"$f":"SUMIF('00 Aggregatore'!$B:$B,$E207,'00 Aggregatore'!E:E)","v":0},{"$f":"SUMIF('00 Aggregatore'!$B:$B,$E207,'00 Aggregatore'!F:F)","v":0}]
[null,"BA0630","B.2.A.3.9) - da privato per cittadini non residenti - Extraregione (mobilità attiva in compensazione)",null,"BA0630",{"$f":"SUMIF('00 Aggregatore'!$B:$B,$E208,'00 Aggregatore'!E:E)","v":196698.22999999998},{"$f":"SUMIF('00 Aggregatore'!$B:$B,$E208,'00 Aggregatore'!F:F)","v":196872.47999999998}]
[null,"BA0631","B.2.A.3.10) Servizi sanitari per prestazioni di pronto soccorso non seguite da ricovero - da privato per cittadini non residenti - Extraregione (mobilità attiva in compensazione)",null,"BA0631",{"$f":"SUMIF('00 Aggregatore'!$B:$B,$E209,'00 Aggregatore'!E:E)","v":0},{"$f":"SUMIF('00 Aggregatore'!$B:$B,$E209,'00 Aggregatore'!F:F)","v":0}]
[null,"BA0640","B.2.A.4)   Acquisti servizi sanitari per assistenza riabilitativa","S","BA0640",{"$f":"SUM(F211:F215)","v":19990902.559999999},{"$f":"SUM(G211:G215)","v":20274723.890000001}]
[null,"BA0650","B.2.A.4.1) - da pubblico (Aziende sanitarie pubbliche della Regione)",null,"BA0650",{"$f":"SUMIF('00 Aggregatore'!$B:$B,$E211,'00 Aggregatore'!E:E)","v":4832965.95},{"$f":"SUMIF('00 Aggregatore'!$B:$B,$E211,'00 Aggregatore'!F:F)","v":5168858.88}]
[null,"BA0660","B.2.A.4.2) - da pubblico (altri soggetti pubbl. della Regione)",null,"BA0660",{"$f":"SUMIF('00 Aggregatore'!$B:$B,$E212,'00 Aggregatore'!E:E)","v":0},{"$f":"SUMIF('00 Aggregatore'!$B:$B,$E212,'00 Aggregatore'!F:F)","v":0}]
[null,"BA0670","B.2.A.4.3) - da pubblico (Extraregione) non soggetti a compensazione",null,"BA0670",{"$f":"SUMIF('00 Aggregatore'!$B:$B,$E213,'00 Aggregatore'!E:E)","v":0},{"$f":"SUMIF('00 Aggregatore'!$B:$B,$E213,'00 Aggregatore'!F:F)","v":0}]
[null,"BA0680","B.2.A.4.4) - da privato (intraregionale)",null,"BA0680",{"$f":"SUMIF('00 Aggregatore'!$B:$B,$E214,'00 Aggregatore'!E:E)","v":14612451.73},{"$f":"SUMIF('00 Aggregatore'!$B:$B,$E214,'00 Aggregatore'!F:F)","v":14522765.17}]
[null,"BA0690","B.2.A.4.5) - da privato (extraregionale)",null,"BA0690",{"$f":"SUMIF('00 Aggregatore'!$B:$B,$E215,'00 Aggregatore'!E:E)","v":545484.88},{"$f":"SUMIF('00 Aggregatore'!$B:$B,$E215,'00 Aggregatore'!F:F)","v":583099.84}]
[null,"BA0700","B.2.A.5)   Acquisti servizi sanitari per assistenza integrativa","S","BA0700",{"$f":"SUM(F217:F220)","v":1802068.84},{"$f":"SUM(G217:G220)","v":1733047.08}]
[null,"BA0710","B.2.A.5.1) - da pubblico (Aziende sanitarie pubbliche della Regione)",null,"BA0710",{"$f":"SUMIF('00 Aggregatore'!$B:$B,$E217,'00 Aggregatore'!E:E)","v":0},{"$f":"SUMIF('00 Aggregatore'!$B:$B,$E217,'00 Aggregatore'!F:F)","v":0}]
[null,"BA0720","B.2.A.5.2) - da pubblico (altri soggetti pubbl. della Regione)",null,"BA0720",{"$f":"SUMIF('00 Aggregatore'!$B:$B,$E218,'00 Aggregatore'!E:E)","v":0},{"$f":"SUMIF('00 Aggregatore'!$B:$B,$E218,'00 Aggregatore'!F:F)","v":0}]
[null,"BA0730","B.2.A.5.3) - da pubblico (Extraregione)",null,"BA0730",{"$f":"SUMIF('00 Aggregatore'!$B:$B,$E219,'00 Aggregatore'!E:E)","v":0},{"$f":"SUMIF('00 Aggregatore'!$B:$B,$E219,'00 Aggregatore'!F:F)","v":0}]
[null,"BA0740","B.2.A.5.4) - da privato",null,"BA0740",{"$f":"SUMIF('00 Aggregatore'!$B:$B,$E220,'00 Aggregatore'!E:E)","v":1802068.84},{"$f":"SUMIF('00 Aggregatore'!$B:$B,$E220,'00 Aggregatore'!F:F)","v":1733047.08}]
[null,"BA0750","B.2.A.6)   Acquisti servizi sanitari per assistenza protesica","S","BA0750",{"$f":"SUM(F222:F225)","v":6303229.0099999998},{"$f":"SUM(G222:G225)","v":6846095.7100000009}]
[null,"BA0760","B.2.A.6.1) - da pubblico (Aziende sanitarie pubbliche della Regione)",null,"BA0760",{"$f":"SUMIF('00 Aggregatore'!$B:$B,$E222,'00 Aggregatore'!E:E)","v":0},{"$f":"SUMIF('00 Aggregatore'!$B:$B,$E222,'00 Aggregatore'!F:F)","v":0}]
[null,"BA0770","B.2.A.6.2) - da pubblico (altri soggetti pubbl. della Regione)",null,"BA0770",{"$f":"SUMIF('00 Aggregatore'!$B:$B,$E223,'00 Aggregatore'!E:E)","v":0},{"$f":"SUMIF('00 Aggregatore'!$B:$B,$E223,'00 Aggregatore'!F:F)","v":0}]
[null,"BA0780","B.2.A.6.3) - da pubblico (Extraregione)",null,"BA0780",{"$f":"SUMIF('00 Aggregatore'!$B:$B,$E224,'00 Aggregatore'!E:E)","v":0},{"$f":"SUMIF('00 Aggregatore'!$B:$B,$E224,'00 Aggregatore'!F:F)","v":0}]
[null,"BA0790","B.2.A.6.4) - da privato",null,"BA0790",{"$f":"SUMIF('00 Aggregatore'!$B:$B,$E225,'00 Aggregatore'!E:E)","v":6303229.0099999998},{"$f":"SUMIF('00 Aggregatore'!$B:$B,$E225,'00 Aggregatore'!F:F)","v":6846095.7100000009}]
[null,"BA0800","B.2.A.7)   Acquisti servizi sanitari per assistenza ospedaliera","S","BA0800",{"$f":"SUM(F227:F230,F235)","v":123489437.36999999},{"$f":"SUM(G227:G230,G235)","v":131436628.68000001}]
[null,"BA0810","B.2.A.7.1) - da pubblico (Aziende sanitarie pubbliche della Regione)",null,"BA0810",{"$f":"SUMIF('00 Aggregatore'!$B:$B,$E227,'00 Aggregatore'!E:E)","v":26481532.390000001},{"$f":"SUMIF('00 Aggregatore'!$B:$B,$E227,'00 Aggregatore'!F:F)","v":28052232.689999998}]
[null,"BA0820","B.2.A.7.2) - da pubblico (altri soggetti pubbl. della Regione)",null,"BA0820",{"$f":"SUMIF('00 Aggregatore'!$B:$B,$E228,'00 Aggregatore'!E:E)","v":0},{"$f":"SUMIF('00 Aggregatore'!$B:$B,$E228,'00 Aggregatore'!F:F)","v":0}]
[null,"BA0830","B.2.A.7.3) - da pubblico (Extraregione)",null,"BA0830",{"$f":"SUMIF('00 Aggregatore'!$B:$B,$E229,'00 Aggregatore'!E:E)","v":24057993.460000001},{"$f":"SUMIF('00 Aggregatore'!$B:$B,$E229,'00 Aggregatore'!F:F)","v":30364599.559999999}]
[null,"BA0840","B.2.A.7.4) - da privato","S","BA0840",{"$f":"SUM(F231:F234)","v":62664028.379999995},{"$f":"SUM(G231:G234)","v":64592865.920000002}]
[null,"BA0850","B.2.A.7.4.A) Servizi sanitari per assistenza ospedaliera da IRCCS privati e Policlinici privati",null,"BA0850",{"$f":"SUMIF('00 Aggregatore'!$B:$B,$E231,'00 Aggregatore'!E:E)","v":0},{"$f":"SUMIF('00 Aggregatore'!$B:$B,$E231,'00 Aggregatore'!F:F)","v":0}]
[null,"BA0860","B.2.A.7.4.B) Servizi sanitari per assistenza ospedaliera da Ospedali Classificati privati",null,"BA0860",{"$f":"SUMIF('00 Aggregatore'!$B:$B,$E232,'00 Aggregatore'!E:E)","v":0},{"$f":"SUMIF('00 Aggregatore'!$B:$B,$E232,'00 Aggregatore'!F:F)","v":0}]
[null,"BA0870","B.2.A.7.4.C) Servizi sanitari per assistenza ospedaliera da Case di Cura private",null,"BA0870",{"$f":"SUMIF('00 Aggregatore'!$B:$B,$E233,'00 Aggregatore'!E:E)","v":62664028.379999995},{"$f":"SUMIF('00 Aggregatore'!$B:$B,$E233,'00 Aggregatore'!F:F)","v":64592865.920000002}]
[null,"BA0880","B.2.A.7.4.D) Servizi sanitari per assistenza ospedaliera da altri privati",null,"BA0880",{"$f":"SUMIF('00 Aggregatore'!$B:$B,$E234,'00 Aggregatore'!E:E)","v":0},{"$f":"SUMIF('00 Aggregatore'!$B:$B,$E234,'00 Aggregatore'!F:F)","v":0}]
[null,"BA0890","B.2.A.7.5) - da privato per cittadini non residenti - Extraregione (mobilità attiva in compensazione)",null,"BA0890",{"$f":"SUMIF('00 Aggregatore'!$B:$B,$E235,'00 Aggregatore'!E:E)","v":10285883.140000001},{"$f":"SUMIF('00 Aggregatore'!$B:$B,$E235,'00 Aggregatore'!F:F)","v":8426930.5099999998}]
[null,"BA0900","B.2.A.8)   Acquisto prestazioni di psichiatria residenziale e semiresidenziale","S","BA0900",{"$f":"SUM(F237:F241)","v":13021762.400000002},{"$f":"SUM(G237:G241)","v":12842279.100000001}]
[null,"BA0910","B.2.A.8.1) - da pubblico (Aziende sanitarie pubbliche della Regione)",null,"BA0910",{"$f":"SUMIF('00 Aggregatore'!$B:$B,$E237,'00 Aggregatore'!E:E)","v":1551575.5},{"$f":"SUMIF('00 Aggregatore'!$B:$B,$E237,'00 Aggregatore'!F:F)","v":1735685.3}]
[null,"BA0920","B.2.A.8.2) - da pubblico (altri soggetti pubbl. della Regione)",null,"BA0920",{"$f":"SUMIF('00 Aggregatore'!$B:$B,$E238,'00 Aggregatore'!E:E)","v":0},{"$f":"SUMIF('00 Aggregatore'!$B:$B,$E238,'00 Aggregatore'!F:F)","v":0}]
[null,"BA0930","B.2.A.8.3) - da pubblico (Extraregione) - non soggette a compensazione",null,"BA0930",{"$f":"SUMIF('00 Aggregatore'!$B:$B,$E239,'00 Aggregatore'!E:E)","v":81781.600000000006},{"$f":"SUMIF('00 Aggregatore'!$B:$B,$E239,'00 Aggregatore'!F:F)","v":60576}]
[null,"BA0940","B.2.A.8.4) - da privato (intraregionale)",null,"BA0940",{"$f":"SUMIF('00 Aggregatore'!$B:$B,$E240,'00 Aggregatore'!E:E)","v":9798519.8400000017},{"$f":"SUMIF('00 Aggregatore'!$B:$B,$E240,'00 Aggregatore'!F:F)","v":9380591.6799999997}]
[null,"BA0950","B.2.A.8.5) - da privato (extraregionale)",null,"BA0950",{"$f":"SUMIF('00 Aggregatore'!$B:$B,$E241,'00 Aggregatore'!E:E)","v":1589885.46},{"$f":"SUMIF('00 Aggregatore'!$B:$B,$E241,'00 Aggregatore'!F:F)","v":1665426.12}]
[null,"BA0960","B.2.A.9)   Acquisto prestazioni di distribuzione farmaci File F","S","BA0960",{"$f":"SUM(F243:F248)","v":7092976.6900000004},{"$f":"SUM(G243:G248)","v":8471399.0999999996}]
[null,"BA0970","B.2.A.9.1) - da pubblico (Aziende sanitarie pubbliche della Regione) - Mobilità intraregionale",null,"BA0970",{"$f":"SUMIF('00 Aggregatore'!$B:$B,$E243,'00 Aggregatore'!E:E)","v":4464112.37},{"$f":"SUMIF('00 Aggregatore'!$B:$B,$E243,'00 Aggregatore'!F:F)","v":4858115.13}]
[null,"BA0980","B.2.A.9.2) - da pubblico (altri soggetti pubbl. della Regione)",null,"BA0980",{"$f":"SUMIF('00 Aggregatore'!$B:$B,$E244,'00 Aggregatore'!E:E)","v":0},{"$f":"SUMIF('00 Aggregatore'!$B:$B,$E244,'00 Aggregatore'!F:F)","v":0}]
[null,"BA0990","B.2.A.9.3) - da pubblico (Extraregione)",null,"BA0990",{"$f":"SUMIF('00 Aggregatore'!$B:$B,$E245,'00 Aggregatore'!E:E)","v":2195879.04},{"$f":"SUMIF('00 Aggregatore'!$B:$B,$E245,'00 Aggregatore'!F:F)","v":1901052.91}]
[null,"BA1000","B.2.A.9.4) - da privato (intraregionale)",null,"BA1000",{"$f":"SUMIF('00 Aggregatore'!$B:$B,$E246,'00 Aggregatore'!E:E)","v":432985.28},{"$f":"SUMIF('00 Aggregatore'!$B:$B,$E246,'00 Aggregatore'!F:F)","v":1712231.06}]
[null,"BA1010","B.2.A.9.5) - da privato (extraregionale)",null,"BA1010",{"$f":"SUMIF('00 Aggregatore'!$B:$B,$E247,'00 Aggregatore'!E:E)","v":0},{"$f":"SUMIF('00 Aggregatore'!$B:$B,$E247,'00 Aggregatore'!F:F)","v":0}]
[null,"BA1020","B.2.A.9.6) - da privato per cittadini non residenti - Extraregione (mobilità attiva in compensazione)",null,"BA1020",{"$f":"SUMIF('00 Aggregatore'!$B:$B,$E248,'00 Aggregatore'!E:E)","v":0},{"$f":"SUMIF('00 Aggregatore'!$B:$B,$E248,'00 Aggregatore'!F:F)","v":0}]
[null,"BA1030","B.2.A.10)   Acquisto prestazioni termali in convenzione","S","BA1030",{"$f":"SUM(F250:F254)","v":2149505.71},{"$f":"SUM(G250:G254)","v":1664343.8799999997}]
[null,"BA1040","B.2.A.10.1) - da pubblico (Aziende sanitarie pubbliche della Regione) - Mobilità intraregionale",null,"BA1040",{"$f":"SUMIF('00 Aggregatore'!$B:$B,$E250,'00 Aggregatore'!E:E)","v":0},{"$f":"SUMIF('00 Aggregatore'!$B:$B,$E250,'00 Aggregatore'!F:F)","v":46.2}]
[null,"BA1050","B.2.A.10.2) - da pubblico (altri soggetti pubbl. della Regione)",null,"BA1050",{"$f":"SUMIF('00 Aggregatore'!$B:$B,$E251,'00 Aggregatore'!E:E)","v":0},{"$f":"SUMIF('00 Aggregatore'!$B:$B,$E251,'00 Aggregatore'!F:F)","v":0}]
[null,"BA1060","B.2.A.10.3) - da pubblico (Extraregione)",null,"BA1060",{"$f":"SUMIF('00 Aggregatore'!$B:$B,$E252,'00 Aggregatore'!E:E)","v":95302.31},{"$f":"SUMIF('00 Aggregatore'!$B:$B,$E252,'00 Aggregatore'!F:F)","v":106826.2}]
[null,"BA1070","B.2.A.10.4) - da privato",null,"BA1070",{"$f":"SUMIF('00 Aggregatore'!$B:$B,$E253,'00 Aggregatore'!E:E)","v":1821580.51},{"$f":"SUMIF('00 Aggregatore'!$B:$B,$E253,'00 Aggregatore'!F:F)","v":1401125.0799999998}]
[null,"BA1080","B.2.A.10.5) - da privato per cittadini non residenti - Extraregione (mobilità attiva in compensazione)",null,"BA1080",{"$f":"SUMIF('00 Aggregatore'!$B:$B,$E254,'00 Aggregatore'!E:E)","v":232622.88999999998},{"$f":"SUMIF('00 Aggregatore'!$B:$B,$E254,'00 Aggregatore'!F:F)","v":156346.4}]
[null,"BA1090","B.2.A.11)   Acquisto prestazioni di trasporto sanitario","S","BA1090",{"$f":"SUM(F256:F259)","v":8783342.459999999},{"$f":"SUM(G256:G259)","v":7848424.4499999993}]
[null,"BA1100","B.2.A.11.1) - da pubblico (Aziende sanitarie pubbliche della Regione) - Mobilità intraregionale",null,"BA1100",{"$f":"SUMIF('00 Aggregatore'!$B:$B,$E256,'00 Aggregatore'!E:E)","v":103216},{"$f":"SUMIF('00 Aggregatore'!$B:$B,$E256,'00 Aggregatore'!F:F)","v":98634.25}]
[null,"BA1110","B.2.A.11.2) - da pubblico (altri soggetti pubbl. della Regione)",null,"BA1110",{"$f":"SUMIF('00 Aggregatore'!$B:$B,$E257,'00 Aggregatore'!E:E)","v":0},{"$f":"SUMIF('00 Aggregatore'!$B:$B,$E257,'00 Aggregatore'!F:F)","v":0}]
[null,"BA1120","B.2.A.11.3) - da pubblico (Extraregione)",null,"BA1120",{"$f":"SUMIF('00 Aggregatore'!$B:$B,$E258,'00 Aggregatore'!E:E)","v":344124.9},{"$f":"SUMIF('00 Aggregatore'!$B:$B,$E258,'00 Aggregatore'!F:F)","v":148466.56}]
[null,"BA1130","B.2.A.11.4) - da privato",null,"BA1130",{"$f":"SUMIF('00 Aggregatore'!$B:$B,$E259,'00 Aggregatore'!E:E)","v":8336001.5599999996},{"$f":"SUMIF('00 Aggregatore'!$B:$B,$E259,'00 Aggregatore'!F:F)","v":7601323.6399999997}]
[null,"BA1140","B.2.A.12)   Acquisto prestazioni Socio-Sanitarie a rilevanza sanitaria","S","BA1140",{"$f":"+F261+F264+F266+F267+F268+F265","v":16307538.569999998},{"$f":"+G261+G264+G266+G267+G268+G265","v":17664091.359999999}]
[null,"BA1150","B.2.A.12.1) - da pubblico (Aziende sanitarie pubbliche della Regione) - Mobilità intraregionale","S","BA1150",{"$f":"+F262+F263","v":1758520.3800000001},{"$f":"+G262+G263","v":1807405.46}]
[null,"BA1151","B.2.A.12.1.A) Assistenza domiciliare integrata (ADI)",null,"BA1151",{"$f":"SUMIF('00 Aggregatore'!$B:$B,$E262,'00 Aggregatore'!E:E)","v":0},{"$f":"SUMIF('00 Aggregatore'!$B:$B,$E262,'00 Aggregatore'!F:F)","v":0}]
[null,"BA1152","B.2.A.12.1.B) Altre prestazioni socio-sanitarie a rilevanza sanitaria",null,"BA1152",{"$f":"SUMIF('00 Aggregatore'!$B:$B,$E263,'00 Aggregatore'!E:E)","v":1758520.3800000001},{"$f":"SUMIF('00 Aggregatore'!$B:$B,$E263,'00 Aggregatore'!F:F)","v":1807405.46}]
[null,"BA1160","B.2.A.12.2) - da pubblico (altri soggetti pubblici della Regione)",null,"BA1160",{"$f":"SUMIF('00 Aggregatore'!$B:$B,$E264,'00 Aggregatore'!E:E)","v":0},{"$f":"SUMIF('00 Aggregatore'!$B:$B,$E264,'00 Aggregatore'!F:F)","v":0}]
[null,"BA1161","B.2.A.12.3) - da pubblico  (Extraregione) - Acquisto di Altre prestazioni sociosanitarie a rilevanza sanitaria erogate a soggetti pubblici Extraregione",null,"BA1161",{"$f":"SUMIF('00 Aggregatore'!$B:$B,$E265,'00 Aggregatore'!E:E)","v":0},{"$f":"SUMIF('00 Aggregatore'!$B:$B,$E265,'00 Aggregatore'!F:F)","v":0}]
[null,"BA1170","B.2.A.12.4) - da pubblico (Extraregione) non soggette a compensazione",null,"BA1170",{"$f":"SUMIF('00 Aggregatore'!$B:$B,$E266,'00 Aggregatore'!E:E)","v":160969.38},{"$f":"SUMIF('00 Aggregatore'!$B:$B,$E266,'00 Aggregatore'!F:F)","v":163730.37}]
[null,"BA1180","B.2.A.12.5) - da privato (intraregionale)",null,"BA1180",{"$f":"SUMIF('00 Aggregatore'!$B:$B,$E267,'00 Aggregatore'!E:E)","v":12500635.899999999},{"$f":"SUMIF('00 Aggregatore'!$B:$B,$E267,'00 Aggregatore'!F:F)","v":13625990.66}]
[null,"BA1190","B.2.A.12.6) - da privato (extraregionale)",null,"BA1190",{"$f":"SUMIF('00 Aggregatore'!$B:$B,$E268,'00 Aggregatore'!E:E)","v":1887412.9100000001},{"$f":"SUMIF('00 Aggregatore'!$B:$B,$E268,'00 Aggregatore'!F:F)","v":2066964.8699999999}]
[null,"BA1200","B.2.A.13)  Compartecipazione al personale per att. libero-prof. (intramoenia)","S","BA1200",{"$f":"SUM(F270:F276)","v":3321031.3200000003},{"$f":"SUM(G270:G276)","v":2990762.6099999994}]
[null,"BA1210","B.2.A.13.1)  Compartecipazione al personale per att. libero professionale intramoenia - Area ospedaliera",null,"BA1210",{"$f":"SUMIF('00 Aggregatore'!$B:$B,$E270,'00 Aggregatore'!E:E)","v":54218.100000000006},{"$f":"SUMIF('00 Aggregatore'!$B:$B,$E270,'00 Aggregatore'!F:F)","v":60058.96}]
[null,"BA1220","B.2.A.13.2)  Compartecipazione al personale per att. libero professionale intramoenia- Area specialistica",null,"BA1220",{"$f":"SUMIF('00 Aggregatore'!$B:$B,$E271,'00 Aggregatore'!E:E)","v":2563747.4700000002},{"$f":"SUMIF('00 Aggregatore'!$B:$B,$E271,'00 Aggregatore'!F:F)","v":2527432.63}]
[null,"BA1230","B.2.A.13.3)  Compartecipazione al personale per att. libero professionale intramoenia - Area sanità pubblica",null,"BA1230",{"$f":"SUMIF('00 Aggregatore'!$B:$B,$E272,'00 Aggregatore'!E:E)","v":15233.61},{"$f":"SUMIF('00 Aggregatore'!$B:$B,$E272,'00 Aggregatore'!F:F)","v":14345.3}]
[null,"BA1240","B.2.A.13.4)  Compartecipazione al personale per att. libero professionale intramoenia - Consulenze (ex art. 55 c.1 lett. c), d) ed ex Art. 57-58)",null,"BA1240",{"$f":"SUMIF('00 Aggregatore'!$B:$B,$E273,'00 Aggregatore'!E:E)","v":579327.30000000005},{"$f":"SUMIF('00 Aggregatore'!$B:$B,$E273,'00 Aggregatore'!F:F)","v":335908.3}]
[null,"BA1250","B.2.A.13.5)  Compartecipazione al personale per att. libero professionale intramoenia - Consulenze (ex art. 55 c.1 lett. c), d) ed ex Art. 57-58) (Aziende sanitarie pubbliche della Regione)",null,"BA1250",{"$f":"SUMIF('00 Aggregatore'!$B:$B,$E274,'00 Aggregatore'!E:E)","v":0},{"$f":"SUMIF('00 Aggregatore'!$B:$B,$E274,'00 Aggregatore'!F:F)","v":0}]
[null,"BA1260","B.2.A.13.6)  Compartecipazione al personale per att. libero professionale intramoenia - Altro",null,"BA1260",{"$f":"SUMIF('00 Aggregatore'!$B:$B,$E275,'00 Aggregatore'!E:E)","v":108504.84},{"$f":"SUMIF('00 Aggregatore'!$B:$B,$E275,'00 Aggregatore'!F:F)","v":53017.42}]
[null,"BA1270","B.2.A.13.7)  Compartecipazione al personale per att. libero  professionale intramoenia - Altro (Aziende sanitarie pubbliche della Regione)",null,"BA1270",{"$f":"SUMIF('00 Aggregatore'!$B:$B,$E276,'00 Aggregatore'!E:E)","v":0},{"$f":"SUMIF('00 Aggregatore'!$B:$B,$E276,'00 Aggregatore'!F:F)","v":0}]
[null,"BA1280","B.2.A.14)  Rimborsi, assegni e contributi sanitari","S","BA1280",{"$f":"SUM(F278:F284)","v":2143960.7800000003},{"$f":"SUM(G278:G284)","v":2341034.66}]
[null,"BA1290","B.2.A.14.1)  Contributi ad associazioni di volontariato",null,"BA1290",{"$f":"SUMIF('00 Aggregatore'!$B:$B,$E278,'00 Aggregatore'!E:E)","v":349365.76000000001},{"$f":"SUMIF('00 Aggregatore'!$B:$B,$E278,'00 Aggregatore'!F:F)","v":367251.39}]
[null,"BA1300","B.2.A.14.2)  Rimborsi per cure all'estero",null,"BA1300",{"$f":"SUMIF('00 Aggregatore'!$B:$B,$E279,'00 Aggregatore'!E:E)","v":2069.39},{"$f":"SUMIF('00 Aggregatore'!$B:$B,$E279,'00 Aggregatore'!F:F)","v":12227.29}]
[null,"BA1310","B.2.A.14.3)  Contributi a società partecipate e/o enti dipendenti della Regione",null,"BA1310",{"$f":"SUMIF('00 Aggregatore'!$B:$B,$E280,'00 Aggregatore'!E:E)","v":0},{"$f":"SUMIF('00 Aggregatore'!$B:$B,$E280,'00 Aggregatore'!F:F)","v":0}]
[null,"BA1320","B.2.A.14.4)  Contributo Legge 210/92",null,"BA1320",{"$f":"SUMIF('00 Aggregatore'!$B:$B,$E281,'00 Aggregatore'!E:E)","v":0},{"$f":"SUMIF('00 Aggregatore'!$B:$B,$E281,'00 Aggregatore'!F:F)","v":0}]
[null,"BA1330","B.2.A.14.5)  Altri rimborsi, assegni e contributi",null,"BA1330",{"$f":"SUMIF('00 Aggregatore'!$B:$B,$E282,'00 Aggregatore'!E:E)","v":1792525.6300000001},{"$f":"SUMIF('00 Aggregatore'!$B:$B,$E282,'00 Aggregatore'!F:F)","v":1961555.98}]
[null,"BA1340","B.2.A.14.6)  Rimborsi, assegni e contributi v/Aziende sanitarie pubbliche della Regione",null,"BA1340",{"$f":"SUMIF('00 Aggregatore'!$B:$B,$E283,'00 Aggregatore'!E:E)","v":0},{"$f":"SUMIF('00 Aggregatore'!$B:$B,$E283,'00 Aggregatore'!F:F)","v":0}]
[null,"BA1341","B.2.A.14.7)  Rimborsi, assegni e contributi v/Regione - GSA",null,"BA1341",{"$f":"SUMIF('00 Aggregatore'!$B:$B,$E284,'00 Aggregatore'!E:E)","v":0},{"$f":"SUMIF('00 Aggregatore'!$B:$B,$E284,'00 Aggregatore'!F:F)","v":0}]
[null,"BA1350","B.2.A.15)  Consulenze, Collaborazioni,  Interinale e altre prestazioni di lavoro sanitarie e sociosanitarie","S","BA1350",{"$f":"SUM(F286:F288,F295)","v":6574839.0399999991},{"$f":"SUM(G286:G288,G295)","v":5940516.5399999991}]
[null,"BA1360","B.2.A.15.1) Consulenze sanitarie e sociosanitarieda Aziende sanitarie pubbliche della Regione",null,"BA1360",{"$f":"SUMIF('00 Aggregatore'!$B:$B,$E286,'00 Aggregatore'!E:E)","v":416373.3},{"$f":"SUMIF('00 Aggregatore'!$B:$B,$E286,'00 Aggregatore'!F:F)","v":386424.77}]
[null,"BA1370","B.2.A.15.2) Consulenze sanitarie e sociosanitarieda terzi - Altri soggetti pubblici",null,"BA1370",{"$f":"SUMIF('00 Aggregatore'!$B:$B,$E287,'00 Aggregatore'!E:E)","v":0},{"$f":"SUMIF('00 Aggregatore'!$B:$B,$E287,'00 Aggregatore'!F:F)","v":643.39}]
[null,"BA1380","B.2.A.15.3) Consulenze, Collaborazioni,  Interinale e altre prestazioni di lavoro sanitarie e sociosanitarie da privato","S","BA1380",{"$f":"SUM(F289:F294)","v":6104477.8199999994},{"$f":"SUM(G289:G294)","v":5545422.7799999993}]
[null,"BA1390","B.2.A.15.3.A) Consulenze sanitarie da privato - articolo 55, comma 2, CCNL 8 giugno 2000",null,"BA1390",{"$f":"SUMIF('00 Aggregatore'!$B:$B,$E289,'00 Aggregatore'!E:E)","v":2164804.17},{"$f":"SUMIF('00 Aggregatore'!$B:$B,$E289,'00 Aggregatore'!F:F)","v":2367368.34}]
[null,"BA1400","B.2.A.15.3.B) Altre consulenze sanitarie e sociosanitarie da privato",null,"BA1400",{"$f":"SUMIF('00 Aggregatore'!$B:$B,$E290,'00 Aggregatore'!E:E)","v":4381.71},{"$f":"SUMIF('00 Aggregatore'!$B:$B,$E290,'00 Aggregatore'!F:F)","v":11041.25}]
[null,"BA1410","B.2.A.15.3.C) Collaborazioni coordinate e continuative sanitarie e sociosanitarie da privato",null,"BA1410",{"$f":"SUMIF('00 Aggregatore'!$B:$B,$E291,'00 Aggregatore'!E:E)","v":0},{"$f":"SUMIF('00 Aggregatore'!$B:$B,$E291,'00 Aggregatore'!F:F)","v":0}]
[null,"BA1420","B.2.A.15.3.D) Indennità a personale universitario - area sanitaria ",null,"BA1420",{"$f":"SUMIF('00 Aggregatore'!$B:$B,$E292,'00 Aggregatore'!E:E)","v":256736.03},{"$f":"SUMIF('00 Aggregatore'!$B:$B,$E292,'00 Aggregatore'!F:F)","v":253677.26}]
[null,"BA1430","B.2.A.15.3.E) Lavoro interinale - area sanitaria ",null,"BA1430",{"$f":"SUMIF('00 Aggregatore'!$B:$B,$E293,'00 Aggregatore'!E:E)","v":2862789.15},{"$f":"SUMIF('00 Aggregatore'!$B:$B,$E293,'00 Aggregatore'!F:F)","v":2555444.7999999998}]
[null,"BA1440","B.2.A.15.3.F) Altre collaborazioni e prestazioni di lavoro - area sanitaria ",null,"BA1440",{"$f":"SUMIF('00 Aggregatore'!$B:$B,$E294,'00 Aggregatore'!E:E)","v":815766.76},{"$f":"SUMIF('00 Aggregatore'!$B:$B,$E294,'00 Aggregatore'!F:F)","v":357891.13}]
[null,"BA1450","B.2.A.15.4) Rimborso oneri stipendiali del personale sanitario in comando","S","BA1450",{"$f":"SUM(F296:F298)","v":53987.92},{"$f":"SUM(G296:G298)","v":8025.6}]
[null,"BA1460","B.2.A.15.4.A) Rimborso oneri stipendiali personale sanitario in comando da Aziende sanitarie pubbliche della Regione",null,"BA1460",{"$f":"SUMIF('00 Aggregatore'!$B:$B,$E296,'00 Aggregatore'!E:E)","v":0},{"$f":"SUMIF('00 Aggregatore'!$B:$B,$E296,'00 Aggregatore'!F:F)","v":0}]
[null,"BA1470","B.2.A.15.4.B) Rimborso oneri stipendiali personale sanitario in comando da Regioni, soggetti pubblici e da Università",null,"BA1470",{"$f":"SUMIF('00 Aggregatore'!$B:$B,$E297,'00 Aggregatore'!E:E)","v":0},{"$f":"SUMIF('00 Aggregatore'!$B:$B,$E297,'00 Aggregatore'!F:F)","v":0}]
[null,"BA1480","B.2.A.15.4.C) Rimborso oneri stipendiali personale sanitario in comando da aziende di altre Regioni (Extraregione)",null,"BA1480",{"$f":"SUMIF('00 Aggregatore'!$B:$B,$E298,'00 Aggregatore'!E:E)","v":53987.92},{"$f":"SUMIF('00 Aggregatore'!$B:$B,$E298,'00 Aggregatore'!F:F)","v":8025.6}]
[null,"BA1490","B.2.A.16) Altri servizi sanitari e sociosanitari a rilevanza sanitaria","S","BA1490",{"$f":"SUM(F300:F306)","v":5607016.7799999993},{"$f":"SUM(G300:G306)","v":7243962.9199999999}]
[null,"BA1500","B.2.A.16.1)  Altri servizi sanitari e sociosanitari a rilevanza sanitaria da pubblico - Aziende sanitarie pubbliche della Regione",null,"BA1500",{"$f":"SUMIF('00 Aggregatore'!$B:$B,$E300,'00 Aggregatore'!E:E)","v":0},{"$f":"SUMIF('00 Aggregatore'!$B:$B,$E300,'00 Aggregatore'!F:F)","v":0}]
[null,"BA1510","B.2.A.16.2)  Altri servizi sanitari e sociosanitari  a rilevanza sanitaria da pubblico - Altri soggetti pubblici della Regione",null,"BA1510",{"$f":"SUMIF('00 Aggregatore'!$B:$B,$E301,'00 Aggregatore'!E:E)","v":0},{"$f":"SUMIF('00 Aggregatore'!$B:$B,$E301,'00 Aggregatore'!F:F)","v":0}]
[null,"BA1520","B.2.A.16.3) Altri servizi sanitari e sociosanitari a rilevanza sanitaria da pubblico (Extraregione)",null,"BA1520",{"$f":"SUMIF('00 Aggregatore'!$B:$B,$E302,'00 Aggregatore'!E:E)","v":0},{"$f":"SUMIF('00 Aggregatore'!$B:$B,$E302,'00 Aggregatore'!F:F)","v":0}]
[null,"BA1530","B.2.A.16.4)  Altri servizi sanitari da privato",null,"BA1530",{"$f":"SUMIF('00 Aggregatore'!$B:$B,$E303,'00 Aggregatore'!E:E)","v":3534647.28},{"$f":"SUMIF('00 Aggregatore'!$B:$B,$E303,'00 Aggregatore'!F:F)","v":4913910.1399999997}]
[null,"BA1540","B.2.A.16.5)  Costi per servizi sanitari - Mobilità internazionale passiva",null,"BA1540",{"$f":"SUMIF('00 Aggregatore'!$B:$B,$E304,'00 Aggregatore'!E:E)","v":2072369.5},{"$f":"SUMIF('00 Aggregatore'!$B:$B,$E304,'00 Aggregatore'!F:F)","v":2330052.7799999998}]
[null,"BA1541","B.2.A.16.6)  Costi per servizi sanitari - Mobilità internazionale passiva rilevata dalle ASL",null,"BA1541",{"$f":"SUMIF('00 Aggregatore'!$B:$B,$E305,'00 Aggregatore'!E:E)","v":0},{"$f":"SUMIF('00 Aggregatore'!$B:$B,$E305,'00 Aggregatore'!F:F)","v":0}]
[null,"BA1542","B.2.A.16.7) Costi per prestazioni sanitarie erogate da aziende sanitarie estere (fatturate direttamente)",null,"BA1542",{"$f":"SUMIF('00 Aggregatore'!$B:$B,$E306,'00 Aggregatore'!E:E)","v":0},{"$f":"SUMIF('00 Aggregatore'!$B:$B,$E306,'00 Aggregatore'!F:F)","v":0}]
[null,"BA1550","B.2.A.17) Costi GSA per differenziale saldo mobilità interregionale",null,"BA1550",{"$f":"SUMIF('00 Aggregatore'!$B:$B,$E307,'00 Aggregatore'!E:E)","v":0},{"$f":"SUMIF('00 Aggregatore'!$B:$B,$E307,'00 Aggregatore'!F:F)","v":0}]
[null,"BA1560","B.2.B) Acquisti di servizi non sanitari","S","BA1560",{"$f":"+F309+F329+F343","v":36877695.939999998},{"$f":"+G309+G329+G343","v":36975402.619999997}]
[null,"BA1570","B.2.B.1) Servizi non sanitari ","S","BA1570",{"$f":"+F310+F311+F312+F315+F316+F317+F318+F319+F320+F321+F322+F325","v":35624428.469999999},{"$f":"+G310+G311+G312+G315+G316+G317+G318+G319+G320+G321+G322+G325","v":35939365.670000002}]
[null,"BA1580","B.2.B.1.1)   Lavanderia",null,"BA1580",{"$f":"SUMIF('00 Aggregatore'!$B:$B,$E310,'00 Aggregatore'!E:E)","v":4633285.6399999997},{"$f":"SUMIF('00 Aggregatore'!$B:$B,$E310,'00 Aggregatore'!F:F)","v":4372468.2300000004}]
[null,"BA1590","B.2.B.1.2)   Pulizia",null,"BA1590",{"$f":"SUMIF('00 Aggregatore'!$B:$B,$E311,'00 Aggregatore'!E:E)","v":6110953.9000000004},{"$f":"SUMIF('00 Aggregatore'!$B:$B,$E311,'00 Aggregatore'!F:F)","v":6224643.75}]
[null,"BA1600","B.2.B.1.3)   Mensa","S","BA1600",{"$f":"+F313+F314","v":4253494.91},{"$f":"+G313+G314","v":4136284.81}]
[null,"BA1601","B.2.B.1.3.A)   Mensa dipendenti",null,"BA1601",{"$f":"SUMIF('00 Aggregatore'!$B:$B,$E313,'00 Aggregatore'!E:E)","v":4253494.91},{"$f":"SUMIF('00 Aggregatore'!$B:$B,$E313,'00 Aggregatore'!F:F)","v":285686.02}]
[null,"BA1602","B.2.B.1.3.B)   Mensa degenti",null,"BA1602",{"$f":"SUMIF('00 Aggregatore'!$B:$B,$E314,'00 Aggregatore'!E:E)","v":0},{"$f":"SUMIF('00 Aggregatore'!$B:$B,$E314,'00 Aggregatore'!F:F)","v":3850598.79}]
[null,"BA1610","B.2.B.1.4)   Riscaldamento",null,"BA1610",{"$f":"SUMIF('00 Aggregatore'!$B:$B,$E315,'00 Aggregatore'!E:E)","v":912590.81},{"$f":"SUMIF('00 Aggregatore'!$B:$B,$E315,'00 Aggregatore'!F:F)","v":1031930.19}]
[null,"BA1620","B.2.B.1.5)   Servizi di assistenza informatica",null,"BA1620",{"$f":"SUMIF('00 Aggregatore'!$B:$B,$E316,'00 Aggregatore'!E:E)","v":1812783.81},{"$f":"SUMIF('00 Aggregatore'!$B:$B,$E316,'00 Aggregatore'!F:F)","v":1601064.93}]
[null,"BA1630","B.2.B.1.6)   Servizi trasporti (non sanitari)",null,"BA1630",{"$f":"SUMIF('00 Aggregatore'!$B:$B,$E317,'00 Aggregatore'!E:E)","v":5892.6},{"$f":"SUMIF('00 Aggregatore'!$B:$B,$E317,'00 Aggregatore'!F:F)","v":7252.41}]
[null,"BA1640","B.2.B.1.7)   Smaltimento rifiuti",null,"BA1640",{"$f":"SUMIF('00 Aggregatore'!$B:$B,$E318,'00 Aggregatore'!E:E)","v":1392025.82},{"$f":"SUMIF('00 Aggregatore'!$B:$B,$E318,'00 Aggregatore'!F:F)","v":1394724.73}]
[null,"BA1650","B.2.B.1.8)   Utenze telefoniche",null,"BA1650",{"$f":"SUMIF('00 Aggregatore'!$B:$B,$E319,'00 Aggregatore'!E:E)","v":940270.67},{"$f":"SUMIF('00 Aggregatore'!$B:$B,$E319,'00 Aggregatore'!F:F)","v":875622.55}]
[null,"BA1660","B.2.B.1.9)   Utenze elettricità",null,"BA1660",{"$f":"SUMIF('00 Aggregatore'!$B:$B,$E320,'00 Aggregatore'!E:E)","v":3337366.78},{"$f":"SUMIF('00 Aggregatore'!$B:$B,$E320,'00 Aggregatore'!F:F)","v":3335006.41}]
[null,"BA1670","B.2.B.1.10)   Altre utenze",null,"BA1670",{"$f":"SUMIF('00 Aggregatore'!$B:$B,$E321,'00 Aggregatore'!E:E)","v":875740.52},{"$f":"SUMIF('00 Aggregatore'!$B:$B,$E321,'00 Aggregatore'!F:F)","v":1175726.77}]
[null,"BA1680","B.2.B.1.11)  Premi di assicurazione","S","BA1680",{"$f":"+F323+F324","v":4728617.0999999996},{"$f":"+G323+G324","v":4770445.47}]
[null,"BA1690","B.2.B.1.11.A)  Premi di assicurazione - R.C. Professionale ",null,"BA1690",{"$f":"SUMIF('00 Aggregatore'!$B:$B,$E323,'00 Aggregatore'!E:E)","v":4450699.8499999996},{"$f":"SUMIF('00 Aggregatore'!$B:$B,$E323,'00 Aggregatore'!F:F)","v":4450838.34}]
[null,"BA1700","B.2.B.1.11.B)  Premi di assicurazione - Altri premi assicurativi",null,"BA1700",{"$f":"SUMIF('00 Aggregatore'!$B:$B,$E324,'00 Aggregatore'!E:E)","v":277917.25},{"$f":"SUMIF('00 Aggregatore'!$B:$B,$E324,'00 Aggregatore'!F:F)","v":319607.13}]
[null,"BA1710","B.2.B.1.12) Altri servizi non sanitari","S","BA1710",{"$f":"+F326+F327+F328","v":6621405.9100000001},{"$f":"+G326+G327+G328","v":7014195.4199999999}]
[null,"BA1720","B.2.B.1.12.A) Altri servizi non sanitari da pubblico (Aziende sanitarie pubbliche della Regione)",null,"BA1720",{"$f":"SUMIF('00 Aggregatore'!$B:$B,$E326,'00 Aggregatore'!E:E)","v":0},{"$f":"SUMIF('00 Aggregatore'!$B:$B,$E326,'00 Aggregatore'!F:F)","v":0}]
[null,"BA1730","B.2.B.1.12.B) Altri servizi non sanitari da altri soggetti pubblici",null,"BA1730",{"$f":"SUMIF('00 Aggregatore'!$B:$B,$E327,'00 Aggregatore'!E:E)","v":0},{"$f":"SUMIF('00 Aggregatore'!$B:$B,$E327,'00 Aggregatore'!F:F)","v":0}]
[null,"BA1740","B.2.B.1.12.C) Altri servizi non sanitari da privato",null,"BA1740",{"$f":"SUMIF('00 Aggregatore'!$B:$B,$E328,'00 Aggregatore'!E:E)","v":6621405.9100000001},{"$f":"SUMIF('00 Aggregatore'!$B:$B,$E328,'00 Aggregatore'!F:F)","v":7014195.4199999999}]
[null,"BA1750","B.2.B.2)  Consulenze, Collaborazioni, Interinale e altre prestazioni di lavoro non sanitarie","S","BA1750",{"$f":"+F330+F331+F332+F339","v":592002.4},{"$f":"+G330+G331+G332+G339","v":465196.44}]
[null,"BA1760","B.2.B.2.1) Consulenze non sanitarie da Aziende sanitarie pubbliche della Regione",null,"BA1760",{"$f":"SUMIF('00 Aggregatore'!$B:$B,$E330,'00 Aggregatore'!E:E)","v":0},{"$f":"SUMIF('00 Aggregatore'!$B:$B,$E330,'00 Aggregatore'!F:F)","v":0}]
[null,"BA1770","B.2.B.2.2) Consulenze non sanitarie da Terzi - Altri soggetti pubblici",null,"BA1770",{"$f":"SUMIF('00 Aggregatore'!$B:$B,$E331,'00 Aggregatore'!E:E)","v":0},{"$f":"SUMIF('00 Aggregatore'!$B:$B,$E331,'00 Aggregatore'!F:F)","v":0}]
[null,"BA1780","B.2.B.2.3) Consulenze, Collaborazioni, Interinale e altre prestazioni di lavoro non sanitarie da privato","S","BA1780",{"$f":"SUM(F333:F338)","v":592002.4},{"$f":"SUM(G333:G338)","v":465196.44}]
[null,"BA1790","B.2.B.2.3.A) Consulenze non sanitarie da privato",null,"BA1790",{"$f":"SUMIF('00 Aggregatore'!$B:$B,$E333,'00 Aggregatore'!E:E)","v":432526.65},{"$f":"SUMIF('00 Aggregatore'!$B:$B,$E333,'00 Aggregatore'!F:F)","v":305635.02}]
[null,"BA1800","B.2.B.2.3.B) Collaborazioni coordinate e continuative non sanitarie da privato",null,"BA1800",{"$f":"SUMIF('00 Aggregatore'!$B:$B,$E334,'00 Aggregatore'!E:E)","v":31178.34},{"$f":"SUMIF('00 Aggregatore'!$B:$B,$E334,'00 Aggregatore'!F:F)","v":30731.74}]
[null,"BA1810","B.2.B.2.3.C) Indennità a personale universitario - area non sanitaria ",null,"BA1810",{"$f":"SUMIF('00 Aggregatore'!$B:$B,$E335,'00 Aggregatore'!E:E)","v":0},{"$f":"SUMIF('00 Aggregatore'!$B:$B,$E335,'00 Aggregatore'!F:F)","v":0}]
[null,"BA1820","B.2.B.2.3.D) Lavoro interinale - area non sanitaria ",null,"BA1820",{"$f":"SUMIF('00 Aggregatore'!$B:$B,$E336,'00 Aggregatore'!E:E)","v":0},{"$f":"SUMIF('00 Aggregatore'!$B:$B,$E336,'00 Aggregatore'!F:F)","v":0}]
[null,"BA1830","B.2.B.2.3.E) Altre collaborazioni e prestazioni di lavoro - area non sanitaria ",null,"BA1830",{"$f":"SUMIF('00 Aggregatore'!$B:$B,$E337,'00 Aggregatore'!E:E)","v":128297.41},{"$f":"SUMIF('00 Aggregatore'!$B:$B,$E337,'00 Aggregatore'!F:F)","v":128829.68}]
[null,"BA1831","B.2.B.2.3.F) Altre Consulenze non sanitarie da privato -  in attuazione dell’art.79, comma 1 sexies lettera c), del D.L. 112/2008, convertito con legge 133/2008 e della legge 23 dicembre 2009 n. 191",null,"BA1831",{"$f":"SUMIF('00 Aggregatore'!$B:$B,$E338,'00 Aggregatore'!E:E)","v":0},{"$f":"SUMIF('00 Aggregatore'!$B:$B,$E338,'00 Aggregatore'!F:F)","v":0}]
[null,"BA1840","B.2.B.2.4) Rimborso oneri stipendiali del personale non sanitario in comando","S","BA1840",{"$f":"SUM(F340:F342)","v":0},{"$f":"SUM(G340:G342)","v":0}]
[null,"BA1850","B.2.B.2.4.A) Rimborso oneri stipendiali personale non sanitario in comando da Aziende sanitarie pubbliche della Regione",null,"BA1850",{"$f":"SUMIF('00 Aggregatore'!$B:$B,$E340,'00 Aggregatore'!E:E)","v":0},{"$f":"SUMIF('00 Aggregatore'!$B:$B,$E340,'00 Aggregatore'!F:F)","v":0}]
[null,"BA1860","B.2.B.2.4.B) Rimborso oneri stipendiali personale non sanitario in comando da Regione, soggetti pubblici e da Università",null,"BA1860",{"$f":"SUMIF('00 Aggregatore'!$B:$B,$E341,'00 Aggregatore'!E:E)","v":0},{"$f":"SUMIF('00 Aggregatore'!$B:$B,$E341,'00 Aggregatore'!F:F)","v":0}]
[null,"BA1870","B.2.B.2.4.C) Rimborso oneri stipendiali personale non sanitario in comando da aziende di altre Regioni (Extraregione)",null,"BA1870",{"$f":"SUMIF('00 Aggregatore'!$B:$B,$E342,'00 Aggregatore'!E:E)","v":0},{"$f":"SUMIF('00 Aggregatore'!$B:$B,$E342,'00 Aggregatore'!F:F)","v":0}]
[null,"BA1880","B.2.B.3) Formazione (esternalizzata e non)","S","BA1880",{"$f":"+F344+F345","v":661265.06999999995},{"$f":"+G344+G345","v":570840.51}]
[null,"BA1890","B.2.B.3.1) Formazione (esternalizzata e non) da pubblico",null,"BA1890",{"$f":"SUMIF('00 Aggregatore'!$B:$B,$E344,'00 Aggregatore'!E:E)","v":35012.980000000003},{"$f":"SUMIF('00 Aggregatore'!$B:$B,$E344,'00 Aggregatore'!F:F)","v":39577.83}]
[null,"BA1900","B.2.B.3.2) Formazione (esternalizzata e non) da privato",null,"BA1900",{"$f":"SUMIF('00 Aggregatore'!$B:$B,$E345,'00 Aggregatore'!E:E)","v":626252.09},{"$f":"SUMIF('00 Aggregatore'!$B:$B,$E345,'00 Aggregatore'!F:F)","v":531262.68000000005}]
[null,"BA1910","B.3)  Manutenzione e riparazione (ordinaria esternalizzata)","S","BA1910",{"$f":"SUM(F347:F353)","v":15710849.98},{"$f":"SUM(G347:G353)","v":14506359.189999999}]
[null,"BA1920","B.3.A)  Manutenzione e riparazione ai fabbricati e loro pertinenze",null,"BA1920",{"$f":"SUMIF('00 Aggregatore'!$B:$B,$E347,'00 Aggregatore'!E:E)","v":8571730.1999999993},{"$f":"SUMIF('00 Aggregatore'!$B:$B,$E347,'00 Aggregatore'!F:F)","v":8135678.5800000001}]
[null,"BA1930","B.3.B)  Manutenzione e riparazione agli impianti e macchinari",null,"BA1930",{"$f":"SUMIF('00 Aggregatore'!$B:$B,$E348,'00 Aggregatore'!E:E)","v":0},{"$f":"SUMIF('00 Aggregatore'!$B:$B,$E348,'00 Aggregatore'!F:F)","v":11712}]
[null,"BA1940","B.3.C)  Manutenzione e riparazione alle attrezzature sanitarie e scientifiche",null,"BA1940",{"$f":"SUMIF('00 Aggregatore'!$B:$B,$E349,'00 Aggregatore'!E:E)","v":6129147.0499999998},{"$f":"SUMIF('00 Aggregatore'!$B:$B,$E349,'00 Aggregatore'!F:F)","v":5458525.2800000003}]
[null,"BA1950","B.3.D)  Manutenzione e riparazione ai mobili e arredi",null,"BA1950",{"$f":"SUMIF('00 Aggregatore'!$B:$B,$E350,'00 Aggregatore'!E:E)","v":0},{"$f":"SUMIF('00 Aggregatore'!$B:$B,$E350,'00 Aggregatore'!F:F)","v":0}]
[null,"BA1960","B.3.E)  Manutenzione e riparazione agli automezzi",null,"BA1960",{"$f":"SUMIF('00 Aggregatore'!$B:$B,$E351,'00 Aggregatore'!E:E)","v":125986.4},{"$f":"SUMIF('00 Aggregatore'!$B:$B,$E351,'00 Aggregatore'!F:F)","v":83762.679999999993}]
[null,"BA1970","B.3.F)  Altre manutenzioni e riparazioni",null,"BA1970",{"$f":"SUMIF('00 Aggregatore'!$B:$B,$E352,'00 Aggregatore'!E:E)","v":883986.33},{"$f":"SUMIF('00 Aggregatore'!$B:$B,$E352,'00 Aggregatore'!F:F)","v":816680.65}]
[null,"BA1980","B.3.G)  Manutenzioni e riparazioni da Aziende sanitarie pubbliche della Regione",null,"BA1980",{"$f":"SUMIF('00 Aggregatore'!$B:$B,$E353,'00 Aggregatore'!E:E)","v":0},{"$f":"SUMIF('00 Aggregatore'!$B:$B,$E353,'00 Aggregatore'!F:F)","v":0}]
[null,"BA1990","B.4)   Godimento di beni di terzi","S","BA1990",{"$f":"+F355+F356+F359+F362+F363","v":6776482.79},{"$f":"+G355+G356+G359+G362+G363","v":6576812.2800000012}]
[null,"BA2000","B.4.A)  Fitti passivi",null,"BA2000",{"$f":"SUMIF('00 Aggregatore'!$B:$B,$E355,'00 Aggregatore'!E:E)","v":1330887.46},{"$f":"SUMIF('00 Aggregatore'!$B:$B,$E355,'00 Aggregatore'!F:F)","v":1240355.3500000001}]
[null,"BA2010","B.4.B)  Canoni di noleggio","S","BA2010",{"$f":"+F357+F358","v":5445595.3300000001},{"$f":"+G357+G358","v":5336456.9300000006}]
[null,"BA2020","B.4.B.1) Canoni di noleggio - area sanitaria",null,"BA2020",{"$f":"SUMIF('00 Aggregatore'!$B:$B,$E357,'00 Aggregatore'!E:E)","v":5015627.3600000003},{"$f":"SUMIF('00 Aggregatore'!$B:$B,$E357,'00 Aggregatore'!F:F)","v":5095865.6500000004}]
[null,"BA2030","B.4.B.2) Canoni di noleggio - area non sanitaria",null,"BA2030",{"$f":"SUMIF('00 Aggregatore'!$B:$B,$E358,'00 Aggregatore'!E:E)","v":429967.97},{"$f":"SUMIF('00 Aggregatore'!$B:$B,$E358,'00 Aggregatore'!F:F)","v":240591.28}]
[null,"BA2040","B.4.C)  Canoni di leasing","S","BA2040",{"$f":"+F360+F361","v":0},{"$f":"+G360+G361","v":0}]
[null,"BA2050","B.4.C.1) Canoni di leasing - area sanitaria",null,"BA2050",{"$f":"SUMIF('00 Aggregatore'!$B:$B,$E360,'00 Aggregatore'!E:E)","v":0},{"$f":"SUMIF('00 Aggregatore'!$B:$B,$E360,'00 Aggregatore'!F:F)","v":0}]
[null,"BA2060","B.4.C.2) Canoni di leasing - area non sanitaria",null,"BA2060",{"$f":"SUMIF('00 Aggregatore'!$B:$B,$E361,'00 Aggregatore'!E:E)","v":0},{"$f":"SUMIF('00 Aggregatore'!$B:$B,$E361,'00 Aggregatore'!F:F)","v":0}]
[null,"BA2061","B.4.D)  Canoni di project financing",null,"BA2061",{"$f":"SUMIF('00 Aggregatore'!$B:$B,$E362,'00 Aggregatore'!E:E)","v":0},{"$f":"SUMIF('00 Aggregatore'!$B:$B,$E362,'00 Aggregatore'!F:F)","v":0}]
[null,"BA2070","B.4.E)  Locazioni e noleggi da Aziende sanitarie pubbliche della Regione",null,"BA2070",{"$f":"SUMIF('00 Aggregatore'!$B:$B,$E363,'00 Aggregatore'!E:E)","v":0},{"$f":"SUMIF('00 Aggregatore'!$B:$B,$E363,'00 Aggregatore'!F:F)","v":0}]
[null,"BA2080","Totale Costo del personale","S","BA2080",{"$f":"+F365+F379+F388+F397","v":167875561.59},{"$f":"+G365+G379+G388+G397","v":171973634.95999998}]
[null,"BA2090","B.5)   Personale del ruolo sanitario","S","BA2090",{"$f":"+F366+F375","v":139820551.13999999},{"$f":"+G366+G375","v":143093492.81999999}]
[null,"BA2100","B.5.A) Costo del personale dirigente ruolo sanitario","S","BA2100",{"$f":"+F367+F371","v":72571422.890000001},{"$f":"+G367+G371","v":74381810.650000006}]
[null,"BA2110","B.5.A.1) Costo del personale dirigente medico","S","BA2110",{"$f":"SUM(F368:F370)","v":67351870.719999999},{"$f":"SUM(G368:G370)","v":68836236.049999997}]
[null,"BA2120","B.5.A.1.1) Costo del personale dirigente medico - tempo indeterminato",null,"BA2120",{"$f":"SUMIF('00 Aggregatore'!$B:$B,$E368,'00 Aggregatore'!E:E)","v":64319241.780000001},{"$f":"SUMIF('00 Aggregatore'!$B:$B,$E368,'00 Aggregatore'!F:F)","v":64754869.079999991}]
[null,"BA2130","B.5.A.1.2) Costo del personale dirigente medico - tempo determinato",null,"BA2130",{"$f":"SUMIF('00 Aggregatore'!$B:$B,$E369,'00 Aggregatore'!E:E)","v":3032628.94},{"$f":"SUMIF('00 Aggregatore'!$B:$B,$E369,'00 Aggregatore'!F:F)","v":4081366.97}]
[null,"BA2140","B.5.A.1.3) Costo del personale dirigente medico - altro",null,"BA2140",{"$f":"SUMIF('00 Aggregatore'!$B:$B,$E370,'00 Aggregatore'!E:E)","v":0},{"$f":"SUMIF('00 Aggregatore'!$B:$B,$E370,'00 Aggregatore'!F:F)","v":0}]
[null,"BA2150","B.5.A.2) Costo del personale dirigente non medico","S","BA2150",{"$f":"SUM(F372:F374)","v":5219552.17},{"$f":"SUM(G372:G374)","v":5545574.6000000015}]
[null,"BA2160","B.5.A.2.1) Costo del personale dirigente non medico - tempo indeterminato",null,"BA2160",{"$f":"SUMIF('00 Aggregatore'!$B:$B,$E372,'00 Aggregatore'!E:E)","v":4831272.49},{"$f":"SUMIF('00 Aggregatore'!$B:$B,$E372,'00 Aggregatore'!F:F)","v":4801927.3800000008}]
[null,"BA2170","B.5.A.2.2) Costo del personale dirigente non medico - tempo determinato",null,"BA2170",{"$f":"SUMIF('00 Aggregatore'!$B:$B,$E373,'00 Aggregatore'!E:E)","v":388279.68},{"$f":"SUMIF('00 Aggregatore'!$B:$B,$E373,'00 Aggregatore'!F:F)","v":743647.2200000002}]
[null,"BA2180","B.5.A.2.3) Costo del personale dirigente non medico - altro",null,"BA2180",{"$f":"SUMIF('00 Aggregatore'!$B:$B,$E374,'00 Aggregatore'!E:E)","v":0},{"$f":"SUMIF('00 Aggregatore'!$B:$B,$E374,'00 Aggregatore'!F:F)","v":0}]
[null,"BA2190","B.5.B) Costo del personale comparto ruolo sanitario","S","BA2190",{"$f":"SUM(F376:F378)","v":67249128.25},{"$f":"SUM(G376:G378)","v":68711682.170000002}]
[null,"BA2200","B.5.B.1) Costo del personale comparto ruolo sanitario - tempo indeterminato",null,"BA2200",{"$f":"SUMIF('00 Aggregatore'!$B:$B,$E376,'00 Aggregatore'!E:E)","v":65514162.510000005},{"$f":"SUMIF('00 Aggregatore'!$B:$B,$E376,'00 Aggregatore'!F:F)","v":66799162.539999999}]
[null,"BA2210","B.5.B.2) Costo del personale comparto ruolo sanitario - tempo determinato",null,"BA2210",{"$f":"SUMIF('00 Aggregatore'!$B:$B,$E377,'00 Aggregatore'!E:E)","v":1734965.7400000002},{"$f":"SUMIF('00 Aggregatore'!$B:$B,$E377,'00 Aggregatore'!F:F)","v":1912519.63}]
[null,"BA2220","B.5.B.3) Costo del personale comparto ruolo sanitario - altro",null,"BA2220",{"$f":"SUMIF('00 Aggregatore'!$B:$B,$E378,'00 Aggregatore'!E:E)","v":0},{"$f":"SUMIF('00 Aggregatore'!$B:$B,$E378,'00 Aggregatore'!F:F)","v":0}]
[null,"BA2230","B.6)   Personale del ruolo professionale","S","BA2230",{"$f":"+F380+F384","v":438861.05999999994},{"$f":"+G380+G384","v":445202.98}]
[null,"BA2240","B.6.A) Costo del personale dirigente ruolo professionale","S","BA2240",{"$f":"SUM(F381:F383)","v":437281.32999999996},{"$f":"SUM(G381:G383)","v":443600.1}]
[null,"BA2250","B.6.A.1) Costo del personale dirigente ruolo professionale - tempo indeterminato",null,"BA2250",{"$f":"SUMIF('00 Aggregatore'!$B:$B,$E381,'00 Aggregatore'!E:E)","v":367654.11},{"$f":"SUMIF('00 Aggregatore'!$B:$B,$E381,'00 Aggregatore'!F:F)","v":368506.20999999996}]
[null,"BA2260","B.6.A.2) Costo del personale dirigente ruolo professionale - tempo determinato",null,"BA2260",{"$f":"SUMIF('00 Aggregatore'!$B:$B,$E382,'00 Aggregatore'!E:E)","v":69627.22},{"$f":"SUMIF('00 Aggregatore'!$B:$B,$E382,'00 Aggregatore'!F:F)","v":75093.89}]
[null,"BA2270","B.6.A.3) Costo del personale dirigente ruolo professionale - altro",null,"BA2270",{"$f":"SUMIF('00 Aggregatore'!$B:$B,$E383,'00 Aggregatore'!E:E)","v":0},{"$f":"SUMIF('00 Aggregatore'!$B:$B,$E383,'00 Aggregatore'!F:F)","v":0}]
[null,"BA2280","B.6.B) Costo del personale comparto ruolo professionale","S","BA2280",{"$f":"SUM(F385:F387)","v":1579.73},{"$f":"SUM(G385:G387)","v":1602.88}]
[null,"BA2290","B.6.B.1) Costo del personale comparto ruolo professionale - tempo indeterminato",null,"BA2290",{"$f":"SUMIF('00 Aggregatore'!$B:$B,$E385,'00 Aggregatore'!E:E)","v":1579.73},{"$f":"SUMIF('00 Aggregatore'!$B:$B,$E385,'00 Aggregatore'!F:F)","v":1602.88}]
[null,"BA2300","B.6.B.2) Costo del personale comparto ruolo professionale - tempo determinato",null,"BA2300",{"$f":"SUMIF('00 Aggregatore'!$B:$B,$E386,'00 Aggregatore'!E:E)","v":0},{"$f":"SUMIF('00 Aggregatore'!$B:$B,$E386,'00 Aggregatore'!F:F)","v":0}]
[null,"BA2310","B.6.B.3) Costo del personale comparto ruolo professionale - altro",null,"BA2310",{"$f":"SUMIF('00 Aggregatore'!$B:$B,$E387,'00 Aggregatore'!E:E)","v":0},{"$f":"SUMIF('00 Aggregatore'!$B:$B,$E387,'00 Aggregatore'!F:F)","v":0}]
[null,"BA2320","B.7)   Personale del ruolo tecnico","S","BA2320",{"$f":"+F389+F393","v":17518842.809999999},{"$f":"+G389+G393","v":18400611.440000001}]
[null,"BA2330","B.7.A) Costo del personale dirigente ruolo tecnico","S","BA2330",{"$f":"SUM(F390:F392)","v":345702.9},{"$f":"SUM(G390:G392)","v":315254.98}]
[null,"BA2340","B.7.A.1) Costo del personale dirigente ruolo tecnico - tempo indeterminato",null,"BA2340",{"$f":"SUMIF('00 Aggregatore'!$B:$B,$E390,'00 Aggregatore'!E:E)","v":345702.9},{"$f":"SUMIF('00 Aggregatore'!$B:$B,$E390,'00 Aggregatore'!F:F)","v":315254.98}]
[null,"BA2350","B.7.A.2) Costo del personale dirigente ruolo tecnico - tempo determinato",null,"BA2350",{"$f":"SUMIF('00 Aggregatore'!$B:$B,$E391,'00 Aggregatore'!E:E)","v":0},{"$f":"SUMIF('00 Aggregatore'!$B:$B,$E391,'00 Aggregatore'!F:F)","v":0}]
[null,"BA2360","B.7.A.3) Costo del personale dirigente ruolo tecnico - altro",null,"BA2360",{"$f":"SUMIF('00 Aggregatore'!$B:$B,$E392,'00 Aggregatore'!E:E)","v":0},{"$f":"SUMIF('00 Aggregatore'!$B:$B,$E392,'00 Aggregatore'!F:F)","v":0}]
[null,"BA2370","B.7.B) Costo del personale comparto ruolo tecnico","S","BA2370",{"$f":"SUM(F394:F396)","v":17173139.91},{"$f":"SUM(G394:G396)","v":18085356.460000001}]
[null,"BA2380","B.7.B.1) Costo del personale comparto ruolo tecnico - tempo indeterminato",null,"BA2380",{"$f":"SUMIF('00 Aggregatore'!$B:$B,$E394,'00 Aggregatore'!E:E)","v":16881837.510000002},{"$f":"SUMIF('00 Aggregatore'!$B:$B,$E394,'00 Aggregatore'!F:F)","v":17604653.789999999}]
[null,"BA2390","B.7.B.2) Costo del personale comparto ruolo tecnico - tempo determinato",null,"BA2390",{"$f":"SUMIF('00 Aggregatore'!$B:$B,$E395,'00 Aggregatore'!E:E)","v":291302.39999999997},{"$f":"SUMIF('00 Aggregatore'!$B:$B,$E395,'00 Aggregatore'!F:F)","v":480702.67000000004}]
[null,"BA2400","B.7.B.3) Costo del personale comparto ruolo tecnico - altro",null,"BA2400",{"$f":"SUMIF('00 Aggregatore'!$B:$B,$E396,'00 Aggregatore'!E:E)","v":0},{"$f":"SUMIF('00 Aggregatore'!$B:$B,$E396,'00 Aggregatore'!F:F)","v":0}]
[null,"BA2410","B.8)   Personale del ruolo amministrativo","S","BA2410",{"$f":"+F398+F402","v":10097306.58},{"$f":"+G398+G402","v":10034327.719999999}]
[null,"BA2420","B.8.A) Costo del personale dirigente ruolo amministrativo","S","BA2420",{"$f":"SUM(F399:F401)","v":938060.23},{"$f":"SUM(G399:G401)","v":1110242.93}]
[null,"BA2430","B.8.A.1) Costo del personale dirigente ruolo amministrativo - tempo indeterminato",null,"BA2430",{"$f":"SUMIF('00 Aggregatore'!$B:$B,$E399,'00 Aggregatore'!E:E)","v":922464.95},{"$f":"SUMIF('00 Aggregatore'!$B:$B,$E399,'00 Aggregatore'!F:F)","v":1058085.3999999999}]
[null,"BA2440","B.8.A.2) Costo del personale dirigente ruolo amministrativo - tempo determinato",null,"BA2440",{"$f":"SUMIF('00 Aggregatore'!$B:$B,$E400,'00 Aggregatore'!E:E)","v":15595.28},{"$f":"SUMIF('00 Aggregatore'!$B:$B,$E400,'00 Aggregatore'!F:F)","v":52157.53}]
[null,"BA2450","B.8.A.3) Costo del personale dirigente ruolo amministrativo - altro",null,"BA2450",{"$f":"SUMIF('00 Aggregatore'!$B:$B,$E401,'00 Aggregatore'!E:E)","v":0},{"$f":"SUMIF('00 Aggregatore'!$B:$B,$E401,'00 Aggregatore'!F:F)","v":0}]
[null,"BA2460","B.8.B) Costo del personale comparto ruolo amministrativo","S","BA2460",{"$f":"SUM(F403:F405)","v":9159246.3499999996},{"$f":"SUM(G403:G405)","v":8924084.7899999991}]
[null,"BA2470","B.8.B.1) Costo del personale comparto ruolo amministrativo - tempo indeterminato",null,"BA2470",{"$f":"SUMIF('00 Aggregatore'!$B:$B,$E403,'00 Aggregatore'!E:E)","v":9121759.0600000005},{"$f":"SUMIF('00 Aggregatore'!$B:$B,$E403,'00 Aggregatore'!F:F)","v":8820511.5299999993}]
[null,"BA2480","B.8.B.2) Costo del personale comparto ruolo amministrativo - tempo determinato",null,"BA2480",{"$f":"SUMIF('00 Aggregatore'!$B:$B,$E404,'00 Aggregatore'!E:E)","v":37487.29},{"$f":"SUMIF('00 Aggregatore'!$B:$B,$E404,'00 Aggregatore'!F:F)","v":103573.26}]
[null,"BA2490","B.8.B.3) Costo del personale comparto ruolo amministrativo - altro",null,"BA2490",{"$f":"SUMIF('00 Aggregatore'!$B:$B,$E405,'00 Aggregatore'!E:E)","v":0},{"$f":"SUMIF('00 Aggregatore'!$B:$B,$E405,'00 Aggregatore'!F:F)","v":0}]
[null,"BA2500","B.9)   Oneri diversi di gestione","S","BA2500",{"$f":"+F407+F408+F409","v":2837998.5},{"$f":"+G407+G408+G409","v":2846350.33}]
[null,"BA2510","B.9.A)  Imposte e tasse (escluso IRAP e IRES)",null,"BA2510",{"$f":"SUMIF('00 Aggregatore'!$B:$B,$E407,'00 Aggregatore'!E:E)","v":1247157.1599999999},{"$f":"SUMIF('00 Aggregatore'!$B:$B,$E407,'00 Aggregatore'!F:F)","v":1146250.02}]
[null,"BA2520","B.9.B)  Perdite su crediti",null,"BA2520",{"$f":"SUMIF('00 Aggregatore'!$B:$B,$E408,'00 Aggregatore'!E:E)","v":0},{"$f":"SUMIF('00 Aggregatore'!$B:$B,$E408,'00 Aggregatore'!F:F)","v":0}]
[null,"BA2530","B.9.C) Altri oneri diversi di gestione","S","BA2530",{"$f":"+F410+F411+F412+F413","v":1590841.34},{"$f":"+G410+G411+G412+G413","v":1700100.31}]
[null,"BA2540","B.9.C.1)  Indennità, rimborso spese e oneri sociali per gli Organi Direttivi e Collegio Sindacale",null,"BA2540",{"$f":"SUMIF('00 Aggregatore'!$B:$B,$E410,'00 Aggregatore'!E:E)","v":1338906.02},{"$f":"SUMIF('00 Aggregatore'!$B:$B,$E410,'00 Aggregatore'!F:F)","v":1360331.84}]
[null,"BA2550","B.9.C.2)  Altri oneri diversi di gestione",null,"BA2550",{"$f":"SUMIF('00 Aggregatore'!$B:$B,$E411,'00 Aggregatore'!E:E)","v":251935.31999999998},{"$f":"SUMIF('00 Aggregatore'!$B:$B,$E411,'00 Aggregatore'!F:F)","v":339768.47}]
[null,"BA2551","B.9.C.3)  Altri oneri diversi di gestione da Aziende sanitarie pubbliche della Regione",null,"BA2551",{"$f":"SUMIF('00 Aggregatore'!$B:$B,$E412,'00 Aggregatore'!E:E)","v":0},{"$f":"SUMIF('00 Aggregatore'!$B:$B,$E412,'00 Aggregatore'!F:F)","v":0}]
[null,"BA2552","B.9.C.4)  Altri oneri diversi di gestione - per Autoassicurazione",null,"BA2552",{"$f":"SUMIF('00 Aggregatore'!$B:$B,$E413,'00 Aggregatore'!E:E)","v":0},{"$f":"SUMIF('00 Aggregatore'!$B:$B,$E413,'00 Aggregatore'!F:F)","v":0}]
[null,"BA2560","Totale Ammortamenti","S","BA2560",{"$f":"+F415+F416","v":10881437.840000002},{"$f":"+G415+G416","v":11072189.34}]
[null,"BA2570","B.10) Ammortamenti delle immobilizzazioni immateriali",null,"BA2570",{"$f":"SUMIF('00 Aggregatore'!$B:$B,$E415,'00 Aggregatore'!E:E)","v":160938.81},{"$f":"SUMIF('00 Aggregatore'!$B:$B,$E415,'00 Aggregatore'!F:F)","v":155437.62}]
[null,"BA2580","B.11) Ammortamenti delle immobilizzazioni materiali","S","BA2580",{"$f":"+F417+F420","v":10720499.030000001},{"$f":"+G417+G420","v":10916751.720000001}]
[null,"BA2590","B.11.A) Ammortamento dei fabbricati","S","BA2590",{"$f":"+F418+F419","v":4970458.6100000003},{"$f":"+G418+G419","v":5032903.95}]
[null,"BA2600","B.11.A.1) Ammortamenti fabbricati non strumentali (disponibili)",null,"BA2600",{"$f":"SUMIF('00 Aggregatore'!$B:$B,$E418,'00 Aggregatore'!E:E)","v":0},{"$f":"SUMIF('00 Aggregatore'!$B:$B,$E418,'00 Aggregatore'!F:F)","v":0}]
[null,"BA2610","B.11.A.2) Ammortamenti fabbricati strumentali (indisponibili)",null,"BA2610",{"$f":"SUMIF('00 Aggregatore'!$B:$B,$E419,'00 Aggregatore'!E:E)","v":4970458.6100000003},{"$f":"SUMIF('00 Aggregatore'!$B:$B,$E419,'00 Aggregatore'!F:F)","v":5032903.95}]
[null,"BA2620","B.11.B) Ammortamenti delle altre immobilizzazioni materiali",null,"BA2620",{"$f":"SUMIF('00 Aggregatore'!$B:$B,$E420,'00 Aggregatore'!E:E)","v":5750040.4199999999},{"$f":"SUMIF('00 Aggregatore'!$B:$B,$E420,'00 Aggregatore'!F:F)","v":5883847.7700000005}]
[null,"BA2630","B.12) Svalutazione delle immobilizzazioni e dei crediti","S","BA2630",{"$f":"+F422+F423","v":0},{"$f":"+G422+G423","v":0}]
[null,"BA2640","B.12.A) Svalutazione delle immobilizzazioni immateriali e materiali",null,"BA2640",{"$f":"SUMIF('00 Aggregatore'!$B:$B,$E422,'00 Aggregatore'!E:E)","v":0},{"$f":"SUMIF('00 Aggregatore'!$B:$B,$E422,'00 Aggregatore'!F:F)","v":0}]
[null,"BA2650","B.12.B) Svalutazione dei crediti",null,"BA2650",{"$f":"SUMIF('00 Aggregatore'!$B:$B,$E423,'00 Aggregatore'!E:E)","v":0},{"$f":"SUMIF('00 Aggregatore'!$B:$B,$E423,'00 Aggregatore'!F:F)","v":0}]
[null,"BA2660","B.13) Variazione delle rimanenze","S","BA2660",{"$f":"+F425+F434","v":-5011001.5600000024},{"$f":"+G425+G434","v":484397.13000000099}]
[null,"BA2670","B.13.A) Variazione rimanenze sanitarie","S","BA2670",{"$f":"SUM(F426:F433)","v":-5123500.2700000023},{"$f":"SUM(G426:G433)","v":364573.58000000101}]
[null,"BA2671","B.13.A.1) Prodotti farmaceutici ed emoderivati",null,"BA2671",{"$f":"SUMIF('00 Aggregatore'!$B:$B,$E426,'00 Aggregatore'!E:E)","v":-4223772.2200000007},{"$f":"SUMIF('00 Aggregatore'!$B:$B,$E426,'00 Aggregatore'!F:F)","v":1121269.5500000005}]
[null,"BA2672","B.13.A.2) Sangue ed emocomponenti",null,"BA2672",{"$f":"SUMIF('00 Aggregatore'!$B:$B,$E427,'00 Aggregatore'!E:E)","v":0},{"$f":"SUMIF('00 Aggregatore'!$B:$B,$E427,'00 Aggregatore'!F:F)","v":0}]
[null,"BA2673","B.13.A.3) Dispositivi medici",null,"BA2673",{"$f":"SUMIF('00 Aggregatore'!$B:$B,$E428,'00 Aggregatore'!E:E)","v":1194882.1699999988},{"$f":"SUMIF('00 Aggregatore'!$B:$B,$E428,'00 Aggregatore'!F:F)","v":1433650.5700000008}]
[null,"BA2674","B.13.A.4) Prodotti dietetici",null,"BA2674",{"$f":"SUMIF('00 Aggregatore'!$B:$B,$E429,'00 Aggregatore'!E:E)","v":-60796.87},{"$f":"SUMIF('00 Aggregatore'!$B:$B,$E429,'00 Aggregatore'!F:F)","v":-59825.45}]
[null,"BA2675","B.13.A.5) Materiali per la profilassi (vaccini)",null,"BA2675",{"$f":"SUMIF('00 Aggregatore'!$B:$B,$E430,'00 Aggregatore'!E:E)","v":-1743.9399999999998},{"$f":"SUMIF('00 Aggregatore'!$B:$B,$E430,'00 Aggregatore'!F:F)","v":2856.7}]
[null,"BA2676","B.13.A.6) Prodotti chimici",null,"BA2676",{"$f":"SUMIF('00 Aggregatore'!$B:$B,$E431,'00 Aggregatore'!E:E)","v":0},{"$f":"SUMIF('00 Aggregatore'!$B:$B,$E431,'00 Aggregatore'!F:F)","v":0}]
[null,"BA2677","B.13.A.7)  Materiali e prodotti per uso veterinario",null,"BA2677",{"$f":"SUMIF('00 Aggregatore'!$B:$B,$E432,'00 Aggregatore'!E:E)","v":-109094.08},{"$f":"SUMIF('00 Aggregatore'!$B:$B,$E432,'00 Aggregatore'!F:F)","v":-96747.28}]
[null,"BA2678","B.13.A.8)  Altri beni e prodotti sanitari",null,"BA2678",{"$f":"SUMIF('00 Aggregatore'!$B:$B,$E433,'00 Aggregatore'!E:E)","v":-1922975.3300000005},{"$f":"SUMIF('00 Aggregatore'!$B:$B,$E433,'00 Aggregatore'!F:F)","v":-2036630.5100000002}]
[null,"BA2680","B.13.B) Variazione rimanenze non sanitarie","S","BA2680",{"$f":"SUM(F435:F440)","v":112498.71},{"$f":"SUM(G435:G440)","v":119823.54999999999}]
[null,"BA2681","B.13.B.1) Prodotti alimentari",null,"BA2681",{"$f":"SUMIF('00 Aggregatore'!$B:$B,$E435,'00 Aggregatore'!E:E)","v":0},{"$f":"SUMIF('00 Aggregatore'!$B:$B,$E435,'00 Aggregatore'!F:F)","v":0}]
[null,"BA2682","B.13.B.2) Materiali di guardaroba, di pulizia, e di convivenza in genere",null,"BA2682",{"$f":"SUMIF('00 Aggregatore'!$B:$B,$E436,'00 Aggregatore'!E:E)","v":223.03999999999724},{"$f":"SUMIF('00 Aggregatore'!$B:$B,$E436,'00 Aggregatore'!F:F)","v":-840.34999999999854}]
[null,"BA2683","B.13.B.3) Combustibili, carburanti e lubrificanti",null,"BA2683",{"$f":"SUMIF('00 Aggregatore'!$B:$B,$E437,'00 Aggregatore'!E:E)","v":0},{"$f":"SUMIF('00 Aggregatore'!$B:$B,$E437,'00 Aggregatore'!F:F)","v":0}]
[null,"BA2684","B.13.B.4) Supporti informatici e cancelleria",null,"BA2684",{"$f":"SUMIF('00 Aggregatore'!$B:$B,$E438,'00 Aggregatore'!E:E)","v":152733.92000000001},{"$f":"SUMIF('00 Aggregatore'!$B:$B,$E438,'00 Aggregatore'!F:F)","v":-15700.220000000001}]
[null,"BA2685","B.13.B.5) Materiale per la manutenzione",null,"BA2685",{"$f":"SUMIF('00 Aggregatore'!$B:$B,$E439,'00 Aggregatore'!E:E)","v":-41185.560000000012},{"$f":"SUMIF('00 Aggregatore'!$B:$B,$E439,'00 Aggregatore'!F:F)","v":137019.65}]
[null,"BA2686","B.13.B.6) Altri beni e prodotti non sanitari",null,"BA2686",{"$f":"SUMIF('00 Aggregatore'!$B:$B,$E440,'00 Aggregatore'!E:E)","v":727.31},{"$f":"SUMIF('00 Aggregatore'!$B:$B,$E440,'00 Aggregatore'!F:F)","v":-655.53}]
[null,"BA2690","B.14) Accantonamenti dell’esercizio","S","BA2690",{"$f":"+F442+F450+F451+F458","v":18229040.560000002},{"$f":"+G442+G450+G451+G458","v":22466232.84}]
[null,"BA2700","B.14.A) Accantonamenti per rischi","S","BA2700",{"$f":"SUM(F443:F449)","v":3927713.96},{"$f":"SUM(G443:G449)","v":13911512.709999999}]
[null,"BA2710","B.14.A.1)  Accantonamenti per cause civili ed oneri processuali",null,"BA2710",{"$f":"SUMIF('00 Aggregatore'!$B:$B,$E443,'00 Aggregatore'!E:E)","v":1357811.38},{"$f":"SUMIF('00 Aggregatore'!$B:$B,$E443,'00 Aggregatore'!F:F)","v":6378882.71}]
[null,"BA2720","B.14.A.2)  Accantonamenti per contenzioso personale dipendente",null,"BA2720",{"$f":"SUMIF('00 Aggregatore'!$B:$B,$E444,'00 Aggregatore'!E:E)","v":0},{"$f":"SUMIF('00 Aggregatore'!$B:$B,$E444,'00 Aggregatore'!F:F)","v":811978.17}]
[null,"BA2730","B.14.A.3)  Accantonamenti per rischi connessi all'acquisto di prestazioni sanitarie da privato",null,"BA2730",{"$f":"SUMIF('00 Aggregatore'!$B:$B,$E445,'00 Aggregatore'!E:E)","v":272176.8},{"$f":"SUMIF('00 Aggregatore'!$B:$B,$E445,'00 Aggregatore'!F:F)","v":1823614}]
[null,"BA2740","B.14.A.4)  Accantonamenti per copertura diretta dei rischi (autoassicurazione)",null,"BA2740",{"$f":"SUMIF('00 Aggregatore'!$B:$B,$E446,'00 Aggregatore'!E:E)","v":2297725.7799999998},{"$f":"SUMIF('00 Aggregatore'!$B:$B,$E446,'00 Aggregatore'!F:F)","v":0}]
[null,"BA2741","B.14.A.5) Accantonamenti per franchigia assicurativa",null,"BA2741",{"$f":"SUMIF('00 Aggregatore'!$B:$B,$E447,'00 Aggregatore'!E:E)","v":0},{"$f":"SUMIF('00 Aggregatore'!$B:$B,$E447,'00 Aggregatore'!F:F)","v":4897037.83}]
[null,"BA2750","B.14.A.6)  Altri accantonamenti per rischi",null,"BA2750",{"$f":"SUMIF('00 Aggregatore'!$B:$B,$E448,'00 Aggregatore'!E:E)","v":0},{"$f":"SUMIF('00 Aggregatore'!$B:$B,$E448,'00 Aggregatore'!F:F)","v":0}]
[null,"BA2751","B.14.A.7)  Accantonamenti per interessi di mora",null,"BA2751",{"$f":"SUMIF('00 Aggregatore'!$B:$B,$E449,'00 Aggregatore'!E:E)","v":0},{"$f":"SUMIF('00 Aggregatore'!$B:$B,$E449,'00 Aggregatore'!F:F)","v":0}]
[null,"BA2760","B.14.B) Accantonamenti per premio di operosità (SUMAI)",null,"BA2760",{"$f":"SUMIF('00 Aggregatore'!$B:$B,$E450,'00 Aggregatore'!E:E)","v":264664.11},{"$f":"SUMIF('00 Aggregatore'!$B:$B,$E450,'00 Aggregatore'!F:F)","v":277851.92}]
[null,"BA2770","B.14.C) Accantonamenti per quote inutilizzate di contributi finalizzati e vincolati","S","BA2770",{"$f":"SUM(F452:F457)","v":7269835.4900000002},{"$f":"SUM(G452:G457)","v":5204388.66}]
[null,"BA2771","B.14.C.1)  Accantonamenti per quote inutilizzate contributi da Regione e Prov. Aut. per quota F.S. indistinto finalizzato",null,"BA2771",{"$f":"SUMIF('00 Aggregatore'!$B:$B,$E452,'00 Aggregatore'!E:E)","v":0},{"$f":"SUMIF('00 Aggregatore'!$B:$B,$E452,'00 Aggregatore'!F:F)","v":0}]
[null,"BA2780","B.14.C.2)  Accantonamenti per quote inutilizzate contributi da Regione e Prov. Aut. per quota F.S. vincolato",null,"BA2780",{"$f":"SUMIF('00 Aggregatore'!$B:$B,$E453,'00 Aggregatore'!E:E)","v":7216729.6299999999},{"$f":"SUMIF('00 Aggregatore'!$B:$B,$E453,'00 Aggregatore'!F:F)","v":5204388.66}]
[null,"BA2790","B.14.C.3)  Accantonamenti per quote inutilizzate contributi da soggetti pubblici (extra fondo) vincolati",null,"BA2790",{"$f":"SUMIF('00 Aggregatore'!$B:$B,$E454,'00 Aggregatore'!E:E)","v":53105.86},{"$f":"SUMIF('00 Aggregatore'!$B:$B,$E454,'00 Aggregatore'!F:F)","v":0}]
[null,"BA2800","B.14.C.4)  Accantonamenti per quote inutilizzate contributi da soggetti pubblici per ricerca",null,"BA2800",{"$f":"SUMIF('00 Aggregatore'!$B:$B,$E455,'00 Aggregatore'!E:E)","v":0},{"$f":"SUMIF('00 Aggregatore'!$B:$B,$E455,'00 Aggregatore'!F:F)","v":0}]
[null,"BA2810","B.14.C.5)  Accantonamenti per quote inutilizzate contributi vincolati da privati",null,"BA2810",{"$f":"SUMIF('00 Aggregatore'!$B:$B,$E456,'00 Aggregatore'!E:E)","v":0},{"$f":"SUMIF('00 Aggregatore'!$B:$B,$E456,'00 Aggregatore'!F:F)","v":0}]
[null,"BA2811","B.14.C.6)  Accantonamenti per quote inutilizzate contributi da soggetti privati per ricerca",null,"BA2811",{"$f":"SUMIF('00 Aggregatore'!$B:$B,$E457,'00 Aggregatore'!E:E)","v":0},{"$f":"SUMIF('00 Aggregatore'!$B:$B,$E457,'00 Aggregatore'!F:F)","v":0}]
[null,"BA2820","B.14.D) Altri accantonamenti","S","BA2820",{"$f":"SUM(F459:F468)","v":6766827},{"$f":"SUM(G459:G468)","v":3072479.55}]
[null,"BA2840","B.14.D.1)  Acc. Rinnovi convenzioni MMG/PLS/MCA",null,"BA2840",{"$f":"SUMIF('00 Aggregatore'!$B:$B,$E459,'00 Aggregatore'!E:E)","v":1507157},{"$f":"SUMIF('00 Aggregatore'!$B:$B,$E459,'00 Aggregatore'!F:F)","v":1990220}]
[null,"BA2850","B.14.D.2)  Acc. Rinnovi convenzioni Medici Sumai",null,"BA2850",{"$f":"SUMIF('00 Aggregatore'!$B:$B,$E460,'00 Aggregatore'!E:E)","v":200998},{"$f":"SUMIF('00 Aggregatore'!$B:$B,$E460,'00 Aggregatore'!F:F)","v":261948}]
[null,"BA2860","B.14.D.3)  Acc. Rinnovi contratt.: dirigenza medica",null,"BA2860",{"$f":"SUMIF('00 Aggregatore'!$B:$B,$E461,'00 Aggregatore'!E:E)","v":2419388},{"$f":"SUMIF('00 Aggregatore'!$B:$B,$E461,'00 Aggregatore'!F:F)","v":579101.55000000005}]
[null,"BA2870","B.14.D.4)  Acc. Rinnovi contratt.: dirigenza non medica",null,"BA2870",{"$f":"SUMIF('00 Aggregatore'!$B:$B,$E462,'00 Aggregatore'!E:E)","v":239284},{"$f":"SUMIF('00 Aggregatore'!$B:$B,$E462,'00 Aggregatore'!F:F)","v":119552}]
[null,"BA2880","B.14.D.5)  Acc. Rinnovi contratt.: comparto",null,"BA2880",{"$f":"SUMIF('00 Aggregatore'!$B:$B,$E463,'00 Aggregatore'!E:E)","v":0},{"$f":"SUMIF('00 Aggregatore'!$B:$B,$E463,'00 Aggregatore'!F:F)","v":121658}]
[null,"BA2881","B.14.D.6)  Acc. per Trattamento di fine rapporto dipendenti",null,"BA2881",{"$f":"SUMIF('00 Aggregatore'!$B:$B,$E464,'00 Aggregatore'!E:E)","v":0},{"$f":"SUMIF('00 Aggregatore'!$B:$B,$E464,'00 Aggregatore'!F:F)","v":0}]
[null,"BA2882","B.14.D.7)  Acc. per Trattamenti di quiescenza e simili",null,"BA2882",{"$f":"SUMIF('00 Aggregatore'!$B:$B,$E465,'00 Aggregatore'!E:E)","v":0},{"$f":"SUMIF('00 Aggregatore'!$B:$B,$E465,'00 Aggregatore'!F:F)","v":0}]
[null,"BA2883","B.14.D.8)  Acc. per Fondi integrativi pensione",null,"BA2883",{"$f":"SUMIF('00 Aggregatore'!$B:$B,$E466,'00 Aggregatore'!E:E)","v":0},{"$f":"SUMIF('00 Aggregatore'!$B:$B,$E466,'00 Aggregatore'!F:F)","v":0}]
[null,"BA2884","B.14.D.9)  Acc. Incentivi funzioni tecniche art. 113 D.lgs 50/2016",null,"BA2884",{"$f":"SUMIF('00 Aggregatore'!$B:$B,$E467,'00 Aggregatore'!E:E)","v":0},{"$f":"SUMIF('00 Aggregatore'!$B:$B,$E467,'00 Aggregatore'!F:F)","v":0}]
[null,"BA2890","B.14.D.10) Altri accantonamenti",null,"BA2890",{"$f":"SUMIF('00 Aggregatore'!$B:$B,$E468,'00 Aggregatore'!E:E)","v":2400000},{"$f":"SUMIF('00 Aggregatore'!$B:$B,$E468,'00 Aggregatore'!F:F)","v":0}]
[null,"BZ9999","Totale costi della produzione (B)","S","BZ9999",{"$f":"+F441+F424+F414+F406+F364+F354+F346+F177+F138+F421","v":717438368.82999969},{"$f":"+G441+G424+G414+G406+G364+G354+G346+G177+G138+G421","v":741720234.94000006}]
[null,null,"C)  Proventi e oneri finanziari"]
[null,"CA0010","C.1) Interessi attivi","S","CA0010",{"$f":"+F472+F473+F474","v":1395.3},{"$f":"+G472+G473+G474","v":0}]
[null,"CA0020","C.1.A) Interessi attivi su c/tesoreria unica",null,"CA0020",{"$f":"SUMIF('00 Aggregatore'!$B:$B,$E472,'00 Aggregatore'!E:E)","v":0},{"$f":"SUMIF('00 Aggregatore'!$B:$B,$E472,'00 Aggregatore'!F:F)","v":0}]
[null,"CA0030","C.1.B) Interessi attivi su c/c postali e bancari",null,"CA0030",{"$f":"SUMIF('00 Aggregatore'!$B:$B,$E473,'00 Aggregatore'!E:E)","v":1395.3},{"$f":"SUMIF('00 Aggregatore'!$B:$B,$E473,'00 Aggregatore'!F:F)","v":0}]
[null,"CA0040","C.1.C) Altri interessi attivi",null,"CA0040",{"$f":"SUMIF('00 Aggregatore'!$B:$B,$E474,'00 Aggregatore'!E:E)","v":0},{"$f":"SUMIF('00 Aggregatore'!$B:$B,$E474,'00 Aggregatore'!F:F)","v":0}]
[null,"CA0050","C.2) Altri proventi","S","CA0050",{"$f":"SUM(F476:F480)","v":0},{"$f":"SUM(G476:G480)","v":0}]
[null,"CA0060","C.2.A) Proventi da partecipazioni",null,"CA0060",{"$f":"SUMIF('00 Aggregatore'!$B:$B,$E476,'00 Aggregatore'!E:E)","v":0},{"$f":"SUMIF('00 Aggregatore'!$B:$B,$E476,'00 Aggregatore'!F:F)","v":0}]
[null,"CA0070","C.2.B) Proventi finanziari da crediti iscritti nelle immobilizzazioni",null,"CA0070",{"$f":"SUMIF('00 Aggregatore'!$B:$B,$E477,'00 Aggregatore'!E:E)","v":0},{"$f":"SUMIF('00 Aggregatore'!$B:$B,$E477,'00 Aggregatore'!F:F)","v":0}]
[null,"CA0080","C.2.C) Proventi finanziari da titoli iscritti nelle immobilizzazioni",null,"CA0080",{"$f":"SUMIF('00 Aggregatore'!$B:$B,$E478,'00 Aggregatore'!E:E)","v":0},{"$f":"SUMIF('00 Aggregatore'!$B:$B,$E478,'00 Aggregatore'!F:F)","v":0}]
[null,"CA0090","C.2.D) Altri proventi finanziari diversi dai precedenti",null,"CA0090",{"$f":"SUMIF('00 Aggregatore'!$B:$B,$E479,'00 Aggregatore'!E:E)","v":0},{"$f":"SUMIF('00 Aggregatore'!$B:$B,$E479,'00 Aggregatore'!F:F)","v":0}]
[null,"CA0100","C.2.E) Utili su cambi",null,"CA0100",{"$f":"SUMIF('00 Aggregatore'!$B:$B,$E480,'00 Aggregatore'!E:E)","v":0},{"$f":"SUMIF('00 Aggregatore'!$B:$B,$E480,'00 Aggregatore'!F:F)","v":0}]
[null,"CA0110","C.3)  Interessi passivi","S","CA0110",{"$f":"SUM(F482:F484)","v":1449403.09},{"$f":"SUM(G482:G484)","v":367752.63}]
[null,"CA0120","C.3.A) Interessi passivi su anticipazioni di cassa",null,"CA0120",{"$f":"SUMIF('00 Aggregatore'!$B:$B,$E482,'00 Aggregatore'!E:E)","v":0},{"$f":"SUMIF('00 Aggregatore'!$B:$B,$E482,'00 Aggregatore'!F:F)","v":0}]
[null,"CA0130","C.3.B) Interessi passivi su mutui",null,"CA0130",{"$f":"SUMIF('00 Aggregatore'!$B:$B,$E483,'00 Aggregatore'!E:E)","v":0},{"$f":"SUMIF('00 Aggregatore'!$B:$B,$E483,'00 Aggregatore'!F:F)","v":0}]
[null,"CA0140","C.3.C) Altri interessi passivi",null,"CA0140",{"$f":"SUMIF('00 Aggregatore'!$B:$B,$E484,'00 Aggregatore'!E:E)","v":1449403.09},{"$f":"SUMIF('00 Aggregatore'!$B:$B,$E484,'00 Aggregatore'!F:F)","v":367752.63}]
[null,"CA0150","C.4) Altri oneri","S","CA0150",{"$f":"SUM(F486:F487)","v":1932.36},{"$f":"SUM(G486:G487)","v":187.16}]
[null,"CA0160","C.4.A) Altri oneri finanziari",null,"CA0160",{"$f":"SUMIF('00 Aggregatore'!$B:$B,$E486,'00 Aggregatore'!E:E)","v":1932.36},{"$f":"SUMIF('00 Aggregatore'!$B:$B,$E486,'00 Aggregatore'!F:F)","v":187.16}]
[null,"CA0170","C.4.B) Perdite su cambi",null,"CA0170",{"$f":"SUMIF('00 Aggregatore'!$B:$B,$E487,'00 Aggregatore'!E:E)","v":0},{"$f":"SUMIF('00 Aggregatore'!$B:$B,$E487,'00 Aggregatore'!F:F)","v":0}]
[null,"CZ9999","Totale proventi e oneri finanziari (C)","S","CZ9999",{"$f":"+F471+F475-F481-F485","v":-1449940.1500000001},{"$f":"+G471+G475-G481-G485","v":-367939.79}]
[null,null,"D)  Rettifiche di valore di attività finanziarie"]
[null,"DA0010","D.1)  Rivalutazioni",null,"DA0010",{"$f":"SUMIF('00 Aggregatore'!$B:$B,$E490,'00 Aggregatore'!E:E)","v":0},{"$f":"SUMIF('00 Aggregatore'!$B:$B,$E490,'00 Aggregatore'!F:F)","v":0}]
[null,"DA0020","D.2)  Svalutazioni",null,"DA0020",{"$f":"SUMIF('00 Aggregatore'!$B:$B,$E491,'00 Aggregatore'!E:E)","v":0},{"$f":"SUMIF('00 Aggregatore'!$B:$B,$E491,'00 Aggregatore'!F:F)","v":0}]
[null,"DZ9999","Totale rettifiche di valore di attività finanziarie (D)","S","DZ9999",{"$f":"+F490-F491","v":0},{"$f":"+G490-G491","v":0}]
[null,null,"E)  Proventi e oneri straordinari"]
[null,"EA0010","E.1) Proventi straordinari","S","EA0010",{"$f":"+F495+F496","v":12710827.610000001},{"$f":"+G495+G496","v":7273832.5499999998}]
[null,"EA0020","E.1.A) Plusvalenze",null,"EA0020",{"$f":"SUMIF('00 Aggregatore'!$B:$B,$E495,'00 Aggregatore'!E:E)","v":0},{"$f":"SUMIF('00 Aggregatore'!$B:$B,$E495,'00 Aggregatore'!F:F)","v":0}]
[null,"EA0030","E.1.B) Altri proventi straordinari","S","EA0030",{"$f":"+F497+F498+F509+F519","v":12710827.610000001},{"$f":"+G497+G498+G509+G519","v":7273832.5499999998}]
[null,"EA0040","E.1.B.1) Proventi da donazioni e liberalità diverse",null,"EA0040",{"$f":"SUMIF('00 Aggregatore'!$B:$B,$E497,'00 Aggregatore'!E:E)","v":0},{"$f":"SUMIF('00 Aggregatore'!$B:$B,$E497,'00 Aggregatore'!F:F)","v":0}]
[null,"EA0050","E.1.B.2) Sopravvenienze attive","S","EA0050",{"$f":"+F499+F500+F501","v":7539888.9500000011},{"$f":"+G499+G500+G501","v":6455561.7599999998}]
[null,"EA0051","E.1.B.2.1) Sopravvenienze attive per quote F.S. vincolato",null,"EA0051",{"$f":"SUMIF('00 Aggregatore'!$B:$B,$E499,'00 Aggregatore'!E:E)","v":0},{"$f":"SUMIF('00 Aggregatore'!$B:$B,$E499,'00 Aggregatore'!F:F)","v":0}]
[null,"EA0060","E.1.B.2.2) Sopravvenienze attive v/Aziende sanitarie pubbliche della Regione ",null,"EA0060",{"$f":"SUMIF('00 Aggregatore'!$B:$B,$E500,'00 Aggregatore'!E:E)","v":3054055.48},{"$f":"SUMIF('00 Aggregatore'!$B:$B,$E500,'00 Aggregatore'!F:F)","v":1398774.74}]
[null,"EA0070","E.1.B.2.3) Sopravvenienze attive v/terzi","S","EA0070",{"$f":"SUM(F502:F508)","v":4485833.4700000007},{"$f":"SUM(G502:G508)","v":5056787.0199999996}]
[null,"EA0080","E.1.B.2.3.A) Sopravvenienze attive v/terzi relative alla mobilità extraregionale",null,"EA0080",{"$f":"SUMIF('00 Aggregatore'!$B:$B,$E502,'00 Aggregatore'!E:E)","v":0},{"$f":"SUMIF('00 Aggregatore'!$B:$B,$E502,'00 Aggregatore'!F:F)","v":0}]
[null,"EA0090","E.1.B.2.3.B) Sopravvenienze attive v/terzi relative al personale",null,"EA0090",{"$f":"SUMIF('00 Aggregatore'!$B:$B,$E503,'00 Aggregatore'!E:E)","v":0},{"$f":"SUMIF('00 Aggregatore'!$B:$B,$E503,'00 Aggregatore'!F:F)","v":444.89}]
[null,"EA0100","E.1.B.2.3.C) Sopravvenienze attive v/terzi relative alle convenzioni con medici di base",null,"EA0100",{"$f":"SUMIF('00 Aggregatore'!$B:$B,$E504,'00 Aggregatore'!E:E)","v":0},{"$f":"SUMIF('00 Aggregatore'!$B:$B,$E504,'00 Aggregatore'!F:F)","v":0}]
[null,"EA0110","E.1.B.2.3.D) Sopravvenienze attive v/terzi relative alle convenzioni per la specialistica",null,"EA0110",{"$f":"SUMIF('00 Aggregatore'!$B:$B,$E505,'00 Aggregatore'!E:E)","v":0},{"$f":"SUMIF('00 Aggregatore'!$B:$B,$E505,'00 Aggregatore'!F:F)","v":1157.96}]
[null,"EA0120","E.1.B.2.3.E) Sopravvenienze attive v/terzi relative all'acquisto prestaz. sanitarie da operatori accreditati",null,"EA0120",{"$f":"SUMIF('00 Aggregatore'!$B:$B,$E506,'00 Aggregatore'!E:E)","v":2636094.7400000002},{"$f":"SUMIF('00 Aggregatore'!$B:$B,$E506,'00 Aggregatore'!F:F)","v":1400536.99}]
[null,"EA0130","E.1.B.2.3.F) Sopravvenienze attive v/terzi relative all'acquisto di beni e servizi",null,"EA0130",{"$f":"SUMIF('00 Aggregatore'!$B:$B,$E507,'00 Aggregatore'!E:E)","v":468853.64},{"$f":"SUMIF('00 Aggregatore'!$B:$B,$E507,'00 Aggregatore'!F:F)","v":1839404.96}]
[null,"EA0140","E.1.B.2.3.G) Altre sopravvenienze attive v/terzi",null,"EA0140",{"$f":"SUMIF('00 Aggregatore'!$B:$B,$E508,'00 Aggregatore'!E:E)","v":1380885.09},{"$f":"SUMIF('00 Aggregatore'!$B:$B,$E508,'00 Aggregatore'!F:F)","v":1815242.22}]
[null,"EA0150","E.1.B.3) Insussistenze attive ","S","EA0150",{"$f":"+F510+F511","v":5170938.66},{"$f":"+G510+G511","v":818270.79}]
[null,"EA0160","E.1.B.3.1) Insussistenze attive v/Aziende sanitarie pubbliche della Regione",null,"EA0160",{"$f":"SUMIF('00 Aggregatore'!$B:$B,$E510,'00 Aggregatore'!E:E)","v":0},{"$f":"SUMIF('00 Aggregatore'!$B:$B,$E510,'00 Aggregatore'!F:F)","v":2}]
[null,"EA0170","E.1.B.3.2) Insussistenze attive v/terzi","S","EA0170",{"$f":"SUM(F512:F518)","v":5170938.66},{"$f":"SUM(G512:G518)","v":818268.79}]
[null,"EA0180","E.1.B.3.2.A) Insussistenze attive v/terzi relative alla mobilità extraregionale",null,"EA0180",{"$f":"SUMIF('00 Aggregatore'!$B:$B,$E512,'00 Aggregatore'!E:E)","v":0},{"$f":"SUMIF('00 Aggregatore'!$B:$B,$E512,'00 Aggregatore'!F:F)","v":0}]
[null,"EA0190","E.1.B.3.2.B) Insussistenze attive v/terzi relative al personale",null,"EA0190",{"$f":"SUMIF('00 Aggregatore'!$B:$B,$E513,'00 Aggregatore'!E:E)","v":0},{"$f":"SUMIF('00 Aggregatore'!$B:$B,$E513,'00 Aggregatore'!F:F)","v":686937}]
[null,"EA0200","E.1.B.3.2.C) Insussistenze attive v/terzi relative alle convenzioni con medici di base",null,"EA0200",{"$f":"SUMIF('00 Aggregatore'!$B:$B,$E514,'00 Aggregatore'!E:E)","v":0},{"$f":"SUMIF('00 Aggregatore'!$B:$B,$E514,'00 Aggregatore'!F:F)","v":0}]
[null,"EA0210","E.1.B.3.2.D) Insussistenze attive v/terzi relative alle convenzioni per la specialistica",null,"EA0210",{"$f":"SUMIF('00 Aggregatore'!$B:$B,$E515,'00 Aggregatore'!E:E)","v":0},{"$f":"SUMIF('00 Aggregatore'!$B:$B,$E515,'00 Aggregatore'!F:F)","v":0}]
[null,"EA0220","E.1.B.3.2.E) Insussistenze attive v/terzi relative all'acquisto prestaz. sanitarie da operatori accreditati",null,"EA0220",{"$f":"SUMIF('00 Aggregatore'!$B:$B,$E516,'00 Aggregatore'!E:E)","v":326389.61},{"$f":"SUMIF('00 Aggregatore'!$B:$B,$E516,'00 Aggregatore'!F:F)","v":34973.760000000002}]
[null,"EA0230","E.1.B.3.2.F) Insussistenze attive v/terzi relative all'acquisto di beni e servizi",null,"EA0230",{"$f":"SUMIF('00 Aggregatore'!$B:$B,$E517,'00 Aggregatore'!E:E)","v":4775754.84},{"$f":"SUMIF('00 Aggregatore'!$B:$B,$E517,'00 Aggregatore'!F:F)","v":77558.42}]
[null,"EA0240","E.1.B.3.2.G) Altre insussistenze attive v/terzi",null,"EA0240",{"$f":"SUMIF('00 Aggregatore'!$B:$B,$E518,'00 Aggregatore'!E:E)","v":68794.210000000006},{"$f":"SUMIF('00 Aggregatore'!$B:$B,$E518,'00 Aggregatore'!F:F)","v":18799.61}]
[null,"EA0250","E.1.B.4) Altri proventi straordinari",null,"EA0250",{"$f":"SUMIF('00 Aggregatore'!$B:$B,$E519,'00 Aggregatore'!E:E)","v":0},{"$f":"SUMIF('00 Aggregatore'!$B:$B,$E519,'00 Aggregatore'!F:F)","v":0}]
[null,"EA0260","E.2) Oneri straordinari","S","EA0260",{"$f":"+F521+F522","v":7435248.2199999997},{"$f":"+G521+G522","v":9522514.2699999996}]
[null,"EA0270","E.2.A) Minusvalenze",null,"EA0270",{"$f":"SUMIF('00 Aggregatore'!$B:$B,$E521,'00 Aggregatore'!E:E)","v":19530.05},{"$f":"SUMIF('00 Aggregatore'!$B:$B,$E521,'00 Aggregatore'!F:F)","v":15877.5}]
[null,"EA0280","E.2.B) Altri oneri straordinari","S","EA0280",{"$f":"+F523+F524+F525+F540+F551","v":7415718.1699999999},{"$f":"+G523+G524+G525+G540+G551","v":9506636.7699999996}]
[null,"EA0290","E.2.B.1) Oneri tributari da esercizi precedenti",null,"EA0290",{"$f":"SUMIF('00 Aggregatore'!$B:$B,$E523,'00 Aggregatore'!E:E)","v":0},{"$f":"SUMIF('00 Aggregatore'!$B:$B,$E523,'00 Aggregatore'!F:F)","v":0}]
[null,"EA0300","E.2.B.2) Oneri da cause civili ed oneri processuali",null,"EA0300",{"$f":"SUMIF('00 Aggregatore'!$B:$B,$E524,'00 Aggregatore'!E:E)","v":0},{"$f":"SUMIF('00 Aggregatore'!$B:$B,$E524,'00 Aggregatore'!F:F)","v":0}]
[null,"EA0310","E.2.B.3) Sopravvenienze passive","S","EA0310",{"$f":"+F526+F529","v":6303302.5099999998},{"$f":"+G526+G529","v":9361099.4199999999}]
[null,"EA0320","E.2.B.3.1) Sopravvenienze passive v/Aziende sanitarie pubbliche della Regione","S","EA0320",{"$f":"+F527+F528","v":122869.51},{"$f":"+G527+G528","v":2018324.89}]
[null,"EA0330","E.2.B.3.1.A) Sopravvenienze passive v/Aziende sanitarie pubbliche relative alla mobilità intraregionale",null,"EA0330",{"$f":"SUMIF('00 Aggregatore'!$B:$B,$E527,'00 Aggregatore'!E:E)","v":0},{"$f":"SUMIF('00 Aggregatore'!$B:$B,$E527,'00 Aggregatore'!F:F)","v":1777259.44}]
[null,"EA0340","E.2.B.3.1.B) Altre sopravvenienze passive v/Aziende sanitarie pubbliche della Regione",null,"EA0340",{"$f":"SUMIF('00 Aggregatore'!$B:$B,$E528,'00 Aggregatore'!E:E)","v":122869.51},{"$f":"SUMIF('00 Aggregatore'!$B:$B,$E528,'00 Aggregatore'!F:F)","v":241065.45}]
[null,"EA0350","E.2.B.3.2) Sopravvenienze passive v/terzi","S","EA0350",{"$f":"+F530+F531+F535+F536+F537+F538+F539","v":6180433},{"$f":"+G530+G531+G535+G536+G537+G538+G539","v":7342774.5300000003}]
[null,"EA0360","E.2.B.3.2.A) Sopravvenienze passive v/terzi relative alla mobilità extraregionale",null,"EA0360",{"$f":"SUMIF('00 Aggregatore'!$B:$B,$E530,'00 Aggregatore'!E:E)","v":0},{"$f":"SUMIF('00 Aggregatore'!$B:$B,$E530,'00 Aggregatore'!F:F)","v":0}]
[null,"EA0370","E.2.B.3.2.B) Sopravvenienze passive v/terzi relative al personale","S","EA0370",{"$f":"+F532+F533+F534","v":2601517.9900000002},{"$f":"+G532+G533+G534","v":53503.35}]
[null,"EA0380","E.2.B.3.2.B.1) Soprav. passive v/terzi relative al personale - dirigenza medica",null,"EA0380",{"$f":"SUMIF('00 Aggregatore'!$B:$B,$E532,'00 Aggregatore'!E:E)","v":3919.87},{"$f":"SUMIF('00 Aggregatore'!$B:$B,$E532,'00 Aggregatore'!F:F)","v":34724.99}]
[null,"EA0390","E.2.B.3.2.B.2) Soprav. passive v/terzi relative al personale - dirigenza non medica",null,"EA0390",{"$f":"SUMIF('00 Aggregatore'!$B:$B,$E533,'00 Aggregatore'!E:E)","v":7520.5},{"$f":"SUMIF('00 Aggregatore'!$B:$B,$E533,'00 Aggregatore'!F:F)","v":0.01}]
[null,"EA0400","E.2.B.3.2.B.3) Soprav. passive v/terzi relative al personale - comparto",null,"EA0400",{"$f":"SUMIF('00 Aggregatore'!$B:$B,$E534,'00 Aggregatore'!E:E)","v":2590077.62},{"$f":"SUMIF('00 Aggregatore'!$B:$B,$E534,'00 Aggregatore'!F:F)","v":18778.349999999999}]
[null,"EA0410","E.2.B.3.2.C) Sopravvenienze passive v/terzi relative alle convenzioni con medici di base",null,"EA0410",{"$f":"SUMIF('00 Aggregatore'!$B:$B,$E535,'00 Aggregatore'!E:E)","v":2272.9499999999998},{"$f":"SUMIF('00 Aggregatore'!$B:$B,$E535,'00 Aggregatore'!F:F)","v":107401.09}]
[null,"EA0420","E.2.B.3.2.D) Sopravvenienze passive v/terzi relative alle convenzioni per la specialistica",null,"EA0420",{"$f":"SUMIF('00 Aggregatore'!$B:$B,$E536,'00 Aggregatore'!E:E)","v":53207.86},{"$f":"SUMIF('00 Aggregatore'!$B:$B,$E536,'00 Aggregatore'!F:F)","v":110856.75}]
[null,"EA0430","E.2.B.3.2.E) Sopravvenienze passive v/terzi relative all'acquisto prestaz. sanitarie da operatori accreditati",null,"EA0430",{"$f":"SUMIF('00 Aggregatore'!$B:$B,$E537,'00 Aggregatore'!E:E)","v":965342.11},{"$f":"SUMIF('00 Aggregatore'!$B:$B,$E537,'00 Aggregatore'!F:F)","v":4016863.83}]
[null,"EA0440","E.2.B.3.2.F) Sopravvenienze passive v/terzi relative all'acquisto di beni e servizi",null,"EA0440",{"$f":"SUMIF('00 Aggregatore'!$B:$B,$E538,'00 Aggregatore'!E:E)","v":2001061.54},{"$f":"SUMIF('00 Aggregatore'!$B:$B,$E538,'00 Aggregatore'!F:F)","v":2252258.5499999998}]
[null,"EA0450","E.2.B.3.2.G) Altre sopravvenienze passive v/terzi",null,"EA0450",{"$f":"SUMIF('00 Aggregatore'!$B:$B,$E539,'00 Aggregatore'!E:E)","v":557030.55000000005},{"$f":"SUMIF('00 Aggregatore'!$B:$B,$E539,'00 Aggregatore'!F:F)","v":801890.96}]
[null,"EA0460","E.2.B.4) Insussistenze passive","S","EA0460",{"$f":"+F541+F542+F543","v":1112415.6600000001},{"$f":"+G541+G542+G543","v":145537.34999999998}]
[null,"EA0461","E.2.B.4.1) Insussistenze passive per quote F.S. vincolato",null,"EA0461",{"$f":"SUMIF('00 Aggregatore'!$B:$B,$E541,'00 Aggregatore'!E:E)","v":0},{"$f":"SUMIF('00 Aggregatore'!$B:$B,$E541,'00 Aggregatore'!F:F)","v":0}]
[null,"EA0470","E.2.B.4.2) Insussistenze passive v/Aziende sanitarie pubbliche della Regione",null,"EA0470",{"$f":"SUMIF('00 Aggregatore'!$B:$B,$E542,'00 Aggregatore'!E:E)","v":0},{"$f":"SUMIF('00 Aggregatore'!$B:$B,$E542,'00 Aggregatore'!F:F)","v":0}]
[null,"EA0480","E.2.B.4.3) Insussistenze passive v/terzi","S","EA0480",{"$f":"SUM(F544:F550)","v":1112415.6600000001},{"$f":"SUM(G544:G550)","v":145537.34999999998}]
[null,"EA0490","E.2.B.4.3.A) Insussistenze passive v/terzi relative alla mobilità extraregionale",null,"EA0490",{"$f":"SUMIF('00 Aggregatore'!$B:$B,$E544,'00 Aggregatore'!E:E)","v":0},{"$f":"SUMIF('00 Aggregatore'!$B:$B,$E544,'00 Aggregatore'!F:F)","v":0}]
[null,"EA0500","E.2.B.4.3.B) Insussistenze passive v/terzi relative al personale",null,"EA0500",{"$f":"SUMIF('00 Aggregatore'!$B:$B,$E545,'00 Aggregatore'!E:E)","v":0},{"$f":"SUMIF('00 Aggregatore'!$B:$B,$E545,'00 Aggregatore'!F:F)","v":0}]
[null,"EA0510","E.2.B.4.3.C) Insussistenze passive v/terzi relative alle convenzioni con medici di base",null,"EA0510",{"$f":"SUMIF('00 Aggregatore'!$B:$B,$E546,'00 Aggregatore'!E:E)","v":0},{"$f":"SUMIF('00 Aggregatore'!$B:$B,$E546,'00 Aggregatore'!F:F)","v":0}]
[null,"EA0520","E.2.B.4.3.D) Insussistenze passive v/terzi relative alle convenzioni per la specialistica",null,"EA0520",{"$f":"SUMIF('00 Aggregatore'!$B:$B,$E547,'00 Aggregatore'!E:E)","v":0},{"$f":"SUMIF('00 Aggregatore'!$B:$B,$E547,'00 Aggregatore'!F:F)","v":0}]
[null,"EA0530","E.2.B.4.3.E) Insussistenze passive v/terzi relative all'acquisto prestaz. sanitarie da operatori accreditati",null,"EA0530",{"$f":"SUMIF('00 Aggregatore'!$B:$B,$E548,'00 Aggregatore'!E:E)","v":907726.79},{"$f":"SUMIF('00 Aggregatore'!$B:$B,$E548,'00 Aggregatore'!F:F)","v":0.01}]
[null,"EA0540","E.2.B.4.3.F) Insussistenze passive v/terzi relative all'acquisto di beni e servizi",null,"EA0540",{"$f":"SUMIF('00 Aggregatore'!$B:$B,$E549,'00 Aggregatore'!E:E)","v":33658.5},{"$f":"SUMIF('00 Aggregatore'!$B:$B,$E549,'00 Aggregatore'!F:F)","v":71630.8}]
[null,"EA0550","E.2.B.4.3.G) Altre insussistenze passive v/terzi",null,"EA0550",{"$f":"SUMIF('00 Aggregatore'!$B:$B,$E550,'00 Aggregatore'!E:E)","v":171030.37},{"$f":"SUMIF('00 Aggregatore'!$B:$B,$E550,'00 Aggregatore'!F:F)","v":73906.539999999994}]
[null,"EA0560","E.2.B.5) Altri oneri straordinari",null,"EA0560",{"$f":"SUMIF('00 Aggregatore'!$B:$B,$E551,'00 Aggregatore'!E:E)","v":0},{"$f":"SUMIF('00 Aggregatore'!$B:$B,$E551,'00 Aggregatore'!F:F)","v":0}]
[null,"EZ9999","Totale proventi e oneri straordinari (E)","S","EZ9999",{"$f":"+F494-F520","v":5275579.3900000015},{"$f":"+G494-G520","v":-2248681.7199999997}]
[null,"XA0000","Risultato prima delle imposte (A - B +/- C +/- D +/- E)","S","XA0000",{"$f":"+F136-F469+F488+F492+F552","v":12515877.140000336},{"$f":"+G136-G469+G488+G492+G552","v":2293396.5800000336}]
[null,null,"Y) Imposte e tasse "]
[null,"YA0010","Y.1) IRAP","S","YA0010",{"$f":"+F556+F557+F558+F559","v":12105925.799999999},{"$f":"+G556+G557+G558+G559","v":12121261.58}]
[null,"YA0020","Y.1.A) IRAP relativa a personale dipendente",null,"YA0020",{"$f":"SUMIF('00 Aggregatore'!$B:$B,$E556,'00 Aggregatore'!E:E)","v":11109282.459999999},{"$f":"SUMIF('00 Aggregatore'!$B:$B,$E556,'00 Aggregatore'!F:F)","v":11133451.4}]
[null,"YA0030","Y.1.B) IRAP relativa a collaboratori e personale assimilato a lavoro dipendente",null,"YA0030",{"$f":"SUMIF('00 Aggregatore'!$B:$B,$E557,'00 Aggregatore'!E:E)","v":577892.56999999995},{"$f":"SUMIF('00 Aggregatore'!$B:$B,$E557,'00 Aggregatore'!F:F)","v":578860.73}]
[null,"YA0040","Y.1.C) IRAP relativa ad attività di libera professione (intramoenia)",null,"YA0040",{"$f":"SUMIF('00 Aggregatore'!$B:$B,$E558,'00 Aggregatore'!E:E)","v":418750.77},{"$f":"SUMIF('00 Aggregatore'!$B:$B,$E558,'00 Aggregatore'!F:F)","v":408949.44999999995}]
[null,"YA0050","Y.1.D) IRAP relativa ad attività commerciale",null,"YA0050",{"$f":"SUMIF('00 Aggregatore'!$B:$B,$E559,'00 Aggregatore'!E:E)","v":0},{"$f":"SUMIF('00 Aggregatore'!$B:$B,$E559,'00 Aggregatore'!F:F)","v":0}]
[null,"YA0060","Y.2) IRES","S","YA0060",{"$f":"+F561+F562","v":408274},{"$f":"+G561+G562","v":408988}]
[null,"YA0070","Y.2.A) IRES su attività istituzionale",null,"YA0070",{"$f":"SUMIF('00 Aggregatore'!$B:$B,$E561,'00 Aggregatore'!E:E)","v":0},{"$f":"SUMIF('00 Aggregatore'!$B:$B,$E561,'00 Aggregatore'!F:F)","v":0}]
[null,"YA0080","Y.2.B) IRES su attività commerciale",null,"YA0080",{"$f":"SUMIF('00 Aggregatore'!$B:$B,$E562,'00 Aggregatore'!E:E)","v":408274},{"$f":"SUMIF('00 Aggregatore'!$B:$B,$E562,'00 Aggregatore'!F:F)","v":408988}]
[null,"YA0090","Y.3) Accantonamento a F.do Imposte (Accertamenti, condoni, ecc.)",null,"YA0090",{"$f":"SUMIF('00 Aggregatore'!$B:$B,$E563,'00 Aggregatore'!E:E)","v":0},{"$f":"SUMIF('00 Aggregatore'!$B:$B,$E563,'00 Aggregatore'!F:F)","v":0}]
[null,"YZ9999","Totale imposte e tasse (Y)","S","YZ9999",{"$f":"+F555+F560+F563","v":12514199.799999999},{"$f":"+G555+G560+G563","v":12530249.58}]
[null,"ZZ9999","RISULTATO DI ESERCIZIO","S","ZZ9999",{"$f":"+F553-F564","v":1677.3400003369898},{"$f":"+G553-G564","v":-10236852.999999966}]

{"sheet":"Tab 50-51","index":3,"n_rows":89,"n_cols":11,"rows_kept":89,"cut":false,"hidden":false,"merged":[[88,0,88,7],[84,2,84,4],[84,6,84,7],[85,2,85,4],[85,6,85,7],[86,2,86,4],[86,6,86,7],[81,2,81,4],[81,6,81,7],[82,2,82,4],[82,6,82,7],[83,2,83,4],[83,6,83,7],[78,2,78,4],[78,6,78,7],[79,2,79,4],[79,6,79,7],[80,2,80,4],[80,6,80,7],[75,2,75,4],[75,6,75,7],[76,2,76,4],[76,6,76,7],[77,2,77,4],[77,6,77,7],[72,2,72,4],[72,6,72,7],[73,2,73,4],[73,6,73,7],[74,2,74,4],[74,6,74,7],[69,2,69,4],[69,6,69,7],[69,10,71,10],[70,2,70,4],[70,6,70,7],[71,2,71,4],[71,6,71,7],[59,2,59,4],[59,6,59,7],[67,2,67,4],[67,6,67,7],[68,2,68,4],[68,6,68,7],[56,2,56,4],[56,6,56,7],[57,2,57,4],[57,6,57,7],[58,2,58,4],[58,6,58,7],[60,2,60,4],[60,6,60,7],[54,2,54,4],[54,6,54,7],[55,2,55,4],[55,6,55,7],[50,2,50,4],[50,6,50,7],[51,2,51,4],[51,6,51,7],[52,2,52,4],[52,6,52,7],[49,2,49,4],[49,6,49,7],[45,2,45,4],[45,6,45,7],[46,2,46,4],[46,6,46,7],[47,2,47,4],[47,6,47,7],[53,2,53,4],[53,6,53,7],[41,6,41,7],[42,2,42,4],[42,6,42,7],[43,2,43,4],[43,6,43,7],[44,2,44,4],[44,6,44,7],[36,10,48,10],[37,2,37,4],[37,6,37,7],[38,2,38,4],[38,6,38,7],[39,2,39,4],[39,6,39,7],[40,2,40,4],[40,6,40,7],[41,2,41,4],[48,2,48,4],[48,6,48,7],[34,2,34,4],[34,6,34,7],[35,2,35,4],[35,6,35,7],[36,2,36,4],[36,6,36,7],[30,6,30,7],[31,2,31,4],[31,6,31,7],[32,2,32,4],[32,6,32,7],[33,2,33,4],[33,6,33,7],[22,10,24,10],[25,10,26,10],[27,2,27,4],[27,6,27,7],[28,2,28,4],[28,6,28,7],[28,10,33,10],[29,2,29,4],[29,6,29,7],[30,2,30,4],[21,2,21,4],[21,6,21,7],[22,0,26,0],[22,1,26,1],[22,2,26,4],[22,5,26,5],[22,6,26,7],[22,8,26,8],[22,9,26,9],[12,5,12,10],[13,5,13,10],[14,5,14,10],[18,0,20,0],[18,1,20,1],[18,2,20,4],[18,5,20,5],[18,6,20,7],[18,8,20,8],[18,9,20,9],[18,10,20,10],[6,5,6,10],[7,5,7,10],[8,5,8,10],[9,5,9,10],[10,5,10,10],[11,5,11,10],[0,0,0,10],[2,1,2,10],[3,0,5,0],[3,1,5,1],[3,2,5,2],[3,3,5,3],[3,4,5,4],[3,5,5,10]]}
["17.     Contributi in conto esercizio"]
[]
[null,"Tab. 50 – Dettagli contributi in conto esercizio"]
["CODICE MOD. CE","CONTRIBUTI IN C/ESERCIZIO","Quota Capitaria","Funzioni","Altro","Note"]
[]
[]
["AA0030","Contributi da Regione o Prov. Aut. per quota F.S. regionale indistinto",{"$f":"C8+C9","v":548308449},10707741.57,0]
["AA0031","Finanziamento indistinto",547046180,10707741.57,0]
["AA0032","Finanziamento indistinto finalizzato da Regione",1262269,0,0]
["AA0033","Funzioni ",0,0,0]
["AA0034","Funzioni - Pronto Soccorso",0,0,0]
["AA0035","Funzioni - Altro",0,0,0]
["AA0036","Quota finalizzata per il Piano aziendale di cui all'art. 1 c. 528 L. 208/2015"]
["AA0080","Contributi da Regione o Prov. Aut. (extra fondo) - Risorse aggiuntive da bilancio regionale a titolo di copertura LEA",0,0,0]
["AA0090","Contributi da Regione o Prov. Aut. (extra fondo) - Risorse aggiuntive da bilancio regionale a titolo di copertura extra LEA",0,0,0]
[]
[]
[null,"Tab. 51 – Informativa contributi in conto esercizio"]
["CODICE MOD. CE","DETTAGLIO CONTRIBUTI IN C/ESERCIZIO","Atto",null,null,"Data","Oggetto",null,"Importo assegnato","Importo utilizzato","Codice\nconto"]
[]
[]
["AA0020","DA REGIONE O P.A. PER QUOTA F.S. REGIONALE:",null,null,null,null,null,null,{"$f":"I23+I28","v":571940770.54000008}]
["AA0030","Quota F.S. regionale - indistinto","Delibera di Giunta Regionale in corso di adozione - Nota prot. n.0145029/20/DPF012 del 18/05/2020\"Linee guida alla redazione del bilancio d'esercizio al 31/12/2019\"",null,null,"2020-05-18","Riparto delle disponibilità finanaziarie per il SSR anno 2019 a favore delle ASL e della GSA presso la Regione",null,{"$f":"C7+D7","v":559016190.57000005},null,"03.01.01.01.01"]
[]
[]
[null,null,null,null,null,null,null,null,null,null,"03.01.01.01.02"]
[]
["AA0040","Quota F.S. regionale - vincolato:",null,null,null,null,null,null,{"$f":"SUM(I29:I34)","v":12924579.970000001}]
[null,"Rimborso farmaci innovativi 2019- Obiettivi PSN","DPF003/160",null,null,"2019-11-28","Legge 23 dicembre 1996, n. 662, c. 34 e 34-bis, art. 1 \"Misure di razionalizzazione della finanza pubblica\". Erogazione alle AASSLL della somma trasferita quale rimborso alle Regioni per l'acquisto dei farmaci innovativi - Anno 2019",null,2357218.1,0,"03.01.01.02.12"]
[null,"Rimborso farmaci innovativi oncologici 2019 - Obiettivi PSN","DPF003/159",null,null,"2019-11-28","Legge 23 dicembre 1996, n. 662, c. 34 e 34-bis, art. 1 \"Misure di razionalizzazione della finanza pubblica\". Erogazione alle AASSLL della somma trasferita quale rimborso alle Regioni per l'acquisto dei farmaci innovativi oncologici - Anno 2019",null,3033996.06,0]
[null,"Obiettivi di Piano 2019 art. 11 cc. 34 e 34bis L. 662/96","DPF/64 ",null,null,"2019-11-29","Obiettivi di Piano 2019",null,4740235.87,0]
[null,"Obiettivi di Piano 2019 art. 11 cc. 34 e 34bis L. 662/96","DPF010/30",null,null,"2019-10-14","Obiettivi di Piano 2019 Prevenzione",null,1664771.79,0]
[null,"Sanità Penitenziaria  2019","DPF015/21 ",null,null,"2020-04-28","Attività sanitaria nei confronti dei detenuti internati e dei minorenni sottoposti a provvedimento penale ex DPCM 1 aprile 2008",null,1081066.1499999999,0]
[null,"Prevenzione e assistenza detenuti tossicodipendenti  2019","DPF15/72",null,null,"2019-12-13","Finanziamento dello Stato per la prevenzione e l'assistenza dei detenuti tossicodipendenti",null,47292,0]
["AA0050","EXTRA FONDO:",null,null,null,null,null,null,{"$f":"I36+I57+I68+I50+I51+I52+I54+I60+I73+I74+I76","v":1219818.0399999998}]
["AA0070","Contributi da Regione o Prov. Aut. (extra fondo) vincolati:",null,null,null,null,null,null,{"$f":"SUM(I37:I49)","v":964199.28999999992},{"$f":"SUM(J37:J49)","v":964199.28999999992}]
[null,"Protezione soggetti malati celiachia anno 2018","DPF009/34",null,null,"2019-05-16","Protezione soggetti malati celiachia anno 2018","PROTEZIONE MALATI CELIACHIA ANNO 2018",24051.23,{"$f":"I37","v":24051.23},"03.01.02.01.01"]
[null,"Piano regionale GAP anno 2017","DPF010/05",null,null,"2019-02-07","Piano regionale GAP anno 2017 DGR 644/2018 - Prevenzione, cura e riabilitazione persone affette da gioco d'azzardo patologico L. 208/15","PIANO REGIONALE GAP ANNO 2017 DGR 644/2018 - PREVENZIONE, CURA E RIABILITAZIONE PERSONE AFFETTE DA GIOCO D'AZZARDO PATOLOGICO L. 208/15",189876.91,{"$f":"I38","v":189876.91}]
[null,"Piano regionale GAP anno 2016","DPF010/15",null,null,"2019-05-14","Piano regionale GAP anno 2016 DGR 644/2018 - Prevenzione, cura e riabilitazione persone affette da gioco d'azzardo patologico L. 208/15","PIANO REGIONALE GAP ANNO 2016  DGR 644/2018 - PREVENZIONE, CURA E RIABILITAZIONE PERSONE AFFETTE DA GIOCO D'AZZARDO PATOLOGICO L. 208/15",244375.48,244375.48]
[null,"Contributi integrazione sociale ciechi pluriminorati - anni 2014 2015 2016","DPF010/22",null,null,"2019-06-20","L. 284/1997 Prevenzione e riabilitazione visiva ciechi pluriminorati - anni 2014 2015 2016","L. 284/1997 PREVENZIONE E RIABILITAZIONE VISIVA CIECHI PLURIMINORATI - ANNUALITA' 2014 2015 2016",4505.45,4505.45]
[null,"Ricollocamento personale ESACRI  - anno 2018","DPF004/08",null,null,"2019-08-07","Ricollocamento personale ESACRI presso ASL - anno 2018","RICOLLOCAMENTO PERSONALE ESACRI ANNO 2018",329519.03999999998,329519.03999999998]
[null,"Protezione soggetti malati di celiachia anno 2017","DPF009/45",null,null,"2019-07-23","Protezione soggetti malati di celiachia anno 2017","PROTEZIONE SOGGETTI MALATI CELIACHIA ANNO 2017",23203.59,23203.59]
[null,"Prevenzione e riabilitazione visiva ciechi pluriminorati anno 2017","DPF010/24",null,null,"2019-07-17","L. 284/1997 Prevenzione e riabilitazione visiva ciechi pluriminorati - anno 2017","L. 284/1997 PREVENZIONE E RIABILITAZIONE VISIVA CIECHI PLURIMINORATI - ANNUALITA' 2014 2015 2016",993.34,993.34]
[null,"Finanziamento 2019 Consultori familiari","DPF015/68",null,null,"2019-12-04","Consultori familiari 2019","CONSULTORI FAMILIARI 2019",24314.87,24314.87]
[null,"D.LGS. 194/2008 Fondo Servizio Veterinario ","DPF011/140",null,null,"2019-12-06","D.LGS. 194/2008 Fondo Servizio Veterinario ","D.LGS. 194/2008 FONDO SERVIZIO VETERINARIO",7214.2,7214.2]
[null,"Progetto AGENAS 'La valutazione partecipata del grado di umanizzazione delle strutture di ricovero'","DPF007/05",null,null,"2019-12-04","AGENAS 'Valutazione grado umanizzazione strutture ricovero'","AGENAS 'VALUTAZIONE GRADO UMANIZZAZIONE STRUTTURE RICOVERO'",1125,1125]
[null,"Prevenzione e riabilitazione visiva ciechi pluriminorati anno 2018","DPF010/32",null,null,"2019-11-26","L. 284/1997 Prevenzione e riabilitazione visiva ciechi pluriminorati - anno 2018","L. 284/1997 PREVENZIONE E RIABILITAZIONE VISIVA CIECHI PLURIMINORATI - ANNUALITA' 2014 2015 2016",3814.01,3814.01]
[null,"Rimborso prestazioni sanitarie a favore di stranieri non in regola di cui all'art. 35, c. 6, D. Lgs. n. 286 del 25/07/1998","DGR 100",null,null,"2020-02-24","Network per la diagnosi precoce di disturbo dello spettro dell'autismo ","NETWORK DIAGNOSI PRECOCE DISTURBO SPETTRO AUTISMO",30206.17,30206.17]
[null,"Progetto EVA:  dall'età evolutiva all'età adulta","DGR 45",null,null,"2019-01-25","Progetto EVA:  dall'età evolutiva all'età adulta","PROGETTO EVA:  DALL'ETA' EVOLUTIVA ALL'ETA'  ADULTA",81000,81000]
["AA0080","Contributi da Regione o Prov. Aut. (extra fondo) - \nRisorse aggiuntive da bilancio regionale a titolo di copertura LEA",null,null,null,null,null,null,0]
["AA0090","Contributi da Regione o Prov. Aut. (extra fondo) - \nRisorse aggiuntive da bilancio regionale a titolo di copertura extra LEA",null,null,null,null,null,null,0]
["AA0100","Contributi da Regione o Prov. Aut. (extra fondo) - Altro:",null,null,null,null,null,null,{"$f":"SUM(I53)","v":216918.16},{"$f":"SUM(J53)","v":216918.16}]
[null,"Rimborso prestazioni sanitarie a favore di stranieri non in regola di cui all'art. 35, c. 6, D. Lgs. n. 286 del 25/07/1998","DPF015/22",null,null,"2020-04-28","Rimborso prestazioni sanitarie a favore di stranieri non in regola di cui all'art. 35, c. 6, D. Lgs. n. 286 del 25/07/1998",null,216918.16,216918.16,"03.01.02.01.04"]
["AA0120","Contributi da Aziende sanitarie pubbliche della Regione o Prov. Aut. (extra fondo) vincolati:",null,null,null,null,null,null,0]
[null,"Progetto 1",null,null,null,null,null,null,0]
[null,"Progetto ….",null,null,null,null,null,null,0]
["AA0130","Contributi da Aziende sanitarie pubbliche (extra fondo) altro:",null,null,null,null,null,null,{"$f":"SUM(I58)","v":0}]
[null,"Progetto 1",null,null,null,null,null,null,0]
[null,"Progetto ….",null,null,null,null,null,null,0]
["AA0141","Contributi da Ministero della Salute (extra fondo)",null,null,null,null,null,null,0]
[]
[]
[]
[]
[]
[]
[]
["AA0150","Contributi da altri soggetti pubblici (extra fondo) vincolati:",null,null,null,null,null,null,{"$f":"SUM(I69:I72)","v":38700.589999999997},{"$f":"SUM(J69:J72)","v":38700.589999999997}]
[null,"Comune di Pescara",null,null,null,null,"Contributo Comune di Pescara Mediazione Interculturale",null,7500,7500,"03.01.02.03.02"]
[null,"Istituto Superiore di Sanità",null,null,null,null,"Progetto CCM \"Infezione e colonizzazione da multiresistenti nell'anziano in RSA","Convenzioni Ministero 780-ISTITUTO SUPERIORE DELLA SANITA'",1120,{"$f":"I70","v":1120},"03.01.02.03.06"]
[null,"Regione Abruzzo","DPF009/33",null,null,"2019-05-16","Contributo modifica strumenti di guida anno 2018","CONTRIBUTO MODIFICA STRUMENTI DI GUIDA ANNO 2018",5820.55,{"$f":"I71","v":5820.55}]
[null,"Regione Abruzzo","DPF013/84",null,null,"2019-07-24","Contributo portatori grave disabilità psichica e motoria per rimborso spese acquisto ausili informatici anno 2018","CONTRIBUTO PORTATORI GRAVE DISABILITA' PSICHICA E MOTORIA PER RIMBORSO SPESE ACQUISTO AUSILI INFORMATICI  ANNO 2018",24260.04,{"$f":"I72","v":24260.04}]
["AA0160","Contributi da altri soggetti pubblici (extra fondo) L.210/92:",null,null,null,null,null,null,0]
["AA0170","Contributi da altri soggetti pubblici (extra fondo) altro:",null,null,null,null,null,null,0]
[null,"….",null,null,null,null,null,null,0]
["AA0171"," Contibuti da altri soggetti pubblici (extra fondo) - in attuazione dell’art.79, c. 1 sexies lettera c) del D.L. 112/2008, convertito con L. 133/2008 e della L. 23 dicembre 2009 n. 191.",null,null,null,null,null,null,0]
[null,"PER RICERCA:",null,null,null,null,null,null,0]
["AA0190","Contributi da Ministero della Salute per ricerca corrente:",null,null,null,null,null,null,0]
[null,"….",null,null,null,null,null,null,0]
["AA0200","Contributi da Ministero della Salute per ricerca finalizzata:",null,null,null,null,null,null,0]
[null,"Progetto ….",null,null,null,null,null,null,0]
["AA0210","Contributi da Regione ed altri soggetti pubblici per ricerca:",null,null,null,null,null,null,0]
[null,"….",null,null,null,null,null,null,0]
["AA0220","Contributi da privati per ricerca:",null,null,null,null,null,null,0]
[null,"….",null,null,null,null,null,null,0]
["AA0230","CONTRIBUTI DA PRIVATI:",null,null,null,null,null,null,0]
[null,"….",null,null,null,null,null,null,0]
[]
["TOTALE CONTRIBUTI IN C/ESERCIZIO",null,null,null,null,null,null,null,{"$f":"I22+I35","v":573160588.58000004}]

{"sheet":"Dettaglio voce AA0280 ","index":4,"n_rows":28,"n_cols":5,"rows_kept":28,"cut":false,"hidden":false,"merged":[[1,0,1,3],[23,0,23,2],[27,0,27,2]]}
[]
["Dettaglio somme vincolate anni precedenti rilevate nella voce AA0280"]
[]
["Descrizione somma vincolata","Anno di competenza","Estremi Provvedimento","Importo in €"]
["Prevenzione e assistenza detenuti tossicodipendenti - Saldo 2018 - D. Lgs. n. 230/1999",2018,"DPF015/40 del 20/08/2019",9458]
["Sanità Penitenziaria - Saldo 2018 ",2018,"DPF015/44 del 22/08/2019",228242]
["Extracomunitari irregolari D.Lgs. 286/98 - 2017",2017,"DPF015/15 del 27/02/2019",149325.14000000001]
["Extracomunitari irregolari D.Lgs. 286/98  - Acconto 2018",2018,"DPF015/32 del 03/06/2019",80223.45]
["Extracomunitari irregolari D.Lgs. 286/98   - Saldo 2018",2018,"DPF015/42 del 22/08/2019",23358.959999999999]
["Lotta contro AIDS - 25° corso formazione professionale",null,"DPF004/07 del 16/07/2019",67983.009999999995]
["Obiettivi di piano 2009",2009,"DGR n. 246/2009",26511.27,"a"]
["Obiettivi di piano 2010",2010,"DGR N. 655 del 31/08/2010",30868.07,"a"]
["Obiettivi di piano 2011",2011,"DGR n. 412 del 15/06/2011",233228.6,"a"]
["Obiettivi di Piano 2012",2012,"DGR n. 8 del 14/01/2013 ",725233.25,"a"]
["Obiettivi di Piano 2013",2013,"DGR n. 269 del 14/04/2014",1996570.68,"a"]
["Obiettivi di Piano 2014",2014,"DGR n. 812 del 29/09/2015",747660.34,"a"]
["Obiettivi di Piano 2015",2015,"DGR n. 178 del 22/03/2016",1601402.34,"a"]
["Obiettivi di Piano 2016",2016,"DGR n. 260/2017",1044825.78,"a"]
["Obiettivi di Piano 2017",2017,"DGR n. 92/2018",1537915.36,"a"]
["Obiettivi di Piano 2018",2018,"DGR n. 209/2019",6453869.29,"a"]
["Obiettivi di Piano 2018: Sanità penitenziaria 2018",2018,"DPF015/19 del 21/03/19",725026.74,"a"]
["Obiettivi di Piano 2018: Detenuti tossicodipendenti 2018",2018,"DPF015/74 del 20/12/18",37833.599999999999,"a"]
["Scarico utilizzo 2019 per acquisto attrezzature",null,null,1824839,"a"]
["TOTALE",null,null,{"$f":"SUM(D5:D23)","v":17544374.879999999}]
[]
[]
[]
["Somma a :    Totale utilizzi contributi da Regione per quota FS vincolato in accordo con Tabella 36 €",null,null,{"$f":"D11+D12+D13+D14+D15+D16+D17+D18+D19+D20+D21+D22+D23","v":16985784.32}]

{"sheet":"Tab 52","index":5,"n_rows":22,"n_cols":5,"rows_kept":22,"cut":false,"hidden":false,"merged":[[20,0,21,1],[20,2,21,2],[20,3,21,3],[9,0,9,4],[10,1,11,1],[13,1,13,2],[19,0,19,1],[19,2,19,3],[19,4,19,5],[20,4,20,5],[21,4,21,5]]}
[null,"Tab. 52 – Dettaglio rettifica contributi in conto esercizio per destinazione ad investimenti"]
["CODICE MOD. CE","DETTAGLIO RETTIFICA CONTRIBUTI C/ESERCIZIO\nPER DESTINAZIONE AD INVESTIMENTI","Contributo\nassegnato","Quota destinata ad investimenti","Incidenza %"]
["AA0020","Contributi in c/esercizio da Regione o P.A. per quota F.S. regionale",571940771,3379701.26,{"$f":"D3/C3","v":5.9091805154768374E-3}]
["AA0060","Contributi in c/esercizio da Regione o P.A. extra fondo",1181117,0,{"$f":"D4/C4","v":0}]
["AA0110","Contributi in c/esercizio da aziende sanitarie pubbliche (extra fondo)",0,0]
["AA0180","Contributi in c/esercizio per ricerca",0,0]
["AA0230","Contributi in c/esercizio da privati",0,0]
[null,"Totale ",{"$f":"SUM(C3:C7)","v":573121888},{"$f":"SUM(D3:D7)","v":3379701.26},{"$f":"D8/C8","v":5.8970025936262967E-3}]
[]
["L'importo 2019 della \"Rettifica contributi in c/esercizio per destinazione ad investimenti - da Regione o Provincia Autonoma per quota F.S. Regionale vicolato\" è così determinato:"]
[null,"Descrizione","A","B","A*B"]
[null,null,"% Rettifica","Investimenti","Importo"]
[null,"Rettifica contributi FSR per acquisto beni anno 2019",1,3379701.26,{"$f":"C13*D13","v":3379701.26}]
[null,"TOTALE",null,{"$f":"SUM(D13:D13)","v":3379701.26},{"$f":"SUM(E13:E13)","v":3379701.26}]
[]
[]
[]
[]
["Altre informazioni relative a contributi in conto esercizio"]
["Informazione",null,"Caso presente in azienda?",null,"Se sì, illustrare"]
["CT01. Sono state rilevate significative variazioni rispetto all'esercizio precedente?",null,"SI",null,"L'ammontare dei contribuiti in c/esercizio (voce A1 del Conto Economico ex D.Lgs. 118/2011) subisce, rispetto al 2018, un incremento di circa €/mln 3,3. "]
[null,null,null,null,"Tale aumento è dovuto essenzialmente alle maggiori somme assegnate nell'esercizio 2019 per quota FSR indistinta rispetto al 2018 (per circa €/mln 2,7), e dalle maggiori assegnazioni per quota FSR vincolato (per circa €/mln 0,6). In particolare, l'incremento della quota FSR indistinta è riconducibile all'aumento del finanziamento per quota capitaria, mentre ll'incremento  del finanziamento vincolato è dovuto alle maggiori delle somme assegnate, riferite agli anni 2016, 2017 e 2018 , a valere sull'esercizio  2019, per la prevenzione e cura delle patologie riferite al Gioco d'Azzardo Patologico. "]

{"sheet":"Tab 52bis","index":6,"n_rows":23,"n_cols":2,"rows_kept":23,"cut":false,"hidden":false,"merged":[[3,0,3,1],[5,0,5,1]]}
[]
["Tab. 52 bis – Dettaglio PAY BACK"]
[]
["Ricavi per Payback consuntivo 2019"]
[]
["PAY-BACK 2018\nVOCE CE AA0920 \"Ulteriore Pay-back\"\nVOCE PDC 03.04.05.01.03"]
["DETERMINAZIONI","ASL 203"]
["Sconto 1,83% II° semestre 2018 accertato ed impegnato con DPF003/129 del 18/09/2019 e liquidato con la DPF003/130 del 19/09/2019",513222.68]
["Pay Back\" Specialità medicinali varie\" accertato e impegnato con DPF003/155 del 20/11/2019.",383282.33]
["Sconto 1,83% I° semestre 2019 accertato impegnato con DPF003/ 184 del 31.12.2019 .",520757.02]
["Pay Back 5% accertato e impegnato con DPF003/186 del 31.12.2019 ",646300.09]
["Condizioni negoziali da applicarsi in ragione  della  scadenza  degli effetti degli accordi stipulati ai sensi dell'articolo 11,  comma  1, del decreto-legge n. 158/2012. (Determina DG n. 473/2019).  accertato e impegnato con DPF003/161 del 28/11/2019",91298.05]
["Condizioni negoziali da applicarsi in ragione  della  scadenza  degli effetti degli accordi stipulati ai sensi dell'articolo 11,  comma  1, del decreto-legge n. 158/2012. (Determina DG n. 473/2019). \" accertato e impegnato con DPF003/185 del31/12/2019.",47853.51]
["Rinegozazione del prezzo di rimborso dei medicinali a carico del SSN specialità medicinali varie accertato e impegnato con DPF003/172 del 10/12/2019 specialità medicinali varie",274754.27]
["Totale voce CE AA0920",{"$f":"SUM(B8:B14)","v":2477467.9499999997}]
[]
[]
["I Ricavi per Pay-back 2019 sono stati contabilizzati nella voce CE AA0920 \"Ulteriore Pay-Back\" "]
["secondo gli importi comunicati dalla Regione nelle Linee Guida alla redazione del Bilancio"]
[" di Esercizio 2019 (Nota prot. n. RA/0145029/20/DPF012 del 18/05/2020 )."]
[]
["Non sono stati iscritti nel 2019 ulteriori importi rispetto a quelli comunicati dalla Regione nelle"]
["Linee Guida alla redazione del Bilancio di Esercizio 2019."]

{"sheet":"Tab 53","index":7,"n_rows":72,"n_cols":13,"rows_kept":72,"cut":false,"hidden":false,"merged":[[53,0,54,8],[0,0,0,6],[2,1,2,6],[3,0,4,0],[3,1,4,1],[3,2,3,4],[3,5,3,7],[71,0,75,7],[57,0,57,2],[59,3,62,3],[64,3,65,3],[66,0,66,1],[68,3,68,5]]}
["18.     Proventi e ricavi diversi"]
[]
[null,"Tab. 53 – Dettaglio ricavi per prestazioni sanitarie in mobilità"]
["CODICE MOD. CE","DETTAGLIO RICAVI PER PRESTAZIONI SANITARIE IN MOBILITA'","PUBBLICO",null,null,"PRIVATO",null,null,"TOTALE"]
[null,null,"Avezzano-Sulmona-L'Aquila","Lanciano-Vasto-Chieti","Teramo","Avezzano-Sulmona-L'Aquila","Lanciano-Vasto-Chieti","Teramo",null,null,"VALORE CE","Diff","Ctrl"]
[null," RICAVI DA MOBILITA' SANITARIA INFRAREGIONALE (A)",{"$f":"SUM(C7:C21)","v":10536502.67},32311099.949999996,11343340.32,5024822.01,29230264.530000005,14030202.839999998,{"$f":"I7+I8+I10+I11+I12+I13+I14+I15+I21","v":102476232.31999999},null,{"$f":"SUM(K7:K24)","v":102476232.31999999}]
["AA0350","Prestazioni di ricovero",5945759.6799999997,18789551.18,5724018.8399999999,2924659.34,20847556.030000001,10760989.27,{"$f":"SUM(C7:H7)","v":64992534.340000004},null,{"$f":"SUMIF('00 CE'!B:B,'Tab 53'!A7,'00 CE'!G:G)","v":64992534.340000004},{"$f":"I7-K7","v":0},{"$f":"IF(L7=0,\"OK\",\" CTRL\")","v":"OK"}]
["AA0360","Prestazioni di specialistica ambulatoriale",1433596.0599999998,3564960.53,1620198.1799999997,74919.19,1405582.94,920694.67,9019951.5700000003,null,{"$f":"SUMIF('00 CE'!B:B,'Tab 53'!A8,'00 CE'!G:G)","v":9019951.5700000003},{"$f":"I8-K8","v":0},{"$f":"IF(L8=0,\"OK\",\" CTRL\")","v":"OK"}]
["AA0361"," Prestazioni di pronto soccorso non seguite da ricovero",0,0,0,0,0,0,0,null,{"$f":"SUMIF('00 CE'!B:B,'Tab 53'!A9,'00 CE'!G:G)","v":0},0,"OK"]
["AA0370","Prestazioni di psichiatria residenziale e semiresidenziale",0,0,0,652436.01,3004755.76,1042539.86,4699731.63,null,{"$f":"SUMIF('00 CE'!B:B,'Tab 53'!A10,'00 CE'!G:G)","v":4699731.63},0,"OK"]
["AA0380","Prestazioni di File F",2808499.7600000007,8948254.9899999965,3536485.7499999991,0,0,0,15293240.499999996,null,{"$f":"SUMIF('00 CE'!B:B,'Tab 53'!A11,'00 CE'!G:G)","v":15293240.5},0,"OK"]
["AA0390","Prestazioni servizi MMG, PLS, Contin. assistenziale",35100.18,76086.36,27978.12,0,0,0,139164.66,null,{"$f":"SUMIF('00 CE'!B:B,'Tab 53'!A12,'00 CE'!G:G)","v":139164.66},0,"OK"]
["AA0400","Prestazioni servizi farmaceutica convenzionata",276981.58000000013,806194.42999999993,381783.72000000009,0,0,0,1464959.73,null,{"$f":"SUMIF('00 CE'!B:B,'Tab 53'!A13,'00 CE'!G:G)","v":1464959.73},0,"OK"]
["AA0410","Prestazioni termali",0,0,0,316040.90999999997,453683.35,55649.51,825373.77,null,{"$f":"SUMIF('00 CE'!B:B,'Tab 53'!A14,'00 CE'!G:G)","v":825373.77},0,"OK"]
["AA0420","Prestazioni trasporto ambulanze ed elisoccorso",36565.410000000003,126052.46,52875.71,0,0,0,215493.58,null,{"$f":"SUMIF('00 CE'!B:B,'Tab 53'!A15,'00 CE'!G:G)","v":215493.58},0,"OK"]
["AA0421","Prestazioni assistenza integrativa",0,0,0,0,0,0,0,null,{"$f":"SUMIF('00 CE'!B:B,'Tab 53'!A16,'00 CE'!G:G)","v":0},0,"OK"]
["AA0422","Prestazioni assistenza protesica",0,0,0,0,0,0,0,null,{"$f":"SUMIF('00 CE'!B:B,'Tab 53'!A17,'00 CE'!G:G)","v":0},0,"OK"]
["AA0423","Prestazioni assistenza riabilitativa extraospedaliera",0,0,0,0,0,0,0,null,{"$f":"SUMIF('00 CE'!B:B,'Tab 53'!A18,'00 CE'!G:G)","v":0},0,"OK"]
["AA0424","Ricavi per cessione di emocomponenti e cellule staminali",0,0,0,0,0,0,0,null,{"$f":"SUMIF('00 CE'!B:B,'Tab 53'!A19,'00 CE'!G:G)","v":0},0,"OK"]
["AA0425","Prestazioni assistenza domiciliare integrata (ADI)",0,0,0,0,0,0,0,null,{"$f":"SUMIF('00 CE'!B:B,'Tab 53'!A20,'00 CE'!G:G)","v":0},0,"OK"]
["AA0430","Altre prestazioni sanitarie e socio-sanitarie",0,0,0,1056766.56,3518686.45,1250329.53,5825782.54,null,{"$f":"SUMIF('00 CE'!B:B,'Tab 53'!A21,'00 CE'!G:G)","v":5825782.54},0,"OK"]
[]
[null," RICAVI DA MOBILITA' SANITARIA EXTRAREGIONALE (B)",{"$f":"SUM(C24:C39)","v":0},0,0,0,0,0,{"$f":"I24+I25+I27+I28+I29+I30+I31+I32+I33+I35+I39+I36+I37+I38","v":26599996.27}]
["AA0460","Prestazioni di ricovero",null,null,null,null,null,null,{"$f":"SUMIF('00 CE'!B:B,'Tab 53'!A24,'00 CE'!G:G)","v":11878307.279999999}]
["AA0470","Prestazioni di specialistica ambulatoriale",null,null,null,null,null,null,{"$f":"SUMIF('00 CE'!B:B,'Tab 53'!A25,'00 CE'!G:G)","v":2030527.06}]
["AA0471","Prestazioni pronto soccorso non seguite da ricovero",null,null,null,null,null,null,{"$f":"SUMIF('00 CE'!B:B,'Tab 53'!A26,'00 CE'!G:G)","v":0}]
["AA0480","Prestazioni di psichiatria residenziale e semiresidenziale",null,null,null,null,null,null,{"$f":"SUMIF('00 CE'!B:B,'Tab 53'!A27,'00 CE'!G:G)","v":0}]
["AA0490","Prestazioni di File F",null,null,null,null,null,null,{"$f":"SUMIF('00 CE'!B:B,'Tab 53'!A28,'00 CE'!G:G)","v":1915086.72}]
["AA0500","Prestazioni servizi MMG, PLS, Contin. assistenziale",null,null,null,null,null,null,{"$f":"SUMIF('00 CE'!B:B,'Tab 53'!A29,'00 CE'!G:G)","v":19433.84}]
["AA0510","Prestazioni servizi farmaceutica convenzionata",null,null,null,null,null,null,{"$f":"SUMIF('00 CE'!B:B,'Tab 53'!A30,'00 CE'!G:G)","v":1142996.67}]
["AA0520","Prestazioni termali",null,null,null,null,null,null,{"$f":"SUMIF('00 CE'!B:B,'Tab 53'!A31,'00 CE'!G:G)","v":237345.51}]
["AA0530","Prestazioni trasporto ambulanze ed elisoccorso",null,null,null,null,null,null,{"$f":"SUMIF('00 CE'!B:B,'Tab 53'!A32,'00 CE'!G:G)","v":309535.11}]
["AA0541","Prestazioni assistenza integrativa da pubblico (extraregione)",null,null,null,null,null,null,{"$f":"SUMIF('00 CE'!B:B,'Tab 53'!A33,'00 CE'!G:G)","v":0}]
["AA0542","Prestazioni assistenza protesica da pubblico (extraregione)",null,null,null,null,null,null,{"$f":"SUMIF('00 CE'!B:B,'Tab 53'!A34,'00 CE'!G:G)","v":0}]
["AA0550","Ricavi per cessione di emocomponenti e cellule staminali",null,null,null,null,null,null,{"$f":"SUMIF('00 CE'!B:B,'Tab 53'!A35,'00 CE'!G:G)","v":45357.06}]
["AA0560","Ricavi per differenziale tariffe TUC",null,null,null,null,null,null,{"$f":"SUMIF('00 CE'!B:B,'Tab 53'!A36,'00 CE'!G:G)","v":0}]
["AA0620","Prestazioni di ricovero da privati Extraregione in compensazione (mobilità attiva)",null,null,null,null,null,null,{"$f":"SUMIF('00 CE'!B:B,'Tab 53'!A37,'00 CE'!G:G)","v":8426930.4800000004}]
["AA0630","Prestazioni ambulatoriali da privati Extraregione in compensazione (mobilità attiva)",null,null,null,null,null,null,{"$f":"SUMIF('00 CE'!B:B,'Tab 53'!A38,'00 CE'!G:G)","v":200940.4}]
["AA0600","Altre prestazioni sanitarie a rilevanza sanitaria - Mobilità attiva Internazionale",null,null,null,null,null,null,{"$f":"SUMIF('00 CE'!B:B,'Tab 53'!A39,'00 CE'!G:G)","v":393536.14}]
[]
[null," TOTALE RICAVI DA MOBILITA' (A+B)",{"$f":"C6+C23","v":10536502.67},32311099.949999996,11343340.32,5024822.01,29230264.530000005,14030202.839999998,129076228.58999999]
[]
[null," RICAVI PER PRESTAZIONI OGGETTO DI FATTURAZIONE DIRETTA\n INFRAREGIONALE (C)",48630.48,134319.37,16943.96,0,0,0,{"$f":"C43+D43+E43+F43+G43+H43","v":199893.81}]
[]
["AA0570"," RICAVI PER PREST. OGGETTO DI FATTUR. DIRETTA EXTRAREGIONALE (D)",null,null,null,null,null,null,7192]
[]
[null," TOTALE RICAVI PER PREST. OGGETTO DI FATTURAZ. DIRETTA (C+D)",{"$f":"C43+C45","v":48630.48},134319.37,16943.96,0,0,0,{"$f":"I43+I45","v":207085.81}]
[]
[null," TOTALE RICAVI AZIENDE REGIONE (A+C)",{"$f":"C6+C43","v":10585133.15},32445419.319999997,11360284.280000001,5024822.01,29230264.530000005,14030202.839999998,102676126.13]
[null," TOTALE RICAVI AZIENDE EXTRA REGIONE (B+D)",null,null,null,null,null,null,{"$f":"I23+I45","v":26607188.27}]
[null," TOTALE RICAVI AZIENDE SANITARIE PUBBLICHE (A+B+C+D)",{"$f":"C41+C43+C45","v":10585133.15},32445419.319999997,11360284.280000001,5024822.01,29230264.530000005,14030202.839999998,{"$f":"I49+I50","v":129283314.39999999}]
[]
[]
["Nella riga \"Ricavi per prestazioni oggetto di fatturazione diretta infraregionale\" sono stati inseriti i ricavi conseguiti dall'Azienda nei confronti delle AASSLL della Regione per prestazioni fuori mobilità, oggetto di fatturazione diretta. Tali valori sono stati riconciliati con le AASSLL della Regione alla data del 31/12/2019."]
[]
[]
[]
["TABELLA DI RACCORDO - DETTAGLIO PER PRESTAZIONI SANITARIE IN MOBILITA'"]
["Voce CE","Descrizione","Importo","Voce CE D.Lgs. 118/2011 "]
["AA0340","Ricavi da mobilità sanitaria infraregionale",102476232.45,"A4 a)","a)"]
["AA0450","Ricavi da mobilità sanitaria extraregionale",{"$f":"17979317-C62","v":17972125},null,"a)"]
["AA0450","Ricavi da mobilità sanitaria extraregionale (oggetto di fatturazione diretta)",7192]
["AA0610","Ricavi per prestazioni sanitarie e sociosanitarie a rilevanza sanitaria erogate da privati v/residenti extraregione in compensazione ",8627871.4499999993,null,"a)"]
["AA0670","Ricavi per prestazioni sanitarie erogate in regime intramoenia",3928724,"A4 b)"]
["AA0440","Ricavi per prestazioni sanitarie e sociosanitarie a rilevanza sanitaria erogate ad altri soggetti pubblici",56370,"A4 c)"]
["AA0660","Ricavi per prestazioni sanitarie e sociosanitarie a rilevanza sanitaria erogate a privati",3619506]
["Totale ricavi per prestazioni sanitarie e sociosanitarie a rilevanza sanitaria",null,{"$f":"SUM(C60:C66)","v":136688020.90000001},"A 4"]
[]
["Somma a","Totale ricavi da mobilità sanitaria",{"$f":"C60+C61+C63","v":129076228.90000001},"in accordo con Tabella 53"]
[]
[]
["I ricavi di mobilità sono aumentati, rispetto al precedente esercizio, di circa 6.282€/000. Detto incremento è stato determinato per €/000 2.966 dall'aumento dei ricavi per mobilità sanitaria infraregionale e per €/000 3.313 dall'aumento dei ricavi da mobilità sanitaria extraregionale. Nello specifico, la mobilità sanitaria infraregionale è aumentata nel corso del 2019 per effetto sia dell'incremento della mobilità sanitaria da pubblico, in particolare nei confronti della ASL di Lanciano-Vasto-Chieti con riferimento ai ricavi per File F (€/000 1.108, sia dell'incremento della mobilità sanitaria da privato, soprattutto a seguito dell'aumento dei ricavi per prestazioni di ricovero nei confronti della ASL di  Teramo  (€/000 1.748) . L'incremento dei ricavi per mobilità sanitaria extraregionale è principalmente ascrivibile all'aumento dei ricavi per prestazioni di ricovero (per €/000 2.699), per prestazioni di servizi di assistenza Farmaceutica  Convenzionata (€/000 636) e per prestazioni di assistenza specialistica ambulatoriale (€/000 553) erogate a cittadini residenti al di fuori del territorio regionale. E' opportuno precisare che la mobilità extra regionale viene contabilizzata con due anni di ritardo rispetto all'esercizio di competenza e, come stabilisce il D. Lgs. n. 118/2011, la rilevazione contabile vine e effettuata al netto (+ o -) degli eventuali conguagli. "]

{"sheet":"Tab 53 riclassifica regionale","index":8,"n_rows":58,"n_cols":13,"rows_kept":58,"cut":false,"hidden":false,"merged":[[0,0,0,6],[2,1,2,6],[3,0,4,0],[3,1,4,1],[3,2,3,4],[3,5,3,7]]}
["18.     Proventi e ricavi diversi"]
[]
[null,"Tab. 53 – Dettaglio ricavi per prestazioni sanitarie in mobilità ( riclassifica regionale)"]
["CODICE MOD. CE","DETTAGLIO RICAVI PER PRESTAZIONI SANITARIE IN MOBILITA'","PUBBLICO",null,null,"PRIVATO",null,null,"TOTALE"]
[null,null,"Avezzano-Sulmona-L'Aquila","Lanciano-Vasto-Chieti","Teramo","Avezzano-Sulmona-L'Aquila","Lanciano-Vasto-Chieti","Teramo",null,null,"VALORE CE","Diff","Ctrl"]
[null," RICAVI DA MOBILITA' SANITARIA INFRAREGIONALE (A)",{"$f":"SUM(C7:C21)","v":10536502.67},32311099.949999996,11343340.32,5024822.01,29230264.530000005,14030202.839999998,{"$f":"I7+I8+I10+I11+I12+I13+I14+I15+I21","v":102476232.31999999},null,{"$f":"SUM(K7:K24)","v":102476232.31999999}]
["AA0350","Prestazioni di ricovero",5945759.6799999997,18789551.18,5724018.8399999999,2924659.34,20847556.030000001,10760989.27,{"$f":"SUM(C7:H7)","v":64992534.340000004},null,{"$f":"SUMIF('00 CE'!B:B,'Tab 53 riclassifica regionale'!A7,'00 CE'!G:G)","v":64992534.340000004},{"$f":"I7-K7","v":0},{"$f":"IF(L7=0,\"OK\",\" CTRL\")","v":"OK"}]
["AA0360","Prestazioni di specialistica ambulatoriale",1433596.0599999998,3564960.53,1620198.1799999997,74919.19,1405582.94,920694.67,9019951.5700000003,null,{"$f":"SUMIF('00 CE'!B:B,'Tab 53 riclassifica regionale'!A8,'00 CE'!G:G)","v":9019951.5700000003},{"$f":"I8-K8","v":0},{"$f":"IF(L8=0,\"OK\",\" CTRL\")","v":"OK"}]
["AA0361"," Prestazioni di pronto soccorso non seguite da ricovero",0,0,0,0,0,0,0,null,{"$f":"SUMIF('00 CE'!B:B,'Tab 53 riclassifica regionale'!A9,'00 CE'!G:G)","v":0},0,"OK"]
["AA0370","Prestazioni di psichiatria residenziale e semiresidenziale",0,0,0,652436.01,3004755.76,1042539.86,4699731.63,null,{"$f":"SUMIF('00 CE'!B:B,'Tab 53 riclassifica regionale'!A10,'00 CE'!G:G)","v":4699731.63},0,"OK"]
["AA0380","Prestazioni di File F",2808499.7600000007,8948254.9899999965,3536485.7499999991,0,0,0,15293240.499999996,null,{"$f":"SUMIF('00 CE'!B:B,'Tab 53 riclassifica regionale'!A11,'00 CE'!G:G)","v":15293240.5},0,"OK"]
["AA0390","Prestazioni servizi MMG, PLS, Contin. assistenziale",35100.18,76086.36,27978.12,0,0,0,139164.66,null,{"$f":"SUMIF('00 CE'!B:B,'Tab 53 riclassifica regionale'!A12,'00 CE'!G:G)","v":139164.66},0,"OK"]
["AA0400","Prestazioni servizi farmaceutica convenzionata",276981.58000000013,806194.42999999993,381783.72000000009,0,0,0,1464959.73,null,{"$f":"SUMIF('00 CE'!B:B,'Tab 53 riclassifica regionale'!A13,'00 CE'!G:G)","v":1464959.73},0,"OK"]
["AA0410","Prestazioni termali",0,0,0,316040.90999999997,453683.35,55649.51,825373.77,null,{"$f":"SUMIF('00 CE'!B:B,'Tab 53 riclassifica regionale'!A14,'00 CE'!G:G)","v":825373.77},0,"OK"]
["AA0420","Prestazioni trasporto ambulanze ed elisoccorso",36565.410000000003,126052.46,52875.71,0,0,0,215493.58,null,{"$f":"SUMIF('00 CE'!B:B,'Tab 53 riclassifica regionale'!A15,'00 CE'!G:G)","v":215493.58},0,"OK"]
["AA0421","Prestazioni assistenza integrativa",0,0,0,0,0,0,0,null,{"$f":"SUMIF('00 CE'!B:B,'Tab 53 riclassifica regionale'!A16,'00 CE'!G:G)","v":0},0,"OK"]
["AA0422","Prestazioni assistenza protesica",0,0,0,0,0,0,0,null,{"$f":"SUMIF('00 CE'!B:B,'Tab 53 riclassifica regionale'!A17,'00 CE'!G:G)","v":0},0,"OK"]
["AA0423","Prestazioni assistenza riabilitativa extraospedaliera",0,0,0,0,0,0,0,null,{"$f":"SUMIF('00 CE'!B:B,'Tab 53 riclassifica regionale'!A18,'00 CE'!G:G)","v":0},0,"OK"]
["AA0424","Ricavi per cessione di emocomponenti e cellule staminali",0,0,0,0,0,0,0,null,{"$f":"SUMIF('00 CE'!B:B,'Tab 53 riclassifica regionale'!A19,'00 CE'!G:G)","v":0},0,"OK"]
["AA0425","Prestazioni assistenza domiciliare integrata (ADI)",0,0,0,0,0,0,0,null,{"$f":"SUMIF('00 CE'!B:B,'Tab 53 riclassifica regionale'!A20,'00 CE'!G:G)","v":0},0,"OK"]
["AA0430","Altre prestazioni sanitarie e socio-sanitarie",0,0,0,1056766.56,3518686.45,1250329.53,5825782.54,null,{"$f":"SUMIF('00 CE'!B:B,'Tab 53 riclassifica regionale'!A21,'00 CE'!G:G)","v":5825782.54},0,"OK"]
[]
[null," RICAVI DA MOBILITA' SANITARIA EXTRAREGIONALE (B)",{"$f":"SUM(C24:C46)","v":0},0,0,0,0,0,{"$f":"I24+I25+I27+I28+I29+I30+I31+I32+I33+I35+I36+I40+I41","v":26206460.129999999}]
["AA0460","Prestazioni di ricovero",null,null,null,null,null,null,{"$f":"SUMIF('00 CE'!B:B,'Tab 53 riclassifica regionale'!A24,'00 CE'!G:G)","v":11878307.279999999}]
["AA0470","Prestazioni di specialistica ambulatoriale",null,null,null,null,null,null,{"$f":"SUMIF('00 CE'!B:B,'Tab 53 riclassifica regionale'!A25,'00 CE'!G:G)","v":2030527.06}]
["AA0471","Prestazioni pronto soccorso non seguite da ricovero",null,null,null,null,null,null,{"$f":"SUMIF('00 CE'!B:B,'Tab 53 riclassifica regionale'!A26,'00 CE'!G:G)","v":0}]
["AA0480","Prestazioni di psichiatria residenziale e semiresidenziale",null,null,null,null,null,null,{"$f":"SUMIF('00 CE'!B:B,'Tab 53 riclassifica regionale'!A27,'00 CE'!G:G)","v":0}]
["AA0490","Prestazioni di File F",null,null,null,null,null,null,{"$f":"SUMIF('00 CE'!B:B,'Tab 53 riclassifica regionale'!A28,'00 CE'!G:G)","v":1915086.72}]
["AA0500","Prestazioni servizi MMG, PLS, Contin. assistenziale",null,null,null,null,null,null,{"$f":"SUMIF('00 CE'!B:B,'Tab 53 riclassifica regionale'!A29,'00 CE'!G:G)","v":19433.84}]
["AA0510","Prestazioni servizi farmaceutica convenzionata",null,null,null,null,null,null,{"$f":"SUMIF('00 CE'!B:B,'Tab 53 riclassifica regionale'!A30,'00 CE'!G:G)","v":1142996.67}]
["AA0520","Prestazioni termali",null,null,null,null,null,null,{"$f":"SUMIF('00 CE'!B:B,'Tab 53 riclassifica regionale'!A31,'00 CE'!G:G)","v":237345.51}]
["AA0530","Prestazioni trasporto ambulanze ed elisoccorso",null,null,null,null,null,null,{"$f":"SUMIF('00 CE'!B:B,'Tab 53 riclassifica regionale'!A32,'00 CE'!G:G)","v":309535.11}]
["AA0541","Prestazioni assistenza integrativa da pubblico (extraregione)",null,null,null,null,null,null,{"$f":"SUMIF('00 CE'!B:B,'Tab 53 riclassifica regionale'!A33,'00 CE'!G:G)","v":0}]
["AA0542","Prestazioni assistenza protesica da pubblico (extraregione)",null,null,null,null,null,null,{"$f":"SUMIF('00 CE'!B:B,'Tab 53 riclassifica regionale'!A34,'00 CE'!G:G)","v":0}]
["AA0550","Ricavi per cessione di emocomponenti e cellule staminali",null,null,null,null,null,null,{"$f":"SUMIF('00 CE'!B:B,'Tab 53 riclassifica regionale'!A35,'00 CE'!G:G)","v":45357.06}]
["AA0560","Ricavi per differenziale tariffe TUC",null,null,null,null,null,null,{"$f":"SUMIF('00 CE'!B:B,'Tab 53 riclassifica regionale'!A36,'00 CE'!G:G)","v":0}]
["AA0561","Altre prestazioni sanitarie e sociosanitarie a rilevanza sanitaria non soggette a compensazione Extraregione",null,null,null,null,null,null,{"$f":"SUMIF('00 CE'!B:B,'Tab 53 riclassifica regionale'!A37,'00 CE'!G:G)","v":0}]
["AA0580","Altre prestazioni sanitarie e sociosanitarie a rilevanza sanitaria non soggette a compensazione Extraregione",null,null,null,null,null,null,{"$f":"SUMIF('00 CE'!B:B,'Tab 53 riclassifica regionale'!A38,'00 CE'!G:G)","v":0}]
["AA0590","Prestazioni di assistenza riabilitativa non soggette a compensazione Extraregione",null,null,null,null,null,null,{"$f":"SUMIF('00 CE'!B:B,'Tab 53 riclassifica regionale'!A39,'00 CE'!G:G)","v":7192.04}]
["AA0620","Prestazioni di ricovero da privati Extraregione in compensazione (mobilità attiva)",null,null,null,null,null,null,{"$f":"SUMIF('00 CE'!B:B,'Tab 53 riclassifica regionale'!A40,'00 CE'!G:G)","v":8426930.4800000004}]
["AA0630","Prestazioni ambulatoriali da privati Extraregione in compensazione (mobilità attiva)",null,null,null,null,null,null,{"$f":"SUMIF('00 CE'!B:B,'Tab 53 riclassifica regionale'!A41,'00 CE'!G:G)","v":200940.4}]
["AA0631"," Prestazioni  di pronto soccorso non seguite da ricovero da priv. Extraregione in compensazione  (mobilità attiva)",null,null,null,null,null,null,{"$f":"SUMIF('00 CE'!B:B,'Tab 53 riclassifica regionale'!A42,'00 CE'!G:G)","v":0}]
["AA0640"," Prestazioni di File F da priv. Extraregione in compensazione (mobilità attiva)",null,null,null,null,null,null,{"$f":"SUMIF('00 CE'!B:B,'Tab 53 riclassifica regionale'!A43,'00 CE'!G:G)","v":0}]
["AA0650"," Altre prestazioni sanitarie e sociosanitarie a rilevanza sanitaria erogate da privati v/residenti Extraregione in compensazione (mobilità attiva)",null,null,null,null,null,null,{"$f":"SUMIF('00 CE'!B:B,'Tab 53 riclassifica regionale'!A44,'00 CE'!G:G)","v":0}]
["EA0080"," Sopravvenienze attive v/terzi relative alla mobilità extraregionale",null,null,null,null,null,null,{"$f":"SUMIF('00 CE'!B:B,'Tab 53 riclassifica regionale'!A45,'00 CE'!G:G)","v":0}]
["EA0180","Insussistenze attive v/terzi relative alla mobilità extraregionale",null,null,null,null,null,null,{"$f":"SUMIF('00 CE'!B:B,'Tab 53 riclassifica regionale'!A46,'00 CE'!G:G)","v":0}]
[]
[null," TOTALE RICAVI DA MOBILITA' (A+B)",{"$f":"C6+C23","v":10536502.67},32311099.949999996,11343340.32,5024822.01,29230264.530000005,14030202.839999998,128682692.44999999]
[]
[null," RICAVI PER PRESTAZIONI OGGETTO DI FATTURAZIONE DIRETTA\n INFRAREGIONALE (C)",48630.48,134319.37,16943.96,0,0,0,{"$f":"C50+D50+E50+F50+G50+H50","v":199893.81}]
[]
["AA0570"," RICAVI PER PREST. OGGETTO DI FATTUR. DIRETTA EXTRAREGIONALE (D)",null,null,null,null,null,null,7192]
[]
[null," TOTALE RICAVI PER PREST. OGGETTO DI FATTURAZ. DIRETTA (C+D)",{"$f":"C50+C52","v":48630.48},134319.37,16943.96,0,0,0,{"$f":"I50+I52","v":207085.81}]
[]
[null," TOTALE RICAVI AZIENDE REGIONE (A+C)",{"$f":"C6+C50","v":10585133.15},32445419.319999997,11360284.280000001,5024822.01,29230264.530000005,14030202.839999998,102676126.13]
[null," TOTALE RICAVI AZIENDE EXTRA REGIONE (B+D)",null,null,null,null,null,null,{"$f":"I23+I52","v":26213652.129999999}]
[null," TOTALE RICAVI AZIENDE SANITARIE PUBBLICHE (A+B+C+D)",{"$f":"C48+C50+C52","v":10585133.15},32445419.319999997,11360284.280000001,5024822.01,29230264.530000005,14030202.839999998,{"$f":"I56+I57","v":128889778.25999999}]

{"sheet":"Tab 54","index":9,"n_rows":34,"n_cols":6,"rows_kept":34,"cut":false,"hidden":false,"merged":[[33,0,33,5],[32,0,32,5],[1,0,2,0],[1,1,2,1],[1,2,2,2],[1,3,2,3],[1,5,2,5],[1,4,2,4]]}
[null,"Tab. 54 – Dettaglio ricavi e costi per prestazioni sanitarie erogate in regime di intramoenia"]
["CODICE MOD. CE","PRESTAZIONI SANITARIE EROGATE\nIN REGIME DI INTRAMOENIA",{"$f":"\"Valore CE \" &'00 Aggregatore'!$F$2","v":"Valore CE 2019"},{"$f":"\"Valore CE \" &'00 Aggregatore'!$F$2 -1","v":"Valore CE 2018"},"Variazioni\nimporto","%"]
[]
["AA0680","Ricavi per prestazioni sanitarie intramoenia - Area ospedaliera",{"$f":"SUMIF('00 CE'!$B:$B,'Tab 54'!$A4,'00 CE'!G:G)","v":97957.71},{"$f":"SUMIF('00 CE'!$B:$B,'Tab 54'!$A4,'00 CE'!F:F)","v":80436.56},{"$f":"C4-D4","v":17521.150000000009},{"$f":"IF(AND(C4=0,D4=0),0,IF(C4=0,\"\",IF(D4=0,\"\",E4/D4)))","v":0.21782570015425834}]
["AA0690","Ricavi per prestazioni sanitarie intramoenia - Area specialistica",{"$f":"SUMIF('00 CE'!$B:$B,'Tab 54'!$A5,'00 CE'!G:G)","v":3340368},{"$f":"SUMIF('00 CE'!$B:$B,'Tab 54'!$A5,'00 CE'!F:F)","v":3326104},{"$f":"C5-D5","v":14264},{"$f":"IF(AND(C5=0,D5=0),0,IF(C5=0,\"\",IF(D5=0,\"\",E5/D5)))","v":4.288500900753554E-3}]
["AA0700","Ricavi per prestazioni sanitarie intramoenia - Area sanità pubblica",{"$f":"SUMIF('00 CE'!$B:$B,'Tab 54'!$A6,'00 CE'!G:G)","v":16412.46},{"$f":"SUMIF('00 CE'!$B:$B,'Tab 54'!$A6,'00 CE'!F:F)","v":17534.57},{"$f":"C6-D6","v":-1122.1100000000006},-6.3994155545302828E-2]
["AA0710","Ricavi per prestazioni sanitarie intramoenia - Consulenze (ex art. 55 c.1 lett. c), d) ed ex art. 57-58)",{"$f":"SUMIF('00 CE'!$B:$B,'Tab 54'!$A7,'00 CE'!G:G)","v":385532.67},{"$f":"SUMIF('00 CE'!$B:$B,'Tab 54'!$A7,'00 CE'!F:F)","v":677848.85},{"$f":"C7-D7","v":-292316.18},-0.43124094700463089]
["AA0720","Ricavi per prestazioni sanitarie intramoenia - Consulenze (ex art. 55 c.1 lett. c), d) ed ex art. 57-58) (Aziende sanitarie pubbliche della Regione)",{"$f":"SUMIF('00 CE'!$B:$B,'Tab 54'!$A8,'00 CE'!G:G)","v":0},{"$f":"SUMIF('00 CE'!$B:$B,'Tab 54'!$A8,'00 CE'!F:F)","v":0},{"$f":"C8-D8","v":0},0]
["AA0730","Ricavi per prestazioni sanitarie intramoenia - Altro",{"$f":"SUMIF('00 CE'!$B:$B,'Tab 54'!$A9,'00 CE'!G:G)","v":70557.929999999993},{"$f":"SUMIF('00 CE'!$B:$B,'Tab 54'!$A9,'00 CE'!F:F)","v":130775.39},{"$f":"C9-D9","v":-60217.460000000006},-0.46046477093281851]
["AA0740","Ricavi per prestazioni sanitarie intramoenia - Altro (Aziende sanitarie pubbliche della Regione)",{"$f":"SUMIF('00 CE'!$B:$B,'Tab 54'!$A10,'00 CE'!G:G)","v":17895.3},{"$f":"SUMIF('00 CE'!$B:$B,'Tab 54'!$A10,'00 CE'!F:F)","v":5779.7},{"$f":"C10-D10","v":12115.599999999999},2.0962333685139365]
["AA0670","TOTALE RICAVI INTRAMOENIA",{"$f":"SUM(C4:C10)","v":3928724.07},{"$f":"SUM(D4:D10)","v":4238479.07},-309755.00000000047,-7.3081639636361453E-2]
["BA1210","Compartecipazione al personale per att. libero professionale intramoenia - Area ospedaliera",{"$f":"SUMIF('00 CE'!$B:$B,'Tab 54'!$A12,'00 CE'!G:G)","v":60058.96},{"$f":"SUMIF('00 CE'!$B:$B,'Tab 54'!$A12,'00 CE'!F:F)","v":54218.100000000006},5840.8599999999933,0.10772896873922164]
["BA1220","Compartecipazione al personale per att. libero professionale intramoenia- Area specialistica",{"$f":"SUMIF('00 CE'!$B:$B,'Tab 54'!$A13,'00 CE'!G:G)","v":2527432.63},{"$f":"SUMIF('00 CE'!$B:$B,'Tab 54'!$A13,'00 CE'!F:F)","v":2563747.4700000002},-36314.840000000317,-1.4164749229377226E-2]
["BA1230","Compartecipazione al personale per att. libero professionale intramoenia - Area sanità pubblica",{"$f":"SUMIF('00 CE'!$B:$B,'Tab 54'!$A14,'00 CE'!G:G)","v":14345.3},{"$f":"SUMIF('00 CE'!$B:$B,'Tab 54'!$A14,'00 CE'!F:F)","v":15233.61},-888.31000000000131,-5.8312507672180214E-2]
["BA1240","Compartecipazione al personale per att. libero professionale intramoenia - Consulenze (ex art. 55 c.1 lett. c), d) ed ex Art. 57-58)",{"$f":"SUMIF('00 CE'!$B:$B,'Tab 54'!$A15,'00 CE'!G:G)","v":335908.3},{"$f":"SUMIF('00 CE'!$B:$B,'Tab 54'!$A15,'00 CE'!F:F)","v":579327.30000000005},-243419.00000000006,-0.42017526189426951]
["BA1250","Compartecipazione al personale per att. libero professionale intramoenia- Consulenze (ex art. 55 c.1 lett. c), d) ed ex Art. 57-58) (Aziende sanitarie pubbliche della Regione)",{"$f":"SUMIF('00 CE'!$B:$B,'Tab 54'!$A16,'00 CE'!G:G)","v":0},{"$f":"SUMIF('00 CE'!$B:$B,'Tab 54'!$A16,'00 CE'!F:F)","v":0},0,0]
["BA1260","Compartecipazione al personale per att. libero professionale intramoenia - Altro",{"$f":"SUMIF('00 CE'!$B:$B,'Tab 54'!$A17,'00 CE'!G:G)","v":53017.42},{"$f":"SUMIF('00 CE'!$B:$B,'Tab 54'!$A17,'00 CE'!F:F)","v":108504.84},-55487.42,-0.51138198074850849]
["BA1270","Compartecipazione al personale per att. libero  professionale intramoenia- Altro (Aziende sanitarie pubbliche della Regione)",{"$f":"SUMIF('00 CE'!$B:$B,'Tab 54'!$A18,'00 CE'!G:G)","v":0},{"$f":"SUMIF('00 CE'!$B:$B,'Tab 54'!$A18,'00 CE'!F:F)","v":0},0,0]
["BA1200","TOTALE QUOTE RETROCESSE AL PERSONALE (ESCLUSO IRAP)",{"$f":"SUM(C12:C18)","v":2990762.6099999994},{"$f":"SUM(D12:D18)","v":3321031.3200000003},-330268.71000000037,-9.9447634838927185E-2]
[null,"Indennità di esclusività medica per attività di libera professione",0,0,0,0]
["YA0040","IRAP relativa ad attività di libera professione (intramoenia)",408949.44999999995,418750.77,-9801.3200000000652,{"$f":"IF(C21=0,0,ROUND(E21/C21,4))","v":-2.4E-2}]
[null,"Costi diretti aziendali",{"$f":"37177.5+292387.2","v":329564.7},303694.96000000008,25869.739999999932,7.85E-2]
[null,"Costi generali aziendali",30238.65,28044.300000000003,2194.3499999999985,7.2599999999999998E-2]
["**","Fondo di perequazione",0,0,0,0]
[null,"TOTALE ALTRI COSTI INTRAMOENIA",{"$f":"SUM(C20:C24)","v":768752.79999999993},{"$f":"SUM(D20:D24)","v":750490.03000000014},18262.769999999786,2.3800000000000002E-2]
[null,"RICAVI - COSTI INTRAMOENIA",{"$f":"C11-(C19+C25)","v":169208.66000000061},{"$f":"D11-(D19+D25)","v":166957.71999999974},2250.9400000008754,1.3299999999999999E-2]
[]
[]
[null,"Voce CE YA0040 - Conto \"1101030102 - IRAP libera professione relativa ad attività istituzionale (ex. art. 55 c. 2 CCNL)\"",168163.43,157583.91]
[null,"TOTALE CONTABILITA' SEPARATA",{"$f":"C27+C29","v":168163.43},{"$f":"D27+D29","v":157583.91}]
[null,"DI CUI 5% BALDUZZI",149063,150170]
[]
["* L'importo evidenziato si riferisce al conto 1101030102 \"IRAP libera professione relativa ad attività istituzionale (ex. art. 55 c. 2 CCNL) ininfluente ai fini della rilevazione della Contabilità Separata"]
["** Il valore del Fondo di Perequazione è contabilizzato nelle voci di CE relative alla rilevazione dei costi (\"TOTALE QUOTE RETROCESSE AL PERSONALE (ESCLUSO IRAP)\"- Tab 54"]

{"sheet":"Tab 55","index":10,"n_rows":29,"n_cols":7,"rows_kept":29,"cut":false,"hidden":false,"merged":[[26,0,26,1],[27,0,27,1],[27,2,27,3],[27,4,27,7],[28,0,28,1],[28,4,28,7]]}
[null,"Tab. 55 – Dettaglio rimborsi da aziende sanitarie pubbliche della Regione per acquisti di beni "]
[null,"DETTAGLIO RIMBORSI DA \nAZIENDE SANITARIE PUBBLICHE DELLA REGIONE\nPER ACQUISTI DI BENI ","Azienda …","Azienda …","Azienda …","Azienda …","TOTALE"]
[null,"Prodotti farmaceutici ed emoderivati:"]
[null,"Medicinali con AIC, ad eccezione di vaccini ed emoderivati di produzione regionale"]
[null,"Medicinali senza AIC"]
[null,"Emoderivati di produzione regionale"]
[null,"Sangue ed emocomponenti"]
[null,"Dispositivi medici:"]
[null,"Dispositivi medici"]
[null,"Dispositivi medici impiantabili attivi"]
[null,"Dispositivi medico diagnostici in vitro (IVD)"]
[null,"Prodotti dietetici"]
[null,"Materiali per la profilassi (vaccini)"]
[null,"Prodotti chimici"]
[null,"Materiali e prodotti per uso veterinario"]
[null,"Altri beni e prodotti sanitari"]
[null,"Prodotti alimentari"]
[null,"Materiali di guardaroba, di pulizia e di convivenza in genere"]
[null,"Combustibili, carburanti e lubrificanti"]
[null,"Supporti informatici e cancelleria"]
[null,"Materiale per la manutenzione"]
[null,"Altri beni e prodotti non sanitari"]
[null,"TOTALE"]
[]
[]
[]
["Altre informazioni relative a proventi e ricavi diversi"]
["Informazione",null,"Caso presente in azienda?",null,"Se sì, illustrare"]
["CT01. Sono state rilevate significative variazioni rispetto all'esercizio precedente?",null,null,"NO"]

{"sheet":"Tab 56-57","index":11,"n_rows":55,"n_cols":8,"rows_kept":55,"cut":false,"hidden":false,"merged":[[16,1,16,5],[0,0,0,1],[2,1,2,5],[3,1,4,1],[3,2,3,3],[3,4,4,4],[3,5,4,5],[3,0,4,0]]}
["19.     Acquisti di beni"]
[]
[null,"Tab. 56 – Dettaglio acquisti di beni sanitari per tipologia di distribuzione "]
["CODICE MOD. CE","DETTAGLIO ACQUISTI DI BENI SANITARI\nPER TIPOLOGIA DI DISTRIBUZIONE","Distribuzione",null,"Consumi Ospedalieri","TOTALE"]
[null,null,"Diretta","Per conto"]
["BA0030","Prodotti farmaceutici ed emoderivati:",{"$f":"C7+C8+C9+C10+C11+C12","v":45629803},11254953,29456265,{"$f":"F7+F8+F9+F10+F11+F12","v":86341021}]
["BA0040","Medicinali con AIC, ad eccezione di vaccini ed emoderivati di produzione regionale",45629803,11254953,{"$f":"28776601-476879","v":28299722},{"$f":"C7+D7+E7","v":85184478}]
["BA0050","Medicinali senza AIC",0,0,679664,{"$f":"C8+D8+E8","v":679664}]
["BA0051","B.1.A.1.3) Ossigeno e altri gas medicali",0,0,476879,476879]
["BA0061","B.1.A.1.4.1) Emoderivati di produzione regionale da pubblico (Aziende sanitarie pubbliche della Regione) - Mobilità intraregionale",0,0,0,0]
["BA0062","B.1.A.1.4.2) Emoderivati di produzione regionale da pubblico (Aziende sanitarie pubbliche della Regione) - Mobilità extraregionale",0,0,0,{"$f":"C11+D11+E11","v":0}]
["BA0063","B.1.A.1.4.3) Emoderivati di produzione regionale da altri soggetti",0,0,0,0]
["BA0250","Prodotti dietetici",382782.66489999997,0,77182.085099999997,459964.75]
[null,"TOTALE",{"$f":"C6+C13","v":46012585.664899997},{"$f":"D6+D13","v":11254953},29533447.085099999,86800985.75]
[]
[]
[null,"Tab. 57 – Dettaglio acquisti di beni da aziende sanitarie pubbliche "]
["CODICE MOD. CE","DETTAGLIO ACQUISTI DI BENI DA \nAZIENDE SANITARIE PUBBLICHE DELLA REGIONE","Azienda …","Azienda …","Azienda …","Azienda ","TOTALE","TOTALE"]
["BA0030","Prodotti farmaceutici ed emoderivati:"]
["BA0040","Medicinali con AIC, ad eccezione di vaccini ed emoderivati di produzione regionale"]
["BA0050","Medicinali senza AIC"]
["BA0051","B.1.A.1.3) Ossigeno e altri gas medicali"]
["BA0060","Emoderivati di produzione regionale"]
["BA0061","B.1.A.1.4.1) Emoderivati di produzione regionale da pubblico (Aziende sanitarie pubbliche della Regione) - Mobilità intraregionale"]
["BA0062","B.1.A.1.4.2) Emoderivati di produzione regionale da pubblico (Aziende sanitarie pubbliche della Regione) - Mobilità extraregionale"]
["BA0063","B.1.A.1.4.3) Emoderivati di produzione regionale da altri soggetti"]
["BA0070","Sangue ed emocomponenti"]
["BA0080","da pubblico (Aziende sanitarie pubbliche della Regione) – Mobilità intraregionale"]
["BA0090","da pubblico (Aziende sanitarie pubbliche extra Regione) – Mobilità extraregionale"]
["BA0100","Da altri soggetti"]
["BA0210","Dispositivi medici:"]
["BA0220","Dispositivi medici"]
["BA0230","Dispositivi medici impiantabili attivi"]
["BA0240","Dispositivi medico diagnostici in vitro (IVD)"]
["BA0250","Prodotti dietetici"]
["BA0260","Materiali per la profilassi (vaccini)"]
["BA0270","Prodotti chimici"]
["BA0280","Materiali e prodotti per uso veterinario"]
["BA0290","Altri beni e prodotti sanitari"]
["BA0300","Beni e prodotti sanitari da Aziende sanitarie pubbliche della Regione"]
["BA0301","B.1.A.9.1)  Prodotti farmaceutici ed emoderivati"]
["BA0303","B.1.A.9.3) Dispositivi medici"]
["BA0304","B.1.A.9.4)  Prodotti dietetici"]
["BA0305","B.1.A.9.5)  Materiali per la profilassi (vaccini)"]
["BA0306","B.1.A.9.6)  Prodotti chimici"]
["BA0307","B.1.A.9.7)  Materiali e prodotti per uso veterinario"]
["BA0308","B.1.A.9.8)  Altri beni e prodotti sanitari"]
["BA0320","Prodotti alimentari"]
["BA0330","Materiali di guardaroba, di pulizia e di convivenza in genere"]
["BA0340","Combustibili, carburanti e lubrificanti"]
["BA0350","Supporti informatici e cancelleria"]
["BA0360","Materiale per la manutenzione"]
["BA0370","Altri beni e prodotti non sanitari"]
["BA0380","Beni e prodotti non sanitari da Aziende sanitarie pubbliche della Regione"]
["BA0010","TOTALE",null,null,null,null,null,{"$f":"H19+H27+H31+H35+H36+H37+H38+H39+H40+H49+H48+H50+H51+H52+H53","v":0}]

{"sheet":"AB01-02-03","index":12,"n_rows":18,"n_cols":5,"rows_kept":18,"cut":false,"hidden":false,"merged":[[17,0,17,6],[1,1,1,6],[5,4,5,6],[6,4,6,6],[4,4,4,6],[6,0,6,1],[4,0,4,1],[4,2,4,3],[5,0,5,1],[12,0,12,6],[14,0,14,6],[13,0,13,6],[9,0,10,6],[16,0,16,6],[15,0,15,6],[11,0,11,6]]}
["AB01 - Acquisti di beni"]
["AB01 ","Ciascuna tipologia di bene, compreso nelle voci relative agli acquisti di beni sanitari e non sanitari, è monitorata attraverso il sistema gestionale del magazzino, che rileva ogni tipologia di movimento, in entrata e in uscita."]
[]
["Altre informazioni relative agli acquisti di beni"]
["Informazione",null,"Caso presente in azienda?",null,"Se SI, illustrare"]
["AB02. Sono stati rilevati costi per acquisto di beni da altre Aziende Sanitarie della Regione? Se sì, di quali tipologie di beni si tratta?",null,null,"NO"]
["AB03. Sono state rilevate significative variazioni rispetto all'esercizio precedente?",null,null,"SI","Si veda commento sottostante."]
[]
[]
["Il costo per acquisti di beni ha subito, rispetto all'esercizio 2018,  un incremento del 4,26 %  ( circa 5,6 €/mln). Tale variazione è dovuta sostanzialmente all'incremento delle seguenti voci: "]
[]
["- i costi di acquisto di prodotti farmaceutici ed emoderivati, in particolare dei medicinali con AIC (+ €/mln 3); "]
["- i costi di acquisto di beni sanitari  (+ €/mln 2,6), con particolare riferimento ai Dispositivi Medici (+2,4)"]
["Con riferimento all'incremento del costo per l'acquisto dei farmaci, di circa €/mln 3,52 , esso è stato determinato sia dall'immissione in commercio di nuovi farmaci, sia dall'estensione delle indicazioni terapeutiche dei farmaci esistenti. "]
["In particolare tra gennaio - dicembre  2019 sono stati inseriti in Prontuario Ospedaliero nuovi farmaci ad alto costo Tra i farmaci di nuova introduzione e a maggiore impatto di spesa si segnalano  il \"ZINPLAPLAVA, il TIORFIX, lo XELIANZ, il KEVZARA, il PREVIMIS, il NINLARO  ed altri , il cui utilizzo ha  generato un incremento di  spesa di  + €/mln 3."]
["Per quanto riguarda, invece, le estensioni delle indicazioni terapeutiche, si evidenzia che tale fenomeno è particolarmente presente nell'area ematologica. A tal proposito, presso la ASL di Pescara opera l'unico Dipartimento di Ematologia regionale, su cui, a seguito del depotenziamento di alcune realtà periferiche, confluiscono molti pazienti che venivano precedentemente curati negli altri punti della rete regionale. Nel campo ematologico molti farmaci già in uso nel 2019 hanno avuto recentemente una estensione delle indicazioni da parte di AIFA. "]
["L'aumento della spesa è stato anche determinato dalla progressiva introduzione di nuove terapie, specialmente in campo oncologico, che prevedono l'utilizzo di farmaci già in uso, ma in associazione tra loro."]
["Infine, all'incremento della spesa farmaceutica ha contribuito anche  l' entrata a regime della DPC , avviata nel mese di  Agosto 2018. Il servizio farmaceutico ospedaliero ha stimato che nel periodo gennaio - dicembre 2019 la spesa per farmaci DPC  risulta pari a €/mln 11,2, di cui €/ mln 2 con precedente regime convenzionata. "]

{"sheet":"Tab-57 bis","index":13,"n_rows":83,"n_cols":11,"rows_kept":83,"cut":false,"hidden":false,"merged":[[4,7,5,7],[4,8,4,10],[37,0,37,5],[76,0,76,5],[77,0,77,5],[79,2,79,5],[80,2,80,5],[81,2,81,5],[82,2,82,5],[4,1,4,5]]}
[]
[]
[null,null,null,null,null,null,null,null,null,null,"Tab. 57-bis"]
[]
[null,"Farmaci",null,null,null,null,"Costo CE","Prezzi medi di acquisto  Consuntivo 2019","Importo payback/note di credito ricevute direttamente dalla ASL (prezzo/volume, capping ed altri accordi) CE Consuntivo 2019"]
["Fondo Inn.","AIC","Denominazione e Confezione","Principio attivo","Data  Efficacia","Data Scadenza","CE Consuntivo 2019",null,"Riferito ad acquisti 2019","Riferito ad acquisti 2018","Riferito ad acquisti anni precedenti"]
["I","045676133","DUPIXENT*1PEN 200MG 1,14ML","dupilumab","2018-09-08","2021-09-07",0,0,0,0,0]
["I","045676095","DUPIXENT*1SIR 200MG 1,14ML","dupilumab","2018-09-08","2021-09-07",0,0,0,0,0]
["I","045676018","DUPIXENT*1SIR 300MG 2ML","dupilumab","2018-09-08","2021-09-07",0,0,0,0,0]
["I","045676057","DUPIXENT*1SIR 300MG 2ML","dupilumab","2018-09-08","2021-09-07",0,0,0,0,0]
["I","045676145","DUPIXENT*2PEN 200MG 1,14ML","dupilumab","2018-09-08","2021-09-07",0,0,0,0,0]
["I","045676107","DUPIXENT*2SIR 200MG 1,14ML","dupilumab","2018-09-08","2021-09-07",0,0,0,0,0]
["I","045676020","DUPIXENT*2SIR 300MG 2ML","dupilumab","2018-09-08","2021-09-07",0,0,0,0,0]
["I","045676069","DUPIXENT*2SIR 300MG 2ML","dupilumab","2018-09-08","2021-09-07",125382.39999999999,457.6,0,0,0]
["I","045676158","DUPIXENT*3PEN 200MG 1,14ML","dupilumab","2018-09-08","2021-09-07",0,0,0,0,0]
["I","045676119","DUPIXENT*3SIR 200MG 1,14ML","dupilumab","2018-09-08","2021-09-07",0,0,0,0,0]
["I","045676032","DUPIXENT*3SIR 300MG 2ML","dupilumab","2018-09-08","2021-09-07",0,0,0,0,0]
["I","045676071","DUPIXENT*3SIR 300MG 2ML","dupilumab","2018-09-08","2021-09-07",0,0,0,0,0]
["I","045676160","DUPIXENT*6PEN 200MG 1,14ML","dupilumab","2018-09-08","2021-09-07",0,0,0,0,0]
["I","045676121","DUPIXENT*6SIR 200MG 1,14ML","dupilumab","2018-09-08","2021-09-07",0,0,0,0,0]
["I","045676044","DUPIXENT*6SIR 300MG 2ML","dupilumab","2018-09-08","2021-09-07",0,0,0,0,0]
["I","045676083","DUPIXENT*6SIR 300MG 2ML","dupilumab","2018-09-08","2021-09-07",0,0,0,0,0]
["I","044928012","EPCLUSA 1FL 28CPR 400+100MG","sofosbuvir/velpatasvir","2017-04-27","2020-04-26",1906667.04,654.76,1651669.4400000004,0,0]
["I","046130023","HEMLIBRA*SC 150MG/ML 0,4ML","emicizumab","2018-12-07","2021-12-06",0,0,0,0,0]
["I","046130035","HEMLIBRA*SC 150MG/ML 0,7ML","emicizumab","2018-12-07","2021-12-06",0,0,0,0,0]
["I","046130047","HEMLIBRA*SC 150MG/ML 1ML","emicizumab","2018-12-07","2021-12-06",0,0,0,0,0]
["I","046130011","HEMLIBRA*SC 30MG/ML 1ML","emicizumab","2018-12-07","2021-12-06",0,0,0,0,0]
["I","045445018","MAVIRET*84CPR RIV 100MG+40MG","glecaprevir/pibrentasvir","2017-09-28","2020-04-26",498846.04,39.86,46454.21,0,0]
["I","045383015","OXERVATE*COLL 7FL 20MCG/ML 1ML","cenegermin","2018-01-24","2021-01-23",0,0,0,0,0]
["I","045890011","PREVYMIS*28CPR RIV 240MG","letermovir","2018-09-18","2021-09-17",176011.33,146.19,0,0,0]
["I","045890023","PREVYMIS*28CPR RIV 480MG","letermovir","2018-09-18","2021-09-17",0,0,0,0,0]
["I","045890035","PREVYMIS*INFUS 1FL 240MG 12ML","letermovir","2018-09-18","2021-09-17",0,0,0,0,0]
["I","045890047","PREVYMIS*INFUS 1FL 480MG 24ML","letermovir","2018-09-18","2021-09-17",0,0,0,0,0]
["I","045426018","SPINRAZA*1FL 12MG 5ML 2,4MG/ML","nusinersen","2017-09-28","2020-09-27",304920,50820,0,0,0]
["I","044880019","STRIMVELIS EV 1-10MILIONI CELL","cellule autologhe CD34+","2016-08-16","2019-08-15",0,0,0,0,0]
["I","045494010","VOSEVI*28CPR 400+100+100MG FL","sofosbuvir/velpatasvir/voxilaprevir","2018-04-19","2020-04-26",125885.69,642.27,99705.69,0,0]
["I","044929014","ZEPATIER 28CPR RIV 50MG+100MG","elbasvir/grazoprevir","2017-02-04","2020-02-03",264000.01,78.569999999999993,2933.34,0,0]
["FONDO INNOVATIVI NON ONCOLOGICI",null,null,null,null,null,{"$f":"SUM(G7:G37)","v":3401712.51},null,{"$f":"SUM(I7:I37)","v":1800762.6800000004},{"$f":"SUM(J7:J37)","v":0},0]
["IO","045267010","ALECENSA*224CPS 150MG","alectinib","2018-08-01","2020-01-31",209001.66,21.7,0,0,0]
["IO","045267022","ALECENSA*240CPS 150MG FL","alectinib","2018-08-01","2021-07-31",0,0,0,0,0]
["IO","044885022","DARZALEX*EV 1FL 20ML 20MG/ML","daratumumab","2018-04-19","2019-04-18",422711.98,1870.41,180177.86000000002,0,0]
["IO","044885010","DARZALEX*EV 1FL 5ML 20MG/ML","daratumumab","2018-04-19","2019-04-18",70607.460000000006,467.6,24557.550000000003,0,0]
["IO","044885034","DARZALEX*EV 6+5FL 20MG/ML","daratumumab","2018-04-19","2021-04-18",0,0,0,0,0]
["IO","043693023","IMBRUVICA*FL 120CPS 140MG","ibrutinib","2016-01-05","2019-01-04",0,0,0,0,0]
["IO","043693011","IMBRUVICA*FL 90CPS 140MG","ibrutinib","2016-01-05","2019-01-04",0,0,0,0,0]
["IO","047089014","IMFINZI*EV 1FL 10ML 50MG/ML","durvalumab","2019-09-07","2022-09-06",0,0,0,0,0]
["IO","047089026","IMFINZI*EV 1FL 2,4ML 50MG/ML","durvalumab","2019-09-07","2022-09-06",0,0,0,0,0]
["IO","044386023","KEYTRUDA*1FL 4ML 25MG/ML                ","pembrolizumab","2016-05-11","24/06/2020",1551394.46,2679.44,0,0,0]
["IO","044386011","KEYTRUDA*1FL POLV EV 50MG/ML","pembrolizumab","2016-05-11","24/06/2020",0,0,0,0,0]
["IO","046996017","KYMRIAH*EV 1-3 SACCHE","tisagenelecleucel","2019-08-13","2020-08-12",0,0,0,0,0]
["IO","045677010","LUTATHERA*1FL 370MBQ/ML20,5-25","Lutezio-177 lu-oxodotreotide","30/03/2019","29/03/2022",0,0,0,0,0]
["IO","043524026","MEKINIST*30CPR RIV 0,5MG FL","trametinib","2019-12-17","2022-12-16",0,0,0,0,0]
["IO","043524040","MEKINIST*30CPR RIV 1MG FL","trametinib","2019-12-17","2022-12-16",0,0,0,0,0]
["IO","043524065","MEKINIST*30CPR RIV 2MG FL","trametinib","2019-12-17","2022-12-16",1929.38,64.31,0,0,0]
["IO","043524014","MEKINIST*7CPR RIV 0,5MG FL","trametinib","2019-12-17","2022-12-16",0,0,0,0,0]
["IO","043524038","MEKINIST*7CPR RIV 1MG FL","trametinib","2019-12-17","2022-12-16",0,0,0,0,0]
["IO","043524053","MEKINIST*7CPR RIV 2MG FL","trametinib","2019-12-17","2022-12-16",0,0,0,0,0]
["IO","044291021","OPDIVO*INFUS 1F 10ML 10MG/ML","nivolumab","2016-03-25","2019-03-24",299376,1108.8,0,0,0]
["IO","044291019","OPDIVO*INFUS 1F 4ML 10MG/ML","nivolumab","2016-03-25","2019-03-24",44385,443.85,0,0,0]
["IO","044291033","OPDIVO*INFUS 1FL 24ML 10MG/ML","nivolumab","2016-03-25","2022-12-17",0,0,0,0,0]
["IO","045427010","QARZIBA*1FL 4,5ML 4,5MG/ML","dinutuximab beta","2018-08-01","2021-07-31",0,0,0,0,0]
["IO","045612013","RYDAPT*112CPS MOLLI 25MG","midostaurina","2018-08-17","2021-08-16",89855.64,89.14,0,0,0]
["IO","045612025","RYDAPT*56CPS MOLLI 25MG","midostaurina","2018-08-17","2021-08-16",0,0,0,0,0]
["IO","042923021","TAFINLAR*120CPS 50MG FL","dabrafenib","2019-12-17","2022-12-16",0,0,0,0,0]
["IO","042923045","TAFINLAR*120CPS 75MG FL","dabrafenib","2019-12-17","2022-12-16",3170.54,26.42,0,0,0]
["IO","042923019","TAFINLAR*28CPS 50MG FL","dabrafenib","2019-12-17","2022-12-16",0,0,0,0,0]
["IO","042923033","TAFINLAR*28CPS 75MG FL","dabrafenib","2019-12-17","2022-12-16",0,0,0,0,0]
["IO","044729034","TAGRISSO*28CPR RIV 40MG","osimertinib","2019-11-30","2021-05-29",0,0,0,0,0]
["IO","044729046","TAGRISSO*28CPR RIV 80MG","osimertinib","2019-11-30","2021-05-29",24019.84,142.97999999999999,0,0,0]
["IO","044729010","TAGRISSO*30CPR RIV 40MG","osimertinib","2019-11-30","2021-05-29",0,0,0,0,0]
["IO","044729022","TAGRISSO*30CPR RIV 80MG","osimertinib","2019-11-30","2021-05-29",0,0,0,0,0]
["IO","045590015","TECENTRIQ*INFUS 60MG/ML 20ML","atezolizumab","2018-07-15","2019-03-24",28251.72,3139.08,0,0,0]
["IO","046965012","VYXEOS*EV 44MG+100MG 5ML 1FL","citarabina e daunorubicina","2019-06-19","2022-06-18",54968.15,3435.51,0,0,0]
["IO","046965024","VYXEOS*EV 44MG+100MG 5ML 2FL","citarabina e daunorubicina","2019-06-19","2022-06-18",0,0,0,0,0]
["IO","046965036","VYXEOS*EV 44MG+100MG 5ML 5FL","citarabina e daunorubicina","2019-06-19","2022-06-18",0,0,0,0,0]
["IO","046995015","YESCARTA*EV 1 SACCA","axicabtagene ciloleucel","2019-11-12","2020-11-11",0,0,0,0,0]
["FONDO INNOVATIVI ONCOLOGICI",null,null,null,null,null,{"$f":"SUM(G39:G76)","v":2799671.83},null,{"$f":"SUM(I39:I76)","v":204735.41000000003},{"$f":"SUM(J39:J76)","v":0},0]
["TOTALE GENERALE",null,null,null,null,null,{"$f":"G38+G77","v":6201384.3399999999},null,{"$f":"I38+I77","v":2005498.0900000003},{"$f":"J38+J77","v":0},0]
[]
[null,null,"FONDO INNOVATIVI NETTO"]
[null,null,"Fondo innovativi non oncologici",null,null,null,{"$f":"G38-(I38+J38)","v":1600949.8299999994}]
[null,null,"Fondo innovativi oncologici",null,null,null,{"$f":"G77-(I77+K77)","v":2594936.42}]
[null,null,"TOTALE GENERALE",null,null,null,{"$f":"SUM(G81:G82)","v":4195886.2499999991}]

{"sheet":"Tab 58","index":14,"n_rows":53,"n_cols":15,"rows_kept":53,"cut":false,"hidden":false,"merged":[[52,0,52,8],[49,0,50,8],[0,0,0,5],[2,1,2,8],[3,0,4,0],[3,1,4,1],[3,2,3,4],[3,5,3,7],[3,8,4,8]]}
["20.     Acquisti di servizi"]
[]
[null,"Tab. 58 – Dettaglio acquisti di servizi sanitari in mobilità"]
["CODICE MOD. CE","DETTAGLIO ACQUISTI DI SERVIZI SANITARI IN MOBILITA'","PUBBLICO",null,null,"PRIVATO",null,null,"TOTALE"]
[null,null,"Avezzano-Sulmona-L'Aquila","Lanciano-Vasto-Chieti","Teramo","Avezzano-Sulmona-L'Aquila","Lanciano-Vasto-Chieti","Teramo",null,null,"VALORE CE","Diff","Ctrl",null,"SOMMA"]
[null,"COSTI DA MOBILITA' SANITARIA INFRAREGIONALE (A)",{"$f":"SUM(C7:C19)","v":3594736.6599999997},29107985.480000004,6379262.1299999999,1525771.5999999999,9181799.370000001,2265815.1500000004,52055370.390000001,null,52055370.390000001]
["BA0470","Acquisti servizi sanitari per medicina di base",13400.46,24574.05,13429.89,0,0,0,{"$f":"SUM(C7:H7)","v":51404.399999999994},null,{"$f":"SUMIF('00 CE'!B:B,'Tab 58'!A7,'00 CE'!G:G)","v":51404.4},{"$f":"I7-K7","v":0},{"$f":"IF(L7=0,\"OK\",\" CTRL\")","v":"OK"},null,{"$f":"IF(VLOOKUP(A7,'00 CE'!$B$4:$D$565,3,0)=0,\"\",VLOOKUP(A7,'00 CE'!$B$4:$D$565,3,0))","v":""}]
["BA0510","Acquisti servizi sanitari per farmaceutica",216926.18000000005,877699.17,160385.64000000001,0,0,0,{"$f":"SUM(C8:H8)","v":1255010.9900000002},null,{"$f":"SUMIF('00 CE'!B:B,'Tab 58'!A8,'00 CE'!G:G)","v":1255010.99},{"$f":"I8-K8","v":0},{"$f":"IF(L8=0,\"OK\",\" CTRL\")","v":"OK"},null,{"$f":"IF(VLOOKUP(A8,'00 CE'!$B$4:$D$565,3,0)=0,\"\",VLOOKUP(A8,'00 CE'!$B$4:$D$565,3,0))","v":""}]
["BA0540","Acquisti servizi sanitari per assistenza specialistica ambulatoriale",571607.27999999991,6041533.5500000017,1189429.3599999999,50604.99,1169814.94,4986.97,9027977.0900000017,null,{"$f":"SUMIF('00 CE'!B:B,'Tab 58'!A9,'00 CE'!G:G)","v":9027977.0899999999},0,"OK",null,{"$f":"IF(VLOOKUP(A9,'00 CE'!$B$4:$D$565,3,0)=0,\"\",VLOOKUP(A9,'00 CE'!$B$4:$D$565,3,0))","v":""}]
["BA0541","B.2.A.3.2) prestazioni di pronto soccorso  non seguite da ricovero - da pubblico (Aziende sanitarie pubbliche della Regione)",0,0,0,0,0,0,0,null,{"$f":"SUMIF('00 CE'!B:B,'Tab 58'!A10,'00 CE'!G:G)","v":0},{"$f":"I10-K10","v":0},"OK",null,{"$f":"IF(VLOOKUP(A10,'00 CE'!$B$4:$D$565,3,0)=0,\"\",VLOOKUP(A10,'00 CE'!$B$4:$D$565,3,0))","v":""}]
["BA0650","Acquisti servizi sanitari per assistenza riabilitativa",0,0,0,160475.56,2760468.84,2247914.48,5168858.88,null,{"$f":"SUMIF('00 CE'!B:B,'Tab 58'!A11,'00 CE'!G:G)","v":5168858.88},0,"OK",null,{"$f":"IF(VLOOKUP(A11,'00 CE'!$B$4:$D$565,3,0)=0,\"\",VLOOKUP(A11,'00 CE'!$B$4:$D$565,3,0))","v":""}]
["BA0710","Acquisti servizi sanitari per assistenza integrativa",0,0,0,0,0,0,0,null,{"$f":"SUMIF('00 CE'!B:B,'Tab 58'!A12,'00 CE'!G:G)","v":0},0,"OK",null,{"$f":"IF(VLOOKUP(A12,'00 CE'!$B$4:$D$565,3,0)=0,\"\",VLOOKUP(A12,'00 CE'!$B$4:$D$565,3,0))","v":""}]
["BA0760","Acquisti servizi sanitari per assistenza protesica",0,0,0,0,0,0,0,null,{"$f":"SUMIF('00 CE'!B:B,'Tab 58'!A13,'00 CE'!G:G)","v":0},0,"OK",null,{"$f":"IF(VLOOKUP(A13,'00 CE'!$B$4:$D$565,3,0)=0,\"\",VLOOKUP(A13,'00 CE'!$B$4:$D$565,3,0))","v":""}]
["BA0810","Acquisti servizi sanitari per assistenza ospedaliera",2614630.48,17677755.689999998,4723863.1399999997,776695.68,2259287.7000000002,0,28052232.689999998,null,{"$f":"SUMIF('00 CE'!B:B,'Tab 58'!A14,'00 CE'!G:G)","v":28052232.689999998},0,"OK",null,{"$f":"IF(VLOOKUP(A14,'00 CE'!$B$4:$D$565,3,0)=0,\"\",VLOOKUP(A14,'00 CE'!$B$4:$D$565,3,0))","v":""}]
["BA0910","Acquisto prestazioni di psichiatria residenziale e semiresidenziale",0,0,0,492858.01,1242827.29,0,1735685.3,null,{"$f":"SUMIF('00 CE'!B:B,'Tab 58'!A15,'00 CE'!G:G)","v":1735685.3},0,"OK",null,{"$f":"IF(VLOOKUP(A15,'00 CE'!$B$4:$D$565,3,0)=0,\"\",VLOOKUP(A15,'00 CE'!$B$4:$D$565,3,0))","v":""}]
["BA0970","Acquisto prestazioni di distribuzione farmaci File F",160099.91999999998,4412479.1500000013,285536.06000000006,0,0,0,4858115.1300000008,null,{"$f":"SUMIF('00 CE'!B:B,'Tab 58'!A16,'00 CE'!G:G)","v":4858115.13},0,"OK",null,{"$f":"IF(VLOOKUP(A16,'00 CE'!$B$4:$D$565,3,0)=0,\"\",VLOOKUP(A16,'00 CE'!$B$4:$D$565,3,0))","v":""}]
["BA1040","Acquisto prestazioni termali in convenzione",0,0,0,46.2,0,0,46.2,null,{"$f":"SUMIF('00 CE'!B:B,'Tab 58'!A17,'00 CE'!G:G)","v":46.2},0,"OK",null,{"$f":"IF(VLOOKUP(A17,'00 CE'!$B$4:$D$565,3,0)=0,\"\",VLOOKUP(A17,'00 CE'!$B$4:$D$565,3,0))","v":""}]
["BA1100","Acquisto prestazioni trasporto sanitario",18072.34,73943.87,6618.04,0,0,0,98634.249999999985,null,{"$f":"SUMIF('00 CE'!B:B,'Tab 58'!A18,'00 CE'!G:G)","v":98634.25},0,"OK",null,{"$f":"IF(VLOOKUP(A18,'00 CE'!$B$4:$D$565,3,0)=0,\"\",VLOOKUP(A18,'00 CE'!$B$4:$D$565,3,0))","v":""}]
["BA1150","Acquisto prestazioni Socio-Sanitarie a rilevanza sanitaria",0,0,0,45091.16,{"$f":"1434685.5+314715.1","v":1749400.6},12913.7,1807405.46,null,{"$f":"SUMIF('00 CE'!B:B,'Tab 58'!A19,'00 CE'!G:G)","v":1807405.46},0,"OK",null,{"$f":"IF(VLOOKUP(A19,'00 CE'!$B$4:$D$565,3,0)=0,\"\",VLOOKUP(A19,'00 CE'!$B$4:$D$565,3,0))","v":"S"}]
["BA1151","B.2.A.12.1.A) Assistenza domiciliare integrata (ADI)",0,0,0,0,0,0,0,null,{"$f":"SUMIF('00 CE'!B:B,'Tab 58'!A20,'00 CE'!G:G)","v":0},{"$f":"I20-K20","v":0},{"$f":"IF(L20=0,\"OK\",\" CTRL\")","v":"OK"},null,{"$f":"IF(VLOOKUP(A20,'00 CE'!$B$4:$D$565,3,0)=0,\"\",VLOOKUP(A20,'00 CE'!$B$4:$D$565,3,0))","v":""}]
["BA1152","B.2.A.12.1.B) Altre prestazioni socio-sanitarie a rilevanza sanitaria",0,0,0,45091.16,{"$f":"1434685.5+314715.1","v":1749400.6},12913.7,1807405.46,null,{"$f":"SUMIF('00 CE'!B:B,'Tab 58'!A21,'00 CE'!G:G)","v":1807405.46},0,"OK",null,{"$f":"IF(VLOOKUP(A21,'00 CE'!$B$4:$D$565,3,0)=0,\"\",VLOOKUP(A21,'00 CE'!$B$4:$D$565,3,0))","v":""}]
[]
[null,"COSTI DA MOBILITA' SANITARIA EXTRAREGIONALE (B)",{"$f":"SUM(C24:C34)","v":0},0,0,0,0,0,{"$f":"SUM(I24:I34)","v":38960621.410000004}]
["BA0480","Acquisti servizi sanitari per medicina di base",null,null,null,null,null,null,{"$f":"SUMIF('00 CE'!B:B,'Tab 58'!A24,'00 CE'!G:G)","v":202760.17},null,null,null,null,null,{"$f":"IF(VLOOKUP(A24,'00 CE'!$B$4:$D$565,3,0)=0,\"\",VLOOKUP(A24,'00 CE'!$B$4:$D$565,3,0))","v":""}]
["BA0520","Acquisti servizi sanitari per farmaceutica",null,null,null,null,null,null,{"$f":"SUMIF('00 CE'!B:B,'Tab 58'!A25,'00 CE'!G:G)","v":504044.37},null,null,null,null,null,{"$f":"IF(VLOOKUP(A25,'00 CE'!$B$4:$D$565,3,0)=0,\"\",VLOOKUP(A25,'00 CE'!$B$4:$D$565,3,0))","v":""}]
["BA0560","Acquisti servizi sanitari per assistenza specialistica ambulatoriale",null,null,null,null,null,null,{"$f":"SUMIF('00 CE'!B:B,'Tab 58'!A26,'00 CE'!G:G)","v":3402818.86},null,null,null,null,null,{"$f":"IF(VLOOKUP(A26,'00 CE'!$B$4:$D$565,3,0)=0,\"\",VLOOKUP(A26,'00 CE'!$B$4:$D$565,3,0))","v":""}]
["BA0561","B.2.A.3.6) prestazioni di pronto soccorso  non seguite da ricovero - da pubblico (Extraregione)",null,null,null,null,null,null,{"$f":"SUMIF('00 CE'!B:B,'Tab 58'!A27,'00 CE'!G:G)","v":0},null,null,null,null,null,{"$f":"IF(VLOOKUP(A27,'00 CE'!$B$4:$D$565,3,0)=0,\"\",VLOOKUP(A27,'00 CE'!$B$4:$D$565,3,0))","v":""}]
["BA0730","Acquisti servizi sanitari per assistenza integrativa",null,null,null,null,null,null,{"$f":"SUMIF('00 CE'!B:B,'Tab 58'!A28,'00 CE'!G:G)","v":0},null,null,null,null,null,{"$f":"IF(VLOOKUP(A28,'00 CE'!$B$4:$D$565,3,0)=0,\"\",VLOOKUP(A28,'00 CE'!$B$4:$D$565,3,0))","v":""}]
["BA0780","Acquisti servizi sanitari per assistenza protesica",null,null,null,null,null,null,{"$f":"SUMIF('00 CE'!B:B,'Tab 58'!A29,'00 CE'!G:G)","v":0},null,null,null,null,null,{"$f":"IF(VLOOKUP(A29,'00 CE'!$B$4:$D$565,3,0)=0,\"\",VLOOKUP(A29,'00 CE'!$B$4:$D$565,3,0))","v":""}]
["BA0830","Acquisti servizi sanitari per assistenza ospedaliera",null,null,null,null,null,null,{"$f":"SUMIF('00 CE'!B:B,'Tab 58'!A30,'00 CE'!G:G)","v":30364599.559999999},null,null,null,null,null,{"$f":"IF(VLOOKUP(A30,'00 CE'!$B$4:$D$565,3,0)=0,\"\",VLOOKUP(A30,'00 CE'!$B$4:$D$565,3,0))","v":""}]
["BA0990","Acquisto prestazioni di distribuzione farmaci e File F",null,null,null,null,null,null,{"$f":"SUMIF('00 CE'!B:B,'Tab 58'!A31,'00 CE'!G:G)","v":1901052.91},null,null,null,null,null,{"$f":"IF(VLOOKUP(A31,'00 CE'!$B$4:$D$565,3,0)=0,\"\",VLOOKUP(A31,'00 CE'!$B$4:$D$565,3,0))","v":""}]
["BA1060","Acquisto prestazioni termali in convenzione",null,null,null,null,null,null,{"$f":"SUMIF('00 CE'!B:B,'Tab 58'!A32,'00 CE'!G:G)","v":106826.2},null,null,null,null,null,{"$f":"IF(VLOOKUP(A32,'00 CE'!$B$4:$D$565,3,0)=0,\"\",VLOOKUP(A32,'00 CE'!$B$4:$D$565,3,0))","v":""}]
["BA1120","Acquisto prestazioni trasporto sanitario",null,null,null,null,null,null,{"$f":"SUMIF('00 CE'!B:B,'Tab 58'!A33,'00 CE'!G:G)","v":148466.56}]
["BA1540","Costi per servizi Sanitari Mobilità Internazionale passiva",null,null,null,null,null,null,{"$f":"SUMIF('00 CE'!B:B,'Tab 58'!A34,'00 CE'!G:G)","v":2330052.7799999998},null,null,null,null,null,{"$f":"IF(VLOOKUP(A34,'00 CE'!$B$4:$D$565,3,0)=0,\"\",VLOOKUP(A34,'00 CE'!$B$4:$D$565,3,0))","v":""}]
[]
[null,"TOTALE COSTI DA MOBILITA' (A+B)",{"$f":"C6+C23","v":3594736.6599999997},{"$f":"D6+D23","v":29107985.480000004},6379262.1299999999,1525771.5999999999,9181799.370000001,2265815.1500000004,{"$f":"I6+I23","v":91015991.800000012}]
[]
[null,"COSTI PER PRESTAZIONI OGGETTO DI FATTURAZIONE DIRETTA INFRAREGIONALE (C)",466796.15,41456.720000000001,119237.35,0,0,0,{"$f":"SUM(C38:H38)","v":627490.22}]
[]
[null,"COSTI PER PREST. OGGETTO DI FATTUR. DIRETTA EXTRAREGIONALE (D)",null,null,null,null,null,null,{"$f":"156346.41+163730.41","v":320076.82}]
[]
[null,"TOTALE COSTI PER PREST. OGGETTO DI FATTURAZ. DIRETTA (C+D)",{"$f":"C38+C40","v":466796.15},{"$f":"D38+D40","v":41456.720000000001},119237.35,0,0,0,947567.04]
[]
[null,"TOTALE COSTI AZIENDE REGIONE (A+C)",{"$f":"C38+C6","v":4061532.8099999996},29149442.200000003,6498499.4799999995,1525771.5999999999,9181799.370000001,2265815.1500000004,{"$f":"I38+I6","v":52682860.609999999}]
[null,"TOTALE COSTI AZIENDE EXTRA REGIONE (B+D)",null,null,null,null,null,null,{"$f":"I23+I40","v":39280698.230000004}]
[null,"TOTALE COSTI AZIENDE SANITARIE PUBBLICHE (A+B+C+D)",{"$f":"C36+C38+C40","v":4061532.8099999996},29149442.200000003,6498499.4799999995,1525771.5999999999,9181799.370000001,{"$f":"H36+H38+H40","v":2265815.1500000004},{"$f":"I36+I38+I40","v":91963558.840000004}]
[]
[]
[]
["Nella riga \"Costi per prestazioni oggetto di fatturazione diretta infraregionale\" sono stati inseriti i costi sostenuti dall'Azienda nei confronti delle AASSLL della Regione per prestazioni fuori mobilità, oggetto di fatturazione diretta. Tali valori sono stati riconciliati con le AASSLL della Regione alla data del 31/12/2019."]
[]
[]
["I costi di mobilità passiva sono aumentati, rispetto al precedente esercizio, di circa €/mln 8,4 . Detta variazione è stata determinata dall'incremento  dei costi per mobilità sanitaria infraregionale (+€/mln 2,7), e dall'incremento dei costi per mobilità sanitaria extraregionale (+ €/mln 5,7). Nello specifico, la mobilità passiva infraregionale è aumentata  a causa dei maggiori costi di acquisto di servizi sanitari per assistenza ospedaliera (per + €/mln 1,6)  , in particolare nei confronti della ASL di Lanciano-Vasto-Chieti ( €/mln .1), e  per l'acquisto di prestazioni riabilitative e  di psichiatria residenziale e semiresidenziale I costi per mobilità sanitaria extraregionale sono aumentati nel corso del 2019 principalmente per effetto dell'incremento dei costi per acquisti di servizi sanitari per assistenza ospedaliera (per €/mln 6,5) . Tale incremento è stato parzialmente compensato dalla riduzione dei costi per acquisti di servizi sanitari per assistenza ambulatoriale (per €/mln- 0,6).  In merito alla mobilità sanitaria extra regionale va precisato, ad ogni buon conto, che essa, ai sensi del D. Lgs. 118/2011, viene contabilizzata con due anni di ritardo rispetto all'esercizio di competenza e, come stabilisce il citato decreto, la rilevazione contabile viene effettuata al netto degli eventuali conguagli (+ o -) dei due esercizi precedenti. "]

{"sheet":"Tab 58 bis","index":15,"n_rows":86,"n_cols":7,"rows_kept":86,"cut":false,"hidden":false,"merged":[[27,4,28,4],[0,0,0,4],[3,4,6,4],[7,4,10,4],[11,4,20,4],[22,4,26,4],[29,4,30,4],[55,4,61,4],[70,4,74,4],[85,0,85,1],[31,4,35,4],[46,4,50,4],[51,4,54,4],[62,4,69,4],[36,4,41,4],[85,4,85,5],[42,4,45,4]]}
["Tab. 58 bis - Tabella di raccordo - DETTAGLIO ACQUISTI DI SERVIZI SANITARI IN MOBILITA'"]
[]
["Voce CE","Descrizione",null,"Importo","Voce CE D.Lgs. 118/2011 ",null,"SOMMA"]
["BA0410","B.2.A.1)   Acquisti servizi sanitari per medicina di base",null,{"$f":"SUM(D5:D7)","v":35330014.780000001},"B 2) a)",null,{"$f":"IF(VLOOKUP(A4,'00 CE'!$B$4:$D$565,3,0)=0,\"\",VLOOKUP(A4,'00 CE'!$B$4:$D$565,3,0))","v":"S"}]
["BA0420","B.2.A.1.1) - da convenzione",null,{"$f":"SUMIF('00 CE'!B:B,'Tab 58 bis'!A5,'00 CE'!G:G)","v":35075850.210000001},null,null,{"$f":"IF(VLOOKUP(A5,'00 CE'!$B$4:$D$565,3,0)=0,\"\",VLOOKUP(A5,'00 CE'!$B$4:$D$565,3,0))","v":"S"}]
["BA0470","B.2.A.1.2) - da pubblico (Aziende sanitarie pubbliche della Regione) - Mobilità intraregionale","a",{"$f":"SUMIF('00 CE'!B:B,'Tab 58 bis'!A6,'00 CE'!G:G)","v":51404.4},null,null,{"$f":"IF(VLOOKUP(A6,'00 CE'!$B$4:$D$565,3,0)=0,\"\",VLOOKUP(A6,'00 CE'!$B$4:$D$565,3,0))","v":""}]
["BA0480","B.2.A.1.3) - da pubblico (Aziende sanitarie pubbliche Extraregione) - Mobilità extraregionale","b",{"$f":"SUMIF('00 CE'!B:B,'Tab 58 bis'!A7,'00 CE'!G:G)","v":202760.17},null,null,{"$f":"IF(VLOOKUP(A7,'00 CE'!$B$4:$D$565,3,0)=0,\"\",VLOOKUP(A7,'00 CE'!$B$4:$D$565,3,0))","v":""}]
["BA0490","B.2.A.2)   Acquisti servizi sanitari per farmaceutica",null,{"$f":"SUM(D9:D11)","v":48380817.380000003},"B 2) b)",null,{"$f":"IF(VLOOKUP(A8,'00 CE'!$B$4:$D$565,3,0)=0,\"\",VLOOKUP(A8,'00 CE'!$B$4:$D$565,3,0))","v":"S"}]
["BA0500","B.2.A.2.1) - da convenzione",null,{"$f":"SUMIF('00 CE'!B:B,'Tab 58 bis'!A9,'00 CE'!G:G)","v":46621762.020000003},null,null,{"$f":"IF(VLOOKUP(A9,'00 CE'!$B$4:$D$565,3,0)=0,\"\",VLOOKUP(A9,'00 CE'!$B$4:$D$565,3,0))","v":""}]
["BA0510","B.2.A.2.2) - da pubblico (Aziende sanitarie pubbliche della Regione)- Mobilità intraregionale","a",{"$f":"SUMIF('00 CE'!B:B,'Tab 58 bis'!A10,'00 CE'!G:G)","v":1255010.99},null,null,{"$f":"IF(VLOOKUP(A10,'00 CE'!$B$4:$D$565,3,0)=0,\"\",VLOOKUP(A10,'00 CE'!$B$4:$D$565,3,0))","v":""}]
["BA0520","B.2.A.2.3) - da pubblico (Extraregione)","b",{"$f":"SUMIF('00 CE'!B:B,'Tab 58 bis'!A11,'00 CE'!G:G)","v":504044.37},null,null,{"$f":"IF(VLOOKUP(A11,'00 CE'!$B$4:$D$565,3,0)=0,\"\",VLOOKUP(A11,'00 CE'!$B$4:$D$565,3,0))","v":""}]
["BA0530","B.2.A.3)   Acquisti servizi sanitari per assistenza specialistica ambulatoriale",null,{"$f":"SUM(D13:D22)","v":26090460.290000003},"B 2) c)",null,{"$f":"IF(VLOOKUP(A12,'00 CE'!$B$4:$D$565,3,0)=0,\"\",VLOOKUP(A12,'00 CE'!$B$4:$D$565,3,0))","v":"S"}]
["BA0540","B.2.A.3.1) - da pubblico (Aziende sanitarie pubbliche della Regione)","a",{"$f":"SUMIF('00 CE'!B:B,'Tab 58 bis'!A13,'00 CE'!G:G)","v":9027977.0899999999},null,null,{"$f":"IF(VLOOKUP(A13,'00 CE'!$B$4:$D$565,3,0)=0,\"\",VLOOKUP(A13,'00 CE'!$B$4:$D$565,3,0))","v":""}]
["BA0541","B.2.A.3.2) prestazioni di pronto soccorso  non seguite da ricovero - da pubblico (Aziende sanitarie pubbliche della Regione)",null,{"$f":"SUMIF('00 CE'!B:B,'Tab 58 bis'!A14,'00 CE'!G:G)","v":0},null,null,{"$f":"IF(VLOOKUP(A14,'00 CE'!$B$4:$D$565,3,0)=0,\"\",VLOOKUP(A14,'00 CE'!$B$4:$D$565,3,0))","v":""}]
["BA0550","B.2.A.3.2) - da pubblico (altri soggetti pubbl. della Regione)",null,{"$f":"SUMIF('00 CE'!B:B,'Tab 58 bis'!A15,'00 CE'!G:G)","v":580281.24},null,null,{"$f":"IF(VLOOKUP(A15,'00 CE'!$B$4:$D$565,3,0)=0,\"\",VLOOKUP(A15,'00 CE'!$B$4:$D$565,3,0))","v":""}]
["BA0551","B.2.A.3.4) prestazioni di pronto soccorso  non seguite da ricovero - da pubblico (altri soggetti pubbl. della Regione)",null,{"$f":"SUMIF('00 CE'!B:B,'Tab 58 bis'!A16,'00 CE'!G:G)","v":0},null,null,{"$f":"IF(VLOOKUP(A16,'00 CE'!$B$4:$D$565,3,0)=0,\"\",VLOOKUP(A16,'00 CE'!$B$4:$D$565,3,0))","v":""}]
["BA0560","B.2.A.3.3) - da pubblico (Extraregione)","b",{"$f":"SUMIF('00 CE'!B:B,'Tab 58 bis'!A17,'00 CE'!G:G)","v":3402818.86},null,null,{"$f":"IF(VLOOKUP(A17,'00 CE'!$B$4:$D$565,3,0)=0,\"\",VLOOKUP(A17,'00 CE'!$B$4:$D$565,3,0))","v":""}]
["BA0561","A.4.A.3.14) Altre prestazioni sanitarie e sociosanitarie a rilevanza sanitaria erogate a soggetti pubblici Extraregione",null,{"$f":"SUMIF('00 CE'!B:B,'Tab 58 bis'!A18,'00 CE'!G:G)","v":0},null,null,{"$f":"IF(VLOOKUP(A18,'00 CE'!$B$4:$D$565,3,0)=0,\"\",VLOOKUP(A18,'00 CE'!$B$4:$D$565,3,0))","v":""}]
["BA0570","B.2.A.3.4) - da privato - Medici SUMAI",null,{"$f":"SUMIF('00 CE'!B:B,'Tab 58 bis'!A19,'00 CE'!G:G)","v":4184408.7},null,null,{"$f":"IF(VLOOKUP(A19,'00 CE'!$B$4:$D$565,3,0)=0,\"\",VLOOKUP(A19,'00 CE'!$B$4:$D$565,3,0))","v":""}]
["BA0580","B.2.A.3.5) - da privato",null,{"$f":"SUMIF('00 CE'!B:B,'Tab 58 bis'!A20,'00 CE'!G:G)","v":8698101.9199999999},null,null,{"$f":"IF(VLOOKUP(A20,'00 CE'!$B$4:$D$565,3,0)=0,\"\",VLOOKUP(A20,'00 CE'!$B$4:$D$565,3,0))","v":"S"}]
["BA0630","B.2.A.3.6) - da privato per cittadini non residenti - Extraregione (mobilità attiva in compensazione)",null,{"$f":"SUMIF('00 CE'!B:B,'Tab 58 bis'!A21,'00 CE'!G:G)","v":196872.47999999998},null,null,{"$f":"IF(VLOOKUP(A21,'00 CE'!$B$4:$D$565,3,0)=0,\"\",VLOOKUP(A21,'00 CE'!$B$4:$D$565,3,0))","v":""}]
["BA0631","A.4.B.3)  Prestazioni  di pronto soccorso non seguite da ricovero da priv. Extraregione in compensazione  (mobilità attiva)",null,{"$f":"SUMIF('00 CE'!B:B,'Tab 58 bis'!A22,'00 CE'!G:G)","v":0},null,null,{"$f":"IF(VLOOKUP(A22,'00 CE'!$B$4:$D$565,3,0)=0,\"\",VLOOKUP(A22,'00 CE'!$B$4:$D$565,3,0))","v":""}]
["BA0640","B.2.A.4)   Acquisti servizi sanitari per assistenza riabilitativa",null,{"$f":"SUM(D24:D27)","v":20274723.890000001},"B 2) d)",null,{"$f":"IF(VLOOKUP(A23,'00 CE'!$B$4:$D$565,3,0)=0,\"\",VLOOKUP(A23,'00 CE'!$B$4:$D$565,3,0))","v":"S"}]
["BA0650","B.2.A.4.1) - da pubblico (Aziende sanitarie pubbliche della Regione)","a",{"$f":"SUMIF('00 CE'!B:B,'Tab 58 bis'!A24,'00 CE'!G:G)","v":5168858.88},null,null,{"$f":"IF(VLOOKUP(A24,'00 CE'!$B$4:$D$565,3,0)=0,\"\",VLOOKUP(A24,'00 CE'!$B$4:$D$565,3,0))","v":""}]
["BA0670","B.2.A.4.3) - da pubblico (Extraregione) non soggetti a compensazione",null,{"$f":"SUMIF('00 CE'!B:B,'Tab 58 bis'!A25,'00 CE'!G:G)","v":0},null,null,{"$f":"IF(VLOOKUP(A25,'00 CE'!$B$4:$D$565,3,0)=0,\"\",VLOOKUP(A25,'00 CE'!$B$4:$D$565,3,0))","v":""}]
["BA0680","B.2.A.4.4) - da privato (intraregionale)",null,{"$f":"SUMIF('00 CE'!B:B,'Tab 58 bis'!A26,'00 CE'!G:G)","v":14522765.17},null,null,{"$f":"IF(VLOOKUP(A26,'00 CE'!$B$4:$D$565,3,0)=0,\"\",VLOOKUP(A26,'00 CE'!$B$4:$D$565,3,0))","v":""}]
["BA0690","B.2.A.4.5) - da privato (extraregionale)",null,{"$f":"SUMIF('00 CE'!B:B,'Tab 58 bis'!A27,'00 CE'!G:G)","v":583099.84},null,null,{"$f":"IF(VLOOKUP(A27,'00 CE'!$B$4:$D$565,3,0)=0,\"\",VLOOKUP(A27,'00 CE'!$B$4:$D$565,3,0))","v":""}]
["BA0700","B.2.A.5)   Acquisti servizi sanitari per assistenza integrativa",null,{"$f":"SUM(D29:D29)","v":1733047.08},"B 2) e)",null,{"$f":"IF(VLOOKUP(A28,'00 CE'!$B$4:$D$565,3,0)=0,\"\",VLOOKUP(A28,'00 CE'!$B$4:$D$565,3,0))","v":"S"}]
["BA0740","B.2.A.5.4) - da privato",null,{"$f":"SUMIF('00 CE'!B:B,'Tab 58 bis'!A29,'00 CE'!G:G)","v":1733047.08},null,null,{"$f":"IF(VLOOKUP(A29,'00 CE'!$B$4:$D$565,3,0)=0,\"\",VLOOKUP(A29,'00 CE'!$B$4:$D$565,3,0))","v":""}]
["BA0750","B.2.A.6)   Acquisti servizi sanitari per assistenza protesica",null,{"$f":"SUM(D31)","v":6846095.7100000009},"B 2) f)",null,{"$f":"IF(VLOOKUP(A30,'00 CE'!$B$4:$D$565,3,0)=0,\"\",VLOOKUP(A30,'00 CE'!$B$4:$D$565,3,0))","v":"S"}]
["BA0790","B.2.A.6.4) - da privato",null,{"$f":"SUMIF('00 CE'!B:B,'Tab 58 bis'!A31,'00 CE'!G:G)","v":6846095.7100000009},null,null,{"$f":"IF(VLOOKUP(A31,'00 CE'!$B$4:$D$565,3,0)=0,\"\",VLOOKUP(A31,'00 CE'!$B$4:$D$565,3,0))","v":""}]
["BA0800","B.2.A.7)   Acquisti servizi sanitari per assistenza ospedaliera",null,{"$f":"SUM(D33:D36)","v":131436628.68000001},"B 2) g)",null,{"$f":"IF(VLOOKUP(A32,'00 CE'!$B$4:$D$565,3,0)=0,\"\",VLOOKUP(A32,'00 CE'!$B$4:$D$565,3,0))","v":"S"}]
["BA0810","B.2.A.7.1) - da pubblico (Aziende sanitarie pubbliche della Regione)","a",{"$f":"SUMIF('00 CE'!B:B,'Tab 58 bis'!A33,'00 CE'!G:G)","v":28052232.689999998},null,null,{"$f":"IF(VLOOKUP(A33,'00 CE'!$B$4:$D$565,3,0)=0,\"\",VLOOKUP(A33,'00 CE'!$B$4:$D$565,3,0))","v":""}]
["BA0830","B.2.A.7.3) - da pubblico (Extraregione)","b",{"$f":"SUMIF('00 CE'!B:B,'Tab 58 bis'!A34,'00 CE'!G:G)","v":30364599.559999999},null,null,{"$f":"IF(VLOOKUP(A34,'00 CE'!$B$4:$D$565,3,0)=0,\"\",VLOOKUP(A34,'00 CE'!$B$4:$D$565,3,0))","v":""}]
["BA0840","B.2.A.7.4) - da privato",null,{"$f":"SUMIF('00 CE'!B:B,'Tab 58 bis'!A35,'00 CE'!G:G)","v":64592865.920000002},null,null,{"$f":"IF(VLOOKUP(A35,'00 CE'!$B$4:$D$565,3,0)=0,\"\",VLOOKUP(A35,'00 CE'!$B$4:$D$565,3,0))","v":"S"}]
["BA0890","B.2.A.7.5) - da privato per cittadini non residenti - Extraregione (mobilità attiva in compensazione)",null,{"$f":"SUMIF('00 CE'!B:B,'Tab 58 bis'!A36,'00 CE'!G:G)","v":8426930.5099999998},null,null,{"$f":"IF(VLOOKUP(A36,'00 CE'!$B$4:$D$565,3,0)=0,\"\",VLOOKUP(A36,'00 CE'!$B$4:$D$565,3,0))","v":""}]
["BA0900","B.2.A.8)   Acquisto prestazioni di psichiatria residenziale e semiresidenziale",null,{"$f":"SUM(D38:D42)","v":12842279.100000001},"B 2) h)",null,{"$f":"IF(VLOOKUP(A37,'00 CE'!$B$4:$D$565,3,0)=0,\"\",VLOOKUP(A37,'00 CE'!$B$4:$D$565,3,0))","v":"S"}]
["BA0910","B.2.A.8.1) - da pubblico (Aziende sanitarie pubbliche della Regione)","a",{"$f":"SUMIF('00 CE'!B:B,'Tab 58 bis'!A38,'00 CE'!G:G)","v":1735685.3},null,null,{"$f":"IF(VLOOKUP(A38,'00 CE'!$B$4:$D$565,3,0)=0,\"\",VLOOKUP(A38,'00 CE'!$B$4:$D$565,3,0))","v":""}]
["BA0920","B.2.A.8.2) - da pubblico (altri soggetti pubbl. della Regione)",null,{"$f":"SUMIF('00 CE'!B:B,'Tab 58 bis'!A39,'00 CE'!G:G)","v":0},null,null,{"$f":"IF(VLOOKUP(A39,'00 CE'!$B$4:$D$565,3,0)=0,\"\",VLOOKUP(A39,'00 CE'!$B$4:$D$565,3,0))","v":""}]
["BA0930","B.2.A.8.3) - da pubblico (Extraregione) - non soggette a compensazione",null,{"$f":"SUMIF('00 CE'!B:B,'Tab 58 bis'!A40,'00 CE'!G:G)","v":60576},null,null,{"$f":"IF(VLOOKUP(A40,'00 CE'!$B$4:$D$565,3,0)=0,\"\",VLOOKUP(A40,'00 CE'!$B$4:$D$565,3,0))","v":""}]
["BA0940","B.2.A.8.4) - da privato (intraregionale)",null,{"$f":"SUMIF('00 CE'!B:B,'Tab 58 bis'!A41,'00 CE'!G:G)","v":9380591.6799999997},null,null,{"$f":"IF(VLOOKUP(A41,'00 CE'!$B$4:$D$565,3,0)=0,\"\",VLOOKUP(A41,'00 CE'!$B$4:$D$565,3,0))","v":""}]
["BA0950","B.2.A.8.5) - da privato (extraregionale)",null,{"$f":"SUMIF('00 CE'!B:B,'Tab 58 bis'!A42,'00 CE'!G:G)","v":1665426.12},null,null,{"$f":"IF(VLOOKUP(A42,'00 CE'!$B$4:$D$565,3,0)=0,\"\",VLOOKUP(A42,'00 CE'!$B$4:$D$565,3,0))","v":""}]
["BA0960","B.2.A.9)   Acquisto prestazioni di distribuzione farmaci File F",null,{"$f":"SUM(D44:D46)","v":8471399.0999999996},"B 2) i)",null,{"$f":"IF(VLOOKUP(A43,'00 CE'!$B$4:$D$565,3,0)=0,\"\",VLOOKUP(A43,'00 CE'!$B$4:$D$565,3,0))","v":"S"}]
["BA0970","B.2.A.9.1) - da pubblico (Aziende sanitarie pubbliche della Regione) - Mobilità intraregionale","a",{"$f":"SUMIF('00 CE'!B:B,'Tab 58 bis'!A44,'00 CE'!G:G)","v":4858115.13},null,null,{"$f":"IF(VLOOKUP(A44,'00 CE'!$B$4:$D$565,3,0)=0,\"\",VLOOKUP(A44,'00 CE'!$B$4:$D$565,3,0))","v":""}]
["BA0990","B.2.A.9.3) - da pubblico (Extraregione)","b",{"$f":"SUMIF('00 CE'!B:B,'Tab 58 bis'!A45,'00 CE'!G:G)","v":1901052.91},null,null,{"$f":"IF(VLOOKUP(A45,'00 CE'!$B$4:$D$565,3,0)=0,\"\",VLOOKUP(A45,'00 CE'!$B$4:$D$565,3,0))","v":""}]
["BA1000","B.2.A.9.4) - da privato (intraregionale)",null,{"$f":"SUMIF('00 CE'!B:B,'Tab 58 bis'!A46,'00 CE'!G:G)","v":1712231.06},null,null,{"$f":"IF(VLOOKUP(A46,'00 CE'!$B$4:$D$565,3,0)=0,\"\",VLOOKUP(A46,'00 CE'!$B$4:$D$565,3,0))","v":""}]
["BA1030","B.2.A.10)   Acquisto prestazioni termali in convenzione",null,{"$f":"SUM(D48:D51)","v":1664343.8799999997},"B 2) j)",null,{"$f":"IF(VLOOKUP(A47,'00 CE'!$B$4:$D$565,3,0)=0,\"\",VLOOKUP(A47,'00 CE'!$B$4:$D$565,3,0))","v":"S"}]
["BA1040","B.2.A.10.1) - da pubblico (Aziende sanitarie pubbliche della Regione) - Mobilità intraregionale","a",{"$f":"SUMIF('00 CE'!B:B,'Tab 58 bis'!A48,'00 CE'!G:G)","v":46.2},null,null,{"$f":"IF(VLOOKUP(A48,'00 CE'!$B$4:$D$565,3,0)=0,\"\",VLOOKUP(A48,'00 CE'!$B$4:$D$565,3,0))","v":""}]
["BA1060","B.2.A.10.3) - da pubblico (Extraregione)","b",{"$f":"SUMIF('00 CE'!B:B,'Tab 58 bis'!A49,'00 CE'!G:G)","v":106826.2},null,null,{"$f":"IF(VLOOKUP(A49,'00 CE'!$B$4:$D$565,3,0)=0,\"\",VLOOKUP(A49,'00 CE'!$B$4:$D$565,3,0))","v":""}]
["BA1070","B.2.A.10.4) - da privato",null,{"$f":"SUMIF('00 CE'!B:B,'Tab 58 bis'!A50,'00 CE'!G:G)","v":1401125.0799999998},null,null,{"$f":"IF(VLOOKUP(A50,'00 CE'!$B$4:$D$565,3,0)=0,\"\",VLOOKUP(A50,'00 CE'!$B$4:$D$565,3,0))","v":""}]
["BA1080","B.2.A.10.5) - da privato per cittadini non residenti - Extraregione (mobilità attiva in compensazione)",null,{"$f":"SUMIF('00 CE'!B:B,'Tab 58 bis'!A51,'00 CE'!G:G)","v":156346.4},null,null,{"$f":"IF(VLOOKUP(A51,'00 CE'!$B$4:$D$565,3,0)=0,\"\",VLOOKUP(A51,'00 CE'!$B$4:$D$565,3,0))","v":""}]
["BA1090","B.2.A.11)   Acquisto prestazioni di trasporto sanitario",null,{"$f":"SUM(D53:D55)","v":7848424.4499999993},"B 2) k)",null,{"$f":"IF(VLOOKUP(A52,'00 CE'!$B$4:$D$565,3,0)=0,\"\",VLOOKUP(A52,'00 CE'!$B$4:$D$565,3,0))","v":"S"}]
["BA1100","B.2.A.11.1) - da pubblico (Aziende sanitarie pubbliche della Regione) - Mobilità intraregionale","a",{"$f":"SUMIF('00 CE'!B:B,'Tab 58 bis'!A53,'00 CE'!G:G)","v":98634.25},null,null,{"$f":"IF(VLOOKUP(A53,'00 CE'!$B$4:$D$565,3,0)=0,\"\",VLOOKUP(A53,'00 CE'!$B$4:$D$565,3,0))","v":""}]
["BA1120","B.2.A.11.3) - da pubblico (Extraregione)","b",{"$f":"SUMIF('00 CE'!B:B,'Tab 58 bis'!A54,'00 CE'!G:G)","v":148466.56},null,null,{"$f":"IF(VLOOKUP(A54,'00 CE'!$B$4:$D$565,3,0)=0,\"\",VLOOKUP(A54,'00 CE'!$B$4:$D$565,3,0))","v":""}]
["BA1130","B.2.A.11.4) - da privato",null,{"$f":"SUMIF('00 CE'!B:B,'Tab 58 bis'!A55,'00 CE'!G:G)","v":7601323.6399999997},null,null,{"$f":"IF(VLOOKUP(A55,'00 CE'!$B$4:$D$565,3,0)=0,\"\",VLOOKUP(A55,'00 CE'!$B$4:$D$565,3,0))","v":""}]
["BA1140","B.2.A.12)   Acquisto prestazioni Socio-Sanitarie a rilevanza sanitaria",null,{"$f":"SUM(D57:D62)","v":17664091.359999999},"B 2) l)",null,{"$f":"IF(VLOOKUP(A56,'00 CE'!$B$4:$D$565,3,0)=0,\"\",VLOOKUP(A56,'00 CE'!$B$4:$D$565,3,0))","v":"S"}]
["BA1150","B.2.A.12.1) - da pubblico (Aziende sanitarie pubbliche della Regione) - Mobilità intraregionale","a",{"$f":"SUMIF('00 CE'!B:B,'Tab 58 bis'!A57,'00 CE'!G:G)","v":1807405.46},null,null,{"$f":"IF(VLOOKUP(A57,'00 CE'!$B$4:$D$565,3,0)=0,\"\",VLOOKUP(A57,'00 CE'!$B$4:$D$565,3,0))","v":"S"}]
["BA1160","B.2.A.12.2) - da pubblico (altri soggetti pubblici della Regione)",null,{"$f":"SUMIF('00 CE'!B:B,'Tab 58 bis'!A58,'00 CE'!G:G)","v":0},null,null,{"$f":"IF(VLOOKUP(A58,'00 CE'!$B$4:$D$565,3,0)=0,\"\",VLOOKUP(A58,'00 CE'!$B$4:$D$565,3,0))","v":""}]
["BA1161","B.2.A.12.3) - da pubblico  (Extraregione) - Acquisto di Altre prestazioni sociosanitarie a rilevanza sanitaria erogate a soggetti pubblici Extraregione",null,{"$f":"SUMIF('00 CE'!B:B,'Tab 58 bis'!A59,'00 CE'!G:G)","v":0},null,null,{"$f":"IF(VLOOKUP(A59,'00 CE'!$B$4:$D$565,3,0)=0,\"\",VLOOKUP(A59,'00 CE'!$B$4:$D$565,3,0))","v":""}]
["BA1170","B.2.A.12.3) - da pubblico (Extraregione) non soggette a compensazione",null,{"$f":"SUMIF('00 CE'!B:B,'Tab 58 bis'!A60,'00 CE'!G:G)","v":163730.37},null,null,{"$f":"IF(VLOOKUP(A60,'00 CE'!$B$4:$D$565,3,0)=0,\"\",VLOOKUP(A60,'00 CE'!$B$4:$D$565,3,0))","v":""}]
["BA1180","B.2.A.12.4) - da privato (intraregionale)",null,{"$f":"SUMIF('00 CE'!B:B,'Tab 58 bis'!A61,'00 CE'!G:G)","v":13625990.66},null,null,{"$f":"IF(VLOOKUP(A61,'00 CE'!$B$4:$D$565,3,0)=0,\"\",VLOOKUP(A61,'00 CE'!$B$4:$D$565,3,0))","v":""}]
["BA1190","B.2.A.12.5) - da privato (extraregionale)",null,{"$f":"SUMIF('00 CE'!B:B,'Tab 58 bis'!A62,'00 CE'!G:G)","v":2066964.8699999999},null,null,{"$f":"IF(VLOOKUP(A62,'00 CE'!$B$4:$D$565,3,0)=0,\"\",VLOOKUP(A62,'00 CE'!$B$4:$D$565,3,0))","v":""}]
["BA1200","B.2.A.13)  Compartecipazione al personale per att. libero-prof. (intramoenia)",null,{"$f":"SUM(D64:D70)","v":2990762.6099999994},"B 2) m)",null,{"$f":"IF(VLOOKUP(A63,'00 CE'!$B$4:$D$565,3,0)=0,\"\",VLOOKUP(A63,'00 CE'!$B$4:$D$565,3,0))","v":"S"}]
["BA1210","B.2.A.13.1)  Compartecipazione al personale per att. libero professionale intramoenia - Area ospedaliera",null,{"$f":"SUMIF('00 CE'!B:B,'Tab 58 bis'!A64,'00 CE'!G:G)","v":60058.96},null,null,{"$f":"IF(VLOOKUP(A64,'00 CE'!$B$4:$D$565,3,0)=0,\"\",VLOOKUP(A64,'00 CE'!$B$4:$D$565,3,0))","v":""}]
["BA1220","B.2.A.13.2)  Compartecipazione al personale per att. libero professionale intramoenia- Area specialistica",null,{"$f":"SUMIF('00 CE'!B:B,'Tab 58 bis'!A65,'00 CE'!G:G)","v":2527432.63},null,null,{"$f":"IF(VLOOKUP(A65,'00 CE'!$B$4:$D$565,3,0)=0,\"\",VLOOKUP(A65,'00 CE'!$B$4:$D$565,3,0))","v":""}]
["BA1230","B.2.A.13.3)  Compartecipazione al personale per att. libero professionale intramoenia - Area sanità pubblica",null,{"$f":"SUMIF('00 CE'!B:B,'Tab 58 bis'!A66,'00 CE'!G:G)","v":14345.3},null,null,{"$f":"IF(VLOOKUP(A66,'00 CE'!$B$4:$D$565,3,0)=0,\"\",VLOOKUP(A66,'00 CE'!$B$4:$D$565,3,0))","v":""}]
["BA1240","B.2.A.13.4)  Compartecipazione al personale per att. libero professionale intramoenia - Consulenze (ex art. 55 c.1 lett. c), d) ed ex Art. 57-58)",null,{"$f":"SUMIF('00 CE'!B:B,'Tab 58 bis'!A67,'00 CE'!G:G)","v":335908.3},null,null,{"$f":"IF(VLOOKUP(A67,'00 CE'!$B$4:$D$565,3,0)=0,\"\",VLOOKUP(A67,'00 CE'!$B$4:$D$565,3,0))","v":""}]
["BA1250","B.2.A.13.5)  Compartecipazione al personale per att. libero professionale intramoenia - Consulenze (ex art. 55 c.1 lett. c), d) ed ex Art. 57-58) (Aziende sanitarie pubbliche della Regione)",null,{"$f":"SUMIF('00 CE'!B:B,'Tab 58 bis'!A68,'00 CE'!G:G)","v":0},null,null,{"$f":"IF(VLOOKUP(A68,'00 CE'!$B$4:$D$565,3,0)=0,\"\",VLOOKUP(A68,'00 CE'!$B$4:$D$565,3,0))","v":""}]
["BA1260","B.2.A.13.6)  Compartecipazione al personale per att. libero professionale intramoenia - Altro",null,{"$f":"SUMIF('00 CE'!B:B,'Tab 58 bis'!A69,'00 CE'!G:G)","v":53017.42},null,null,{"$f":"IF(VLOOKUP(A69,'00 CE'!$B$4:$D$565,3,0)=0,\"\",VLOOKUP(A69,'00 CE'!$B$4:$D$565,3,0))","v":""}]
["BA1270","B.2.A.13.7)  Compartecipazione al personale per att. libero  professionale intramoenia - Altro (Aziende sanitarie pubbliche della Regione)",null,{"$f":"SUMIF('00 CE'!B:B,'Tab 58 bis'!A70,'00 CE'!G:G)","v":0},null,null,{"$f":"IF(VLOOKUP(A70,'00 CE'!$B$4:$D$565,3,0)=0,\"\",VLOOKUP(A70,'00 CE'!$B$4:$D$565,3,0))","v":""}]
["BA1280","B.2.A.14)  Rimborsi, assegni e contributi sanitari",null,{"$f":"SUM(D72:D76)","v":2341034.66},"B 2) n)",null,{"$f":"IF(VLOOKUP(A71,'00 CE'!$B$4:$D$565,3,0)=0,\"\",VLOOKUP(A71,'00 CE'!$B$4:$D$565,3,0))","v":"S"}]
["BA1290","B.2.A.14.1)  Contributi ad associazioni di volontariato",null,{"$f":"SUMIF('00 CE'!B:B,'Tab 58 bis'!A72,'00 CE'!G:G)","v":367251.39},null,null,{"$f":"IF(VLOOKUP(A72,'00 CE'!$B$4:$D$565,3,0)=0,\"\",VLOOKUP(A72,'00 CE'!$B$4:$D$565,3,0))","v":""}]
["BA1300","B.2.A.14.2)  Rimborsi per cure all'estero",null,{"$f":"SUMIF('00 CE'!B:B,'Tab 58 bis'!A73,'00 CE'!G:G)","v":12227.29},null,null,{"$f":"IF(VLOOKUP(A73,'00 CE'!$B$4:$D$565,3,0)=0,\"\",VLOOKUP(A73,'00 CE'!$B$4:$D$565,3,0))","v":""}]
["BA1330","B.2.A.14.5)  Altri rimborsi, assegni e contributi",null,{"$f":"SUMIF('00 CE'!B:B,'Tab 58 bis'!A74,'00 CE'!G:G)","v":1961555.98},null,null,{"$f":"IF(VLOOKUP(A74,'00 CE'!$B$4:$D$565,3,0)=0,\"\",VLOOKUP(A74,'00 CE'!$B$4:$D$565,3,0))","v":""}]
["BA1340","B.2.A.14.6)  Rimborsi, assegni e contributi v/Aziende sanitarie pubbliche della Regione",null,{"$f":"SUMIF('00 CE'!B:B,'Tab 58 bis'!A75,'00 CE'!G:G)","v":0},null,null,{"$f":"IF(VLOOKUP(A75,'00 CE'!$B$4:$D$565,3,0)=0,\"\",VLOOKUP(A75,'00 CE'!$B$4:$D$565,3,0))","v":""}]
["BA1341","B.2.A.14.7)  Rimborsi, assegni e contributi v/Regione - GSA",null,{"$f":"SUMIF('00 CE'!B:B,'Tab 58 bis'!A76,'00 CE'!G:G)","v":0},null,null,{"$f":"IF(VLOOKUP(A76,'00 CE'!$B$4:$D$565,3,0)=0,\"\",VLOOKUP(A76,'00 CE'!$B$4:$D$565,3,0))","v":""}]
["BA1350","B.2.A.15)  Consulenze, Collaborazioni,  Interinale e altre prestazioni di lavoro sanitarie e sociosanitarie",null,{"$f":"SUMIF('00 CE'!B:B,'Tab 58 bis'!A77,'00 CE'!G:G)","v":5940516.5399999991},"B 2) o)",null,{"$f":"IF(VLOOKUP(A77,'00 CE'!$B$4:$D$565,3,0)=0,\"\",VLOOKUP(A77,'00 CE'!$B$4:$D$565,3,0))","v":"S"}]
["BA1490","B.2.A.16) Altri servizi sanitari e sociosanitari a rilevanza sanitaria",null,{"$f":"SUMIF('00 CE'!B:B,'Tab 58 bis'!A78,'00 CE'!G:G)","v":7243962.9199999999},"B 2) p)"]
["BA1540"," di cui :  Costi per servizi sanitari - Mobilità internazionale passiva","c",{"$f":"SUMIF('00 CE'!B:B,'Tab 58 bis'!A79,'00 CE'!G:G)","v":2330052.7799999998},null,null,{"$f":"IF(VLOOKUP(A79,'00 CE'!$B$4:$D$565,3,0)=0,\"\",VLOOKUP(A79,'00 CE'!$B$4:$D$565,3,0))","v":""}]
[]
["BA0400","Totale Acquisti servizi sanitari",null,{"$f":"D4+D8+D12+D23+D28+D30+D32+D37+D43+D47+D52+D56+D63+D71+D77+D78","v":337098602.43000013},"B.2"]
[]
["Somma a","Costi da mobilità sanitaria infraregionale",null,{"$f":"D6+D10+D13+D24+D33+D38+D44+D48+D53+D57","v":52055370.390000001}]
["Somma b","Costi da mobilità sanitaria extraregionale",null,{"$f":"D7+D11+D17+D34+D45+D49+D54","v":36630568.630000003}]
["Somma c","Costi da mobilità sanitaria internazionale",null,{"$f":"D79","v":2330052.7799999998}]
["TOTALE COSTI DA MOBILITA' SANITARIA",null,null,{"$f":"SUM(D83:D85)","v":91015991.800000012},"in accordo con Tabella n. 58 "]

{"sheet":"Tab 58 riclassifica regionale","index":16,"n_rows":51,"n_cols":15,"rows_kept":51,"cut":false,"hidden":false,"merged":[[0,0,0,5],[2,1,2,8],[3,0,4,0],[3,1,4,1],[3,2,3,4],[3,5,3,7],[3,8,4,8]]}
["20.     Acquisti di servizi"]
[]
[null,"Tab. 58 – Dettaglio acquisti di servizi sanitari in mobilità ( riclassifica regionale)"]
["CODICE MOD. CE","DETTAGLIO ACQUISTI DI SERVIZI SANITARI IN MOBILITA'","PUBBLICO",null,null,"PRIVATO",null,null,"TOTALE"]
[null,null,"Avezzano-Sulmona-L'Aquila","Lanciano-Vasto-Chieti","Teramo","Avezzano-Sulmona-L'Aquila","Lanciano-Vasto-Chieti","Teramo",null,null,"VALORE CE","Diff","Ctrl",null,"SOMMA"]
[null,"COSTI DA MOBILITA' SANITARIA INFRAREGIONALE (A)",{"$f":"SUM(C8:C20)","v":3594736.6599999997},29107985.480000004,6379262.1299999999,1525771.5999999999,9181799.370000001,2265815.1500000004,52055370.390000001,null,52055370.390000001]
["BA0061","Emoderivati di produzione regionale da pubblico (Aziende sanitarie pubbliche della Regione) - Mobilità intraregionale",0,0,0,0,0,0,{"$f":"SUM(C7:H7)","v":0}]
["BA0470","Acquisti servizi sanitari per medicina di base",13400.46,24574.05,13429.89,0,0,0,{"$f":"SUM(C8:H8)","v":51404.399999999994},null,{"$f":"SUMIF('00 CE'!B:B,'Tab 58 riclassifica regionale'!A8,'00 CE'!G:G)","v":51404.4},{"$f":"I8-K8","v":0},{"$f":"IF(L8=0,\"OK\",\" CTRL\")","v":"OK"},null,{"$f":"IF(VLOOKUP(A8,'00 CE'!$B$4:$D$565,3,0)=0,\"\",VLOOKUP(A8,'00 CE'!$B$4:$D$565,3,0))","v":""}]
["BA0510","Acquisti servizi sanitari per farmaceutica",216926.18000000005,877699.17,160385.64000000001,0,0,0,{"$f":"SUM(C9:H9)","v":1255010.9900000002},null,{"$f":"SUMIF('00 CE'!B:B,'Tab 58 riclassifica regionale'!A9,'00 CE'!G:G)","v":1255010.99},{"$f":"I9-K9","v":0},{"$f":"IF(L9=0,\"OK\",\" CTRL\")","v":"OK"},null,{"$f":"IF(VLOOKUP(A9,'00 CE'!$B$4:$D$565,3,0)=0,\"\",VLOOKUP(A9,'00 CE'!$B$4:$D$565,3,0))","v":""}]
["BA0540","Acquisti servizi sanitari per assistenza specialistica ambulatoriale",571607.27999999991,6041533.5500000017,1189429.3599999999,50604.99,1169814.94,4986.97,9027977.0900000017,null,{"$f":"SUMIF('00 CE'!B:B,'Tab 58 riclassifica regionale'!A10,'00 CE'!G:G)","v":9027977.0899999999},0,"OK",null,{"$f":"IF(VLOOKUP(A10,'00 CE'!$B$4:$D$565,3,0)=0,\"\",VLOOKUP(A10,'00 CE'!$B$4:$D$565,3,0))","v":""}]
["BA0541","B.2.A.3.2) prestazioni di pronto soccorso  non seguite da ricovero - da pubblico (Aziende sanitarie pubbliche della Regione)",0,0,0,0,0,0,0,null,{"$f":"SUMIF('00 CE'!B:B,'Tab 58 riclassifica regionale'!A11,'00 CE'!G:G)","v":0},0,"OK",null,{"$f":"IF(VLOOKUP(A11,'00 CE'!$B$4:$D$565,3,0)=0,\"\",VLOOKUP(A11,'00 CE'!$B$4:$D$565,3,0))","v":""}]
["BA0650","Acquisti servizi sanitari per assistenza riabilitativa",0,0,0,160475.56,2760468.84,2247914.48,5168858.88,null,{"$f":"SUMIF('00 CE'!B:B,'Tab 58 riclassifica regionale'!A12,'00 CE'!G:G)","v":5168858.88},0,"OK",null,{"$f":"IF(VLOOKUP(A12,'00 CE'!$B$4:$D$565,3,0)=0,\"\",VLOOKUP(A12,'00 CE'!$B$4:$D$565,3,0))","v":""}]
["BA0710","Acquisti servizi sanitari per assistenza integrativa",0,0,0,0,0,0,0,null,{"$f":"SUMIF('00 CE'!B:B,'Tab 58 riclassifica regionale'!A13,'00 CE'!G:G)","v":0},0,"OK",null,{"$f":"IF(VLOOKUP(A13,'00 CE'!$B$4:$D$565,3,0)=0,\"\",VLOOKUP(A13,'00 CE'!$B$4:$D$565,3,0))","v":""}]
["BA0760","Acquisti servizi sanitari per assistenza protesica",0,0,0,0,0,0,0,null,{"$f":"SUMIF('00 CE'!B:B,'Tab 58 riclassifica regionale'!A14,'00 CE'!G:G)","v":0},0,"OK",null,{"$f":"IF(VLOOKUP(A14,'00 CE'!$B$4:$D$565,3,0)=0,\"\",VLOOKUP(A14,'00 CE'!$B$4:$D$565,3,0))","v":""}]
["BA0810","Acquisti servizi sanitari per assistenza ospedaliera",2614630.48,17677755.689999998,4723863.1399999997,776695.68,2259287.7000000002,0,28052232.689999998,null,{"$f":"SUMIF('00 CE'!B:B,'Tab 58 riclassifica regionale'!A15,'00 CE'!G:G)","v":28052232.689999998},0,"OK",null,{"$f":"IF(VLOOKUP(A15,'00 CE'!$B$4:$D$565,3,0)=0,\"\",VLOOKUP(A15,'00 CE'!$B$4:$D$565,3,0))","v":""}]
["BA0910","Acquisto prestazioni di psichiatria residenziale e semiresidenziale",0,0,0,492858.01,1242827.29,0,1735685.3,null,{"$f":"SUMIF('00 CE'!B:B,'Tab 58 riclassifica regionale'!A16,'00 CE'!G:G)","v":1735685.3},0,"OK",null,{"$f":"IF(VLOOKUP(A16,'00 CE'!$B$4:$D$565,3,0)=0,\"\",VLOOKUP(A16,'00 CE'!$B$4:$D$565,3,0))","v":""}]
["BA0970","Acquisto prestazioni di distribuzione farmaci File F",160099.91999999998,4412479.1500000013,285536.06000000006,0,0,0,4858115.1300000008,null,{"$f":"SUMIF('00 CE'!B:B,'Tab 58 riclassifica regionale'!A17,'00 CE'!G:G)","v":4858115.13},0,"OK",null,{"$f":"IF(VLOOKUP(A17,'00 CE'!$B$4:$D$565,3,0)=0,\"\",VLOOKUP(A17,'00 CE'!$B$4:$D$565,3,0))","v":""}]
["BA1040","Acquisto prestazioni termali in convenzione",0,0,0,46.2,0,0,46.2,null,{"$f":"SUMIF('00 CE'!B:B,'Tab 58 riclassifica regionale'!A18,'00 CE'!G:G)","v":46.2},0,"OK",null,{"$f":"IF(VLOOKUP(A18,'00 CE'!$B$4:$D$565,3,0)=0,\"\",VLOOKUP(A18,'00 CE'!$B$4:$D$565,3,0))","v":""}]
["BA1100","Acquisto prestazioni trasporto sanitario",18072.34,73943.87,6618.04,0,0,0,98634.249999999985,null,{"$f":"SUMIF('00 CE'!B:B,'Tab 58 riclassifica regionale'!A19,'00 CE'!G:G)","v":98634.25},0,"OK",null,{"$f":"IF(VLOOKUP(A19,'00 CE'!$B$4:$D$565,3,0)=0,\"\",VLOOKUP(A19,'00 CE'!$B$4:$D$565,3,0))","v":""}]
["BA1150","Acquisto prestazioni Socio-Sanitarie a rilevanza sanitaria",0,0,0,45091.16,{"$f":"1434685.5+314715.1","v":1749400.6},12913.7,1807405.46,null,{"$f":"SUMIF('00 CE'!B:B,'Tab 58 riclassifica regionale'!A20,'00 CE'!G:G)","v":1807405.46},0,"OK",null,{"$f":"IF(VLOOKUP(A20,'00 CE'!$B$4:$D$565,3,0)=0,\"\",VLOOKUP(A20,'00 CE'!$B$4:$D$565,3,0))","v":"S"}]
[]
[null,"COSTI DA MOBILITA' SANITARIA EXTRAREGIONALE (B)",{"$f":"SUM(C25:C34)","v":0},0,0,0,0,0,36630568.630000003]
["BA0062","Emoderivati di produzione regionale da pubblico (Aziende sanitarie pubbliche della Regione) - Mobilità extraregionale",null,null,null,null,null,null,{"$f":"SUMIF('00 CE'!B:B,'Tab 58 riclassifica regionale'!A23,'00 CE'!G:G)","v":0}]
["BA0090","da pubblico (Aziende sanitarie pubbliche extra Regione) – Mobilità extraregionale",null,null,null,null,null,null,{"$f":"SUMIF('00 CE'!B:B,'Tab 58 riclassifica regionale'!A24,'00 CE'!G:G)","v":0}]
["BA0480","Acquisti servizi sanitari per medicina di base",null,null,null,null,null,null,{"$f":"SUMIF('00 CE'!B:B,'Tab 58 riclassifica regionale'!A25,'00 CE'!G:G)","v":202760.17},null,null,null,null,null,{"$f":"IF(VLOOKUP(A25,'00 CE'!$B$4:$D$565,3,0)=0,\"\",VLOOKUP(A25,'00 CE'!$B$4:$D$565,3,0))","v":""}]
["BA0520","Acquisti servizi sanitari per farmaceutica",null,null,null,null,null,null,{"$f":"SUMIF('00 CE'!B:B,'Tab 58 riclassifica regionale'!A26,'00 CE'!G:G)","v":504044.37},null,null,null,null,null,{"$f":"IF(VLOOKUP(A26,'00 CE'!$B$4:$D$565,3,0)=0,\"\",VLOOKUP(A26,'00 CE'!$B$4:$D$565,3,0))","v":""}]
["BA0560","Acquisti servizi sanitari per assistenza specialistica ambulatoriale",null,null,null,null,null,null,{"$f":"SUMIF('00 CE'!B:B,'Tab 58 riclassifica regionale'!A27,'00 CE'!G:G)","v":3402818.86},null,null,null,null,null,{"$f":"IF(VLOOKUP(A27,'00 CE'!$B$4:$D$565,3,0)=0,\"\",VLOOKUP(A27,'00 CE'!$B$4:$D$565,3,0))","v":""}]
["BA0561","B.2.A.3.6) prestazioni di pronto soccorso  non seguite da ricovero - da pubblico (Extraregione)",null,null,null,null,null,null,{"$f":"SUMIF('00 CE'!B:B,'Tab 58 riclassifica regionale'!A28,'00 CE'!G:G)","v":0},null,null,null,null,null,{"$f":"IF(VLOOKUP(A28,'00 CE'!$B$4:$D$565,3,0)=0,\"\",VLOOKUP(A28,'00 CE'!$B$4:$D$565,3,0))","v":""}]
["BA0730","Acquisti servizi sanitari per assistenza integrativa",null,null,null,null,null,null,{"$f":"SUMIF('00 CE'!B:B,'Tab 58 riclassifica regionale'!A29,'00 CE'!G:G)","v":0},null,null,null,null,null,{"$f":"IF(VLOOKUP(A29,'00 CE'!$B$4:$D$565,3,0)=0,\"\",VLOOKUP(A29,'00 CE'!$B$4:$D$565,3,0))","v":""}]
["BA0780","Acquisti servizi sanitari per assistenza protesica",null,null,null,null,null,null,{"$f":"SUMIF('00 CE'!B:B,'Tab 58 riclassifica regionale'!A30,'00 CE'!G:G)","v":0},null,null,null,null,null,{"$f":"IF(VLOOKUP(A30,'00 CE'!$B$4:$D$565,3,0)=0,\"\",VLOOKUP(A30,'00 CE'!$B$4:$D$565,3,0))","v":""}]
["BA0830","Acquisti servizi sanitari per assistenza ospedaliera",null,null,null,null,null,null,{"$f":"SUMIF('00 CE'!B:B,'Tab 58 riclassifica regionale'!A31,'00 CE'!G:G)","v":30364599.559999999},null,null,null,null,null,{"$f":"IF(VLOOKUP(A31,'00 CE'!$B$4:$D$565,3,0)=0,\"\",VLOOKUP(A31,'00 CE'!$B$4:$D$565,3,0))","v":""}]
["BA0990","Acquisto prestazioni di distribuzione farmaci e File F",null,null,null,null,null,null,{"$f":"SUMIF('00 CE'!B:B,'Tab 58 riclassifica regionale'!A32,'00 CE'!G:G)","v":1901052.91},null,null,null,null,null,{"$f":"IF(VLOOKUP(A32,'00 CE'!$B$4:$D$565,3,0)=0,\"\",VLOOKUP(A32,'00 CE'!$B$4:$D$565,3,0))","v":""}]
["BA1060","Acquisto prestazioni termali in convenzione",null,null,null,null,null,null,{"$f":"SUMIF('00 CE'!B:B,'Tab 58 riclassifica regionale'!A33,'00 CE'!G:G)","v":106826.2},null,null,null,null,null,{"$f":"IF(VLOOKUP(A33,'00 CE'!$B$4:$D$565,3,0)=0,\"\",VLOOKUP(A33,'00 CE'!$B$4:$D$565,3,0))","v":""}]
["BA1120","Acquisto prestazioni trasporto sanitario",null,null,null,null,null,null,{"$f":"SUMIF('00 CE'!B:B,'Tab 58 riclassifica regionale'!A34,'00 CE'!G:G)","v":148466.56}]
[null,"TOTALE COSTI DA MOBILITA' (A+B)",{"$f":"C6+C22","v":3594736.6599999997},29107985.480000004,6379262.1299999999,1525771.5999999999,9181799.370000001,2265815.1500000004,88685939.020000011]
[]
[]
[]
[]
[]
[]
[]
[null,"COSTI PER PRESTAZIONI OGGETTO DI FATTURAZIONE DIRETTA INFRAREGIONALE (C)",466796.15,41456.720000000001,119237.35,0,0,0,{"$f":"SUM(C43:H43)","v":627490.22}]
[]
[null,"COSTI PER PREST. OGGETTO DI FATTUR. DIRETTA EXTRAREGIONALE (D)",null,null,null,null,null,null,{"$f":"156346.41+163730.41","v":320076.82}]
[]
[null,"TOTALE COSTI PER PREST. OGGETTO DI FATTURAZ. DIRETTA (C+D)",{"$f":"C43+C45","v":466796.15},{"$f":"D43+D45","v":41456.720000000001},119237.35,0,0,0,947567.04]
[]
[null,"TOTALE COSTI AZIENDE REGIONE (A+C)",{"$f":"C43+C6","v":4061532.8099999996},29149442.200000003,6498499.4799999995,1525771.5999999999,9181799.370000001,2265815.1500000004,52682860.609999999]
[null,"TOTALE COSTI AZIENDE EXTRA REGIONE (B+D)",null,null,null,null,null,null,{"$f":"I22+I45","v":36950645.450000003}]
[null,"TOTALE COSTI AZIENDE SANITARIE PUBBLICHE (A+B+C+D)",{"$f":"C35+C43+C45","v":4061532.8099999996},29149442.200000003,6498499.4799999995,1525771.5999999999,9181799.370000001,2265815.1500000004,89633506.060000002]

{"sheet":"Tab 59-60","index":17,"n_rows":137,"n_cols":8,"rows_kept":137,"cut":false,"hidden":false,"merged":[[0,1,0,5],[1,0,2,0],[1,1,2,1],[1,2,2,2],[1,3,2,3],[1,4,2,4],[1,5,2,5],[1,7,2,7],[80,1,80,5],[81,0,82,0],[81,1,82,1],[81,2,82,2],[81,3,82,3],[81,4,82,4],[81,5,82,5]]}
[null,"Tab. 59 – Dettaglio acquisti di servizi sanitari – I parte"]
["CODICE MOD. CE","DETTAGLIO ACQUISTI DI SERVIZI SANITARI",{"$f":"\"Valore CE \" &'00 Aggregatore'!$F$2","v":"Valore CE 2019"},{"$f":"\"Valore CE \" &'00 Aggregatore'!$F$2 -1","v":"Valore CE 2018"},"Variazioni\nimporto","Variazioni\n%",null,"SOMMA"]
[]
["BA0410","ACQUISTI DI SERVIZI SANITARI - MEDICINA DI BASE",{"$f":"C5+C10+C11","v":35330014.780000001},{"$f":"D5+D10+D11","v":35909283.82},{"$f":"C4-D4","v":-579269.03999999911},{"$f":"IF(AND(C4=0,D4=0),0,IF(C4=0,\"\",IF(D4=0,\"\",E4/D4)))","v":-1.6131456224625956E-2}]
["BA0420","- da convenzione",{"$f":"SUMIF('00 CE'!$B:$B,$A5,'00 CE'!G:G)","v":35075850.210000001},{"$f":"SUMIF('00 CE'!$B:$B,$A5,'00 CE'!F:F)","v":35653505.32},{"$f":"C5-D5","v":-577655.1099999994},{"$f":"IF(AND(C5=0,D5=0),0,IF(C5=0,\"\",IF(D5=0,\"\",E5/D5)))","v":-1.6201916328153043E-2},null,{"$f":"IF(A5=\"\",\"\",IF(VLOOKUP(A5,'00 CE'!$B$4:$D$565,3,0)=0,\"\",VLOOKUP(A5,'00 CE'!$B$4:$D$565,3,0)))","v":"S"}]
["BA0430","Costi per assistenza MMG",{"$f":"SUMIF('00 CE'!$B:$B,$A6,'00 CE'!G:G)","v":23959444.879999999},{"$f":"SUMIF('00 CE'!$B:$B,$A6,'00 CE'!F:F)","v":24517314.75},{"$f":"C6-D6","v":-557869.87000000104},-2.2754117883158516E-2,null,{"$f":"IF(A6=\"\",\"\",IF(VLOOKUP(A6,'00 CE'!$B$4:$D$565,3,0)=0,\"\",VLOOKUP(A6,'00 CE'!$B$4:$D$565,3,0)))","v":""}]
["BA0440","Costi per assistenza PLS",{"$f":"SUMIF('00 CE'!$B:$B,$A7,'00 CE'!G:G)","v":5870213.8600000003},{"$f":"SUMIF('00 CE'!$B:$B,$A7,'00 CE'!F:F)","v":6415070.5300000003},-544856.66999999993,-8.4933854967296815E-2,null,{"$f":"IF(A7=\"\",\"\",IF(VLOOKUP(A7,'00 CE'!$B$4:$D$565,3,0)=0,\"\",VLOOKUP(A7,'00 CE'!$B$4:$D$565,3,0)))","v":""}]
["BA0450","Costi per assistenza Continuità assistenziale",{"$f":"SUMIF('00 CE'!$B:$B,$A8,'00 CE'!G:G)","v":4254569.59},{"$f":"SUMIF('00 CE'!$B:$B,$A8,'00 CE'!F:F)","v":3931463.93},323105.65999999968,8.218456680588182E-2,null,{"$f":"IF(A8=\"\",\"\",IF(VLOOKUP(A8,'00 CE'!$B$4:$D$565,3,0)=0,\"\",VLOOKUP(A8,'00 CE'!$B$4:$D$565,3,0)))","v":""}]
["BA0460","Altro (medicina dei servizi, psicologi, medici 118, ecc)",{"$f":"SUMIF('00 CE'!$B:$B,$A9,'00 CE'!G:G)","v":991621.88},{"$f":"SUMIF('00 CE'!$B:$B,$A9,'00 CE'!F:F)","v":789656.11},201965.77000000002,0.25576420854895937,null,{"$f":"IF(A9=\"\",\"\",IF(VLOOKUP(A9,'00 CE'!$B$4:$D$565,3,0)=0,\"\",VLOOKUP(A9,'00 CE'!$B$4:$D$565,3,0)))","v":""}]
["BA0470","- da pubblico (Aziende sanitarie pubbliche della Regione) - Mobilità intraregionale",{"$f":"SUMIF('00 CE'!$B:$B,$A10,'00 CE'!G:G)","v":51404.4},{"$f":"SUMIF('00 CE'!$B:$B,$A10,'00 CE'!F:F)","v":38671},12733.400000000001,0.32927516743813195,null,{"$f":"IF(A10=\"\",\"\",IF(VLOOKUP(A10,'00 CE'!$B$4:$D$565,3,0)=0,\"\",VLOOKUP(A10,'00 CE'!$B$4:$D$565,3,0)))","v":""}]
["BA0480","- da pubblico (Aziende sanitarie pubbliche Extraregione) - Mobilità extraregionale",{"$f":"SUMIF('00 CE'!$B:$B,$A11,'00 CE'!G:G)","v":202760.17},{"$f":"SUMIF('00 CE'!$B:$B,$A11,'00 CE'!F:F)","v":217107.5},-14347.329999999987,-6.6083990649793242E-2,null,{"$f":"IF(A11=\"\",\"\",IF(VLOOKUP(A11,'00 CE'!$B$4:$D$565,3,0)=0,\"\",VLOOKUP(A11,'00 CE'!$B$4:$D$565,3,0)))","v":""}]
[null,"ACQUISTI DI SERVIZI SANITARI - FARMACEUTICA",{"$f":"SUM(C13:C15)","v":48380817.380000003},{"$f":"SUM(D13:D15)","v":51864361.029999994},{"$f":"SUM(E13:E15)","v":-3483543.6499999934},-6.716642374105411E-2,null,{"$f":"IF(A12=\"\",\"\",IF(VLOOKUP(A12,'00 CE'!$B$4:$D$565,3,0)=0,\"\",VLOOKUP(A12,'00 CE'!$B$4:$D$565,3,0)))","v":""}]
["BA0500","- da convenzione",{"$f":"SUMIF('00 CE'!$B:$B,$A13,'00 CE'!G:G)","v":46621762.020000003},{"$f":"SUMIF('00 CE'!$B:$B,$A13,'00 CE'!F:F)","v":50129678.229999997},{"$f":"C13-D13","v":-3507916.2099999934},-6.9976834758550044E-2,null,{"$f":"IF(A13=\"\",\"\",IF(VLOOKUP(A13,'00 CE'!$B$4:$D$565,3,0)=0,\"\",VLOOKUP(A13,'00 CE'!$B$4:$D$565,3,0)))","v":""}]
["BA0510","- da pubblico (Aziende sanitarie pubbliche della Regione)- Mobilità intraregionale",{"$f":"SUMIF('00 CE'!$B:$B,$A14,'00 CE'!G:G)","v":1255010.99},{"$f":"SUMIF('00 CE'!$B:$B,$A14,'00 CE'!F:F)","v":1277628.07},-22617.080000000075,-1.7702397537336569E-2,null,{"$f":"IF(A14=\"\",\"\",IF(VLOOKUP(A14,'00 CE'!$B$4:$D$565,3,0)=0,\"\",VLOOKUP(A14,'00 CE'!$B$4:$D$565,3,0)))","v":""}]
["BA0520","- da pubblico (Extraregione)",{"$f":"SUMIF('00 CE'!$B:$B,$A15,'00 CE'!G:G)","v":504044.37},{"$f":"SUMIF('00 CE'!$B:$B,$A15,'00 CE'!F:F)","v":457054.73},46989.640000000014,0.10280965695289931,null,{"$f":"IF(A15=\"\",\"\",IF(VLOOKUP(A15,'00 CE'!$B$4:$D$565,3,0)=0,\"\",VLOOKUP(A15,'00 CE'!$B$4:$D$565,3,0)))","v":""}]
[null,"ACQUISTI DI SERVIZI SANITARI PER ASSITENZA SPECIALISTICA AMBULATORIALE",{"$f":"C17+C18+C19+C20+C22+C21+C23+C24+C33","v":26090460.290000003},{"$f":"D17+D19+D21+D23+D24+D33","v":26809571.489999998},{"$f":"C16-D16","v":-719111.19999999553},-2.6822927784139514E-2,null,{"$f":"IF(A16=\"\",\"\",IF(VLOOKUP(A16,'00 CE'!$B$4:$D$565,3,0)=0,\"\",VLOOKUP(A16,'00 CE'!$B$4:$D$565,3,0)))","v":""}]
["BA0540","- da pubblico (Aziende sanitarie pubbliche della Regione)",{"$f":"SUMIF('00 CE'!$B:$B,$A17,'00 CE'!G:G)","v":9027977.0899999999},{"$f":"SUMIF('00 CE'!$B:$B,$A17,'00 CE'!F:F)","v":8879359.5700000003},148617.51999999955,1.6737414317821071E-2,null,{"$f":"IF(A17=\"\",\"\",IF(VLOOKUP(A17,'00 CE'!$B$4:$D$565,3,0)=0,\"\",VLOOKUP(A17,'00 CE'!$B$4:$D$565,3,0)))","v":""}]
["BA0541","B.2.A.3.2) prestazioni di pronto soccorso  non seguite da ricovero - da pubblico (Aziende sanitarie pubbliche della Regione)",{"$f":"SUMIF('00 CE'!$B:$B,$A18,'00 CE'!G:G)","v":0},{"$f":"SUMIF('00 CE'!$B:$B,$A18,'00 CE'!F:F)","v":0},0,{"$f":"IF(AND(C18=0,D18=0),0,IF(C18=0,\"\",IF(D18=0,\"\",E18/D18)))","v":0},null,{"$f":"IF(A18=\"\",\"\",IF(VLOOKUP(A18,'00 CE'!$B$4:$D$565,3,0)=0,\"\",VLOOKUP(A18,'00 CE'!$B$4:$D$565,3,0)))","v":""}]
["BA0550","- da pubblico (altri soggetti pubbl. della Regione)",{"$f":"SUMIF('00 CE'!$B:$B,$A19,'00 CE'!G:G)","v":580281.24},{"$f":"SUMIF('00 CE'!$B:$B,$A19,'00 CE'!F:F)","v":360209.89},220071.34999999998,0.61095310292563032,null,{"$f":"IF(A19=\"\",\"\",IF(VLOOKUP(A19,'00 CE'!$B$4:$D$565,3,0)=0,\"\",VLOOKUP(A19,'00 CE'!$B$4:$D$565,3,0)))","v":""}]
["BA0551","B.2.A.3.4) prestazioni di pronto soccorso  non seguite da ricovero - da pubblico (altri soggetti pubbl. della Regione)",{"$f":"SUMIF('00 CE'!$B:$B,$A20,'00 CE'!G:G)","v":0},{"$f":"SUMIF('00 CE'!$B:$B,$A20,'00 CE'!F:F)","v":0},0,{"$f":"IF(AND(C20=0,D20=0),0,IF(C20=0,\"\",IF(D20=0,\"\",E20/D20)))","v":0},null,{"$f":"IF(A20=\"\",\"\",IF(VLOOKUP(A20,'00 CE'!$B$4:$D$565,3,0)=0,\"\",VLOOKUP(A20,'00 CE'!$B$4:$D$565,3,0)))","v":""}]
["BA0560","- da pubblico (Extraregione)",{"$f":"SUMIF('00 CE'!$B:$B,$A21,'00 CE'!G:G)","v":3402818.86},{"$f":"SUMIF('00 CE'!$B:$B,$A21,'00 CE'!F:F)","v":4000753.58},-597934.7200000002,-0.14945552332668291,null,{"$f":"IF(A21=\"\",\"\",IF(VLOOKUP(A21,'00 CE'!$B$4:$D$565,3,0)=0,\"\",VLOOKUP(A21,'00 CE'!$B$4:$D$565,3,0)))","v":""}]
["BA0561","B.2.A.3.6) prestazioni di pronto soccorso  non seguite da ricovero - da pubblico (Extraregione)",{"$f":"SUMIF('00 CE'!$B:$B,$A22,'00 CE'!G:G)","v":0},{"$f":"SUMIF('00 CE'!$B:$B,$A22,'00 CE'!F:F)","v":0},0,{"$f":"IF(AND(C22=0,D22=0),0,IF(C22=0,\"\",IF(D22=0,\"\",E22/D22)))","v":0},null,{"$f":"IF(A22=\"\",\"\",IF(VLOOKUP(A22,'00 CE'!$B$4:$D$565,3,0)=0,\"\",VLOOKUP(A22,'00 CE'!$B$4:$D$565,3,0)))","v":""}]
["BA0570","- da privato - Medici SUMAI",{"$f":"SUMIF('00 CE'!$B:$B,$A23,'00 CE'!G:G)","v":4184408.7},{"$f":"SUMIF('00 CE'!$B:$B,$A23,'00 CE'!F:F)","v":4486744.21},-302335.50999999978,-6.7384164518707823E-2,null,{"$f":"IF(A23=\"\",\"\",IF(VLOOKUP(A23,'00 CE'!$B$4:$D$565,3,0)=0,\"\",VLOOKUP(A23,'00 CE'!$B$4:$D$565,3,0)))","v":""}]
["BA0580","- da privato",{"$f":"SUMIF('00 CE'!$B:$B,$A24,'00 CE'!G:G)","v":8698101.9199999999},{"$f":"SUMIF('00 CE'!$B:$B,$A24,'00 CE'!F:F)","v":8885806.0099999998},-187704.08999999985,-2.1124036445175541E-2,null,{"$f":"IF(A24=\"\",\"\",IF(VLOOKUP(A24,'00 CE'!$B$4:$D$565,3,0)=0,\"\",VLOOKUP(A24,'00 CE'!$B$4:$D$565,3,0)))","v":"S"}]
["BA0590","Servizi sanitari per assistenza specialistica da IRCCS privati e Policlinici privati",{"$f":"SUMIF('00 CE'!$B:$B,$A25,'00 CE'!G:G)","v":55662.5},{"$f":"SUMIF('00 CE'!$B:$B,$A25,'00 CE'!F:F)","v":83336.34},-27673.839999999997,-0.3320740987665165,null,{"$f":"IF(A25=\"\",\"\",IF(VLOOKUP(A25,'00 CE'!$B$4:$D$565,3,0)=0,\"\",VLOOKUP(A25,'00 CE'!$B$4:$D$565,3,0)))","v":""}]
["BA0591","B.2.A.3.8.B) Servizi sanitari per prestazioni di pronto soccorso non seguite da ricovero - da IRCCS privati e Policlinici privati",{"$f":"SUMIF('00 CE'!$B:$B,$A26,'00 CE'!G:G)","v":0},{"$f":"SUMIF('00 CE'!$B:$B,$A26,'00 CE'!F:F)","v":0},0,{"$f":"IF(AND(C26=0,D26=0),0,IF(C26=0,\"\",IF(D26=0,\"\",E26/D26)))","v":0},null,{"$f":"IF(A26=\"\",\"\",IF(VLOOKUP(A26,'00 CE'!$B$4:$D$565,3,0)=0,\"\",VLOOKUP(A26,'00 CE'!$B$4:$D$565,3,0)))","v":""}]
["BA0600","Servizi sanitari per assistenza specialistica da Ospedali Classificati privati",{"$f":"SUMIF('00 CE'!$B:$B,$A27,'00 CE'!G:G)","v":0},{"$f":"SUMIF('00 CE'!$B:$B,$A27,'00 CE'!F:F)","v":0},0,0,null,{"$f":"IF(A27=\"\",\"\",IF(VLOOKUP(A27,'00 CE'!$B$4:$D$565,3,0)=0,\"\",VLOOKUP(A27,'00 CE'!$B$4:$D$565,3,0)))","v":""}]
["BA0601","B.2.A.3.8.D) Servizi sanitari per prestazioni di pronto soccorso non seguite da ricovero - da Ospedali Classificati privati",{"$f":"SUMIF('00 CE'!$B:$B,$A28,'00 CE'!G:G)","v":0},{"$f":"SUMIF('00 CE'!$B:$B,$A28,'00 CE'!F:F)","v":0},0,{"$f":"IF(AND(C28=0,D28=0),0,IF(C28=0,\"\",IF(D28=0,\"\",E28/D28)))","v":0},null,{"$f":"IF(A28=\"\",\"\",IF(VLOOKUP(A28,'00 CE'!$B$4:$D$565,3,0)=0,\"\",VLOOKUP(A28,'00 CE'!$B$4:$D$565,3,0)))","v":""}]
["BA0610","Servizi sanitari per assistenza specialistica da Case di Cura private",{"$f":"SUMIF('00 CE'!$B:$B,$A29,'00 CE'!G:G)","v":5344557.33},{"$f":"SUMIF('00 CE'!$B:$B,$A29,'00 CE'!F:F)","v":5463686.8200000003},-119129.49000000022,-2.1803865031927328E-2,null,{"$f":"IF(A29=\"\",\"\",IF(VLOOKUP(A29,'00 CE'!$B$4:$D$565,3,0)=0,\"\",VLOOKUP(A29,'00 CE'!$B$4:$D$565,3,0)))","v":""}]
["BA0611","B.2.A.3.8.F) Servizi sanitari per prestazioni di pronto soccorso non seguite da ricovero - da Case di Cura private",{"$f":"SUMIF('00 CE'!$B:$B,$A30,'00 CE'!G:G)","v":0},{"$f":"SUMIF('00 CE'!$B:$B,$A30,'00 CE'!F:F)","v":0},0,{"$f":"IF(AND(C30=0,D30=0),0,IF(C30=0,\"\",IF(D30=0,\"\",E30/D30)))","v":0},null,{"$f":"IF(A30=\"\",\"\",IF(VLOOKUP(A30,'00 CE'!$B$4:$D$565,3,0)=0,\"\",VLOOKUP(A30,'00 CE'!$B$4:$D$565,3,0)))","v":""}]
["BA0620","Servizi sanitari per assistenza specialistica da altri privati",{"$f":"SUMIF('00 CE'!$B:$B,$A31,'00 CE'!G:G)","v":3297882.0900000003},{"$f":"SUMIF('00 CE'!$B:$B,$A31,'00 CE'!F:F)","v":3338782.85},-40900.759999999776,-1.2250200698137578E-2,null,{"$f":"IF(A31=\"\",\"\",IF(VLOOKUP(A31,'00 CE'!$B$4:$D$565,3,0)=0,\"\",VLOOKUP(A31,'00 CE'!$B$4:$D$565,3,0)))","v":""}]
["BA0621","B.2.A.3.8.H) Servizi sanitari per prestazioni di pronto soccorso non seguite da ricovero - da altri privati",{"$f":"SUMIF('00 CE'!$B:$B,$A32,'00 CE'!G:G)","v":0},{"$f":"SUMIF('00 CE'!$B:$B,$A32,'00 CE'!F:F)","v":0},0,{"$f":"IF(AND(C32=0,D32=0),0,IF(C32=0,\"\",IF(D32=0,\"\",E32/D32)))","v":0},null,{"$f":"IF(A32=\"\",\"\",IF(VLOOKUP(A32,'00 CE'!$B$4:$D$565,3,0)=0,\"\",VLOOKUP(A32,'00 CE'!$B$4:$D$565,3,0)))","v":""}]
["BA0630","- da privato per cittadini non residenti - Extraregione (mobilità attiva in compensazione)",{"$f":"SUMIF('00 CE'!$B:$B,$A33,'00 CE'!G:G)","v":196872.47999999998},{"$f":"SUMIF('00 CE'!$B:$B,$A33,'00 CE'!F:F)","v":196698.22999999998},174.25,8.8587477375876749E-4,null,{"$f":"IF(A33=\"\",\"\",IF(VLOOKUP(A33,'00 CE'!$B$4:$D$565,3,0)=0,\"\",VLOOKUP(A33,'00 CE'!$B$4:$D$565,3,0)))","v":""}]
["BA0631","B.2.A.3.10) Servizi sanitari per prestazioni di pronto soccorso non seguite da ricovero - da privato per cittadini non residenti - Extraregione (mobilità attiva in compensazione)",{"$f":"SUMIF('00 CE'!$B:$B,$A34,'00 CE'!G:G)","v":0},{"$f":"SUMIF('00 CE'!$B:$B,$A34,'00 CE'!F:F)","v":0},0,{"$f":"IF(AND(C34=0,D34=0),0,IF(C34=0,\"\",IF(D34=0,\"\",E34/D34)))","v":0},null,{"$f":"IF(A34=\"\",\"\",IF(VLOOKUP(A34,'00 CE'!$B$4:$D$565,3,0)=0,\"\",VLOOKUP(A34,'00 CE'!$B$4:$D$565,3,0)))","v":""}]
["BA0640","ACQUISTI DI SERVIZI SANITARI PER ASSISTENZA RIABILITATIVA",{"$f":"SUM(C36:C40)","v":20274723.890000001},{"$f":"SUM(D36:D40)","v":19990902.559999999},283821.33000000194,1.4197524556390112E-2,null,{"$f":"IF(A35=\"\",\"\",IF(VLOOKUP(A35,'00 CE'!$B$4:$D$565,3,0)=0,\"\",VLOOKUP(A35,'00 CE'!$B$4:$D$565,3,0)))","v":"S"}]
["BA0650","- da pubblico (Aziende sanitarie pubbliche della Regione)",{"$f":"SUMIF('00 CE'!$B:$B,$A36,'00 CE'!G:G)","v":5168858.88},{"$f":"SUMIF('00 CE'!$B:$B,$A36,'00 CE'!F:F)","v":4832965.95},335892.9299999997,6.9500371712736708E-2,null,{"$f":"IF(A36=\"\",\"\",IF(VLOOKUP(A36,'00 CE'!$B$4:$D$565,3,0)=0,\"\",VLOOKUP(A36,'00 CE'!$B$4:$D$565,3,0)))","v":""}]
["BA0660","- da pubblico (altri soggetti pubbl. della Regione)",{"$f":"SUMIF('00 CE'!$B:$B,$A37,'00 CE'!G:G)","v":0},{"$f":"SUMIF('00 CE'!$B:$B,$A37,'00 CE'!F:F)","v":0},0,0,null,{"$f":"IF(A37=\"\",\"\",IF(VLOOKUP(A37,'00 CE'!$B$4:$D$565,3,0)=0,\"\",VLOOKUP(A37,'00 CE'!$B$4:$D$565,3,0)))","v":""}]
["BA0670","- da pubblico (Extraregione) non soggetti a compensazione",{"$f":"SUMIF('00 CE'!$B:$B,$A38,'00 CE'!G:G)","v":0},{"$f":"SUMIF('00 CE'!$B:$B,$A38,'00 CE'!F:F)","v":0},0,0,null,{"$f":"IF(A38=\"\",\"\",IF(VLOOKUP(A38,'00 CE'!$B$4:$D$565,3,0)=0,\"\",VLOOKUP(A38,'00 CE'!$B$4:$D$565,3,0)))","v":""}]
["BA0680","- da privato (intraregionale)",{"$f":"SUMIF('00 CE'!$B:$B,$A39,'00 CE'!G:G)","v":14522765.17},{"$f":"SUMIF('00 CE'!$B:$B,$A39,'00 CE'!F:F)","v":14612451.73},-89686.560000000522,-6.1376804972344311E-3,null,{"$f":"IF(A39=\"\",\"\",IF(VLOOKUP(A39,'00 CE'!$B$4:$D$565,3,0)=0,\"\",VLOOKUP(A39,'00 CE'!$B$4:$D$565,3,0)))","v":""}]
["BA0690","- da privato (extraregionale)",{"$f":"SUMIF('00 CE'!$B:$B,$A40,'00 CE'!G:G)","v":583099.84},{"$f":"SUMIF('00 CE'!$B:$B,$A40,'00 CE'!F:F)","v":545484.88},37614.959999999963,6.8956925075540063E-2,null,{"$f":"IF(A40=\"\",\"\",IF(VLOOKUP(A40,'00 CE'!$B$4:$D$565,3,0)=0,\"\",VLOOKUP(A40,'00 CE'!$B$4:$D$565,3,0)))","v":""}]
["BA0700","ACQUISTI DI SERVIZI SANITARI PER ASSISTENZA INTEGRATIVA",{"$f":"SUM(C42:C45)","v":1733047.08},{"$f":"SUM(D42:D45)","v":1802068.84},-69021.760000000009,-3.8301400295007601E-2,null,{"$f":"IF(A41=\"\",\"\",IF(VLOOKUP(A41,'00 CE'!$B$4:$D$565,3,0)=0,\"\",VLOOKUP(A41,'00 CE'!$B$4:$D$565,3,0)))","v":"S"}]
["BA0710","- da pubblico (Aziende sanitarie pubbliche della Regione)",{"$f":"SUMIF('00 CE'!$B:$B,$A42,'00 CE'!G:G)","v":0},{"$f":"SUMIF('00 CE'!$B:$B,$A42,'00 CE'!F:F)","v":0},0,0,null,{"$f":"IF(A42=\"\",\"\",IF(VLOOKUP(A42,'00 CE'!$B$4:$D$565,3,0)=0,\"\",VLOOKUP(A42,'00 CE'!$B$4:$D$565,3,0)))","v":""}]
["BA0720","- da pubblico (altri soggetti pubbl. della Regione)",{"$f":"SUMIF('00 CE'!$B:$B,$A43,'00 CE'!G:G)","v":0},{"$f":"SUMIF('00 CE'!$B:$B,$A43,'00 CE'!F:F)","v":0},0,0,null,{"$f":"IF(A43=\"\",\"\",IF(VLOOKUP(A43,'00 CE'!$B$4:$D$565,3,0)=0,\"\",VLOOKUP(A43,'00 CE'!$B$4:$D$565,3,0)))","v":""}]
["BA0730","- da pubblico (Extraregione)",{"$f":"SUMIF('00 CE'!$B:$B,$A44,'00 CE'!G:G)","v":0},{"$f":"SUMIF('00 CE'!$B:$B,$A44,'00 CE'!F:F)","v":0},0,0,null,{"$f":"IF(A44=\"\",\"\",IF(VLOOKUP(A44,'00 CE'!$B$4:$D$565,3,0)=0,\"\",VLOOKUP(A44,'00 CE'!$B$4:$D$565,3,0)))","v":""}]
["BA0740","- da privato",{"$f":"SUMIF('00 CE'!$B:$B,$A45,'00 CE'!G:G)","v":1733047.08},{"$f":"SUMIF('00 CE'!$B:$B,$A45,'00 CE'!F:F)","v":1802068.84},-69021.760000000009,-3.8301400295007601E-2,null,{"$f":"IF(A45=\"\",\"\",IF(VLOOKUP(A45,'00 CE'!$B$4:$D$565,3,0)=0,\"\",VLOOKUP(A45,'00 CE'!$B$4:$D$565,3,0)))","v":""}]
["BA0750","ACQUISTI DI SERVIZI SANITARI PER ASSISTENZA PROTESICA",{"$f":"SUM(C47:C50)","v":6846095.7100000009},{"$f":"SUM(D47:D50)","v":6303229.0099999998},542866.70000000112,8.6125174753883982E-2,null,{"$f":"IF(A46=\"\",\"\",IF(VLOOKUP(A46,'00 CE'!$B$4:$D$565,3,0)=0,\"\",VLOOKUP(A46,'00 CE'!$B$4:$D$565,3,0)))","v":"S"}]
["BA0760","- da pubblico (Aziende sanitarie pubbliche della Regione)",{"$f":"SUMIF('00 CE'!$B:$B,$A47,'00 CE'!G:G)","v":0},{"$f":"SUMIF('00 CE'!$B:$B,$A47,'00 CE'!F:F)","v":0},0,0,null,{"$f":"IF(A47=\"\",\"\",IF(VLOOKUP(A47,'00 CE'!$B$4:$D$565,3,0)=0,\"\",VLOOKUP(A47,'00 CE'!$B$4:$D$565,3,0)))","v":""}]
["BA0770","- da pubblico (altri soggetti pubbl. della Regione)",{"$f":"SUMIF('00 CE'!$B:$B,$A48,'00 CE'!G:G)","v":0},{"$f":"SUMIF('00 CE'!$B:$B,$A48,'00 CE'!F:F)","v":0},0,0,null,{"$f":"IF(A48=\"\",\"\",IF(VLOOKUP(A48,'00 CE'!$B$4:$D$565,3,0)=0,\"\",VLOOKUP(A48,'00 CE'!$B$4:$D$565,3,0)))","v":""}]
["BA0780","- da pubblico (Extraregione)",{"$f":"SUMIF('00 CE'!$B:$B,$A49,'00 CE'!G:G)","v":0},{"$f":"SUMIF('00 CE'!$B:$B,$A49,'00 CE'!F:F)","v":0},0,0,null,{"$f":"IF(A49=\"\",\"\",IF(VLOOKUP(A49,'00 CE'!$B$4:$D$565,3,0)=0,\"\",VLOOKUP(A49,'00 CE'!$B$4:$D$565,3,0)))","v":""}]
["BA0790","- da privato",{"$f":"SUMIF('00 CE'!$B:$B,$A50,'00 CE'!G:G)","v":6846095.7100000009},{"$f":"SUMIF('00 CE'!$B:$B,$A50,'00 CE'!F:F)","v":6303229.0099999998},542866.70000000112,8.6125174753883982E-2,null,{"$f":"IF(A50=\"\",\"\",IF(VLOOKUP(A50,'00 CE'!$B$4:$D$565,3,0)=0,\"\",VLOOKUP(A50,'00 CE'!$B$4:$D$565,3,0)))","v":""}]
["BA0800","ACQUISTI DI SERVIZI SANITARI PER ASSISTENZA OSPEDALIERA",{"$f":"C52+C53+C54+C55+C60","v":131436628.68000001},{"$f":"D52+D53+D54+D55+D60","v":123489437.36999999},7947191.3100000173,6.4355231340058522E-2,null,{"$f":"IF(A51=\"\",\"\",IF(VLOOKUP(A51,'00 CE'!$B$4:$D$565,3,0)=0,\"\",VLOOKUP(A51,'00 CE'!$B$4:$D$565,3,0)))","v":"S"}]
["BA0810","- da pubblico (Aziende sanitarie pubbliche della Regione)",{"$f":"SUMIF('00 CE'!$B:$B,$A52,'00 CE'!G:G)","v":28052232.689999998},{"$f":"SUMIF('00 CE'!$B:$B,$A52,'00 CE'!F:F)","v":26481532.390000001},1570700.299999997,5.9313044157260603E-2,null,{"$f":"IF(A52=\"\",\"\",IF(VLOOKUP(A52,'00 CE'!$B$4:$D$565,3,0)=0,\"\",VLOOKUP(A52,'00 CE'!$B$4:$D$565,3,0)))","v":""}]
["BA0820","- da pubblico (altri soggetti pubbl. della Regione)",{"$f":"SUMIF('00 CE'!$B:$B,$A53,'00 CE'!G:G)","v":0},{"$f":"SUMIF('00 CE'!$B:$B,$A53,'00 CE'!F:F)","v":0},0,0,null,{"$f":"IF(A53=\"\",\"\",IF(VLOOKUP(A53,'00 CE'!$B$4:$D$565,3,0)=0,\"\",VLOOKUP(A53,'00 CE'!$B$4:$D$565,3,0)))","v":""}]
["BA0830","- da pubblico (Extraregione)",{"$f":"SUMIF('00 CE'!$B:$B,$A54,'00 CE'!G:G)","v":30364599.559999999},{"$f":"SUMIF('00 CE'!$B:$B,$A54,'00 CE'!F:F)","v":24057993.460000001},6306606.0999999978,0.26214181621113458,null,{"$f":"IF(A54=\"\",\"\",IF(VLOOKUP(A54,'00 CE'!$B$4:$D$565,3,0)=0,\"\",VLOOKUP(A54,'00 CE'!$B$4:$D$565,3,0)))","v":""}]
["BA0840","- da privato",{"$f":"SUMIF('00 CE'!$B:$B,$A55,'00 CE'!G:G)","v":64592865.920000002},{"$f":"SUMIF('00 CE'!$B:$B,$A55,'00 CE'!F:F)","v":62664028.379999995},1928837.5400000066,3.0780618320663519E-2,null,{"$f":"IF(A55=\"\",\"\",IF(VLOOKUP(A55,'00 CE'!$B$4:$D$565,3,0)=0,\"\",VLOOKUP(A55,'00 CE'!$B$4:$D$565,3,0)))","v":"S"}]
["BA0850","Servizi sanitari per assistenza ospedaliera da IRCCS privati e Policlinici privati",{"$f":"SUMIF('00 CE'!$B:$B,$A56,'00 CE'!G:G)","v":0},{"$f":"SUMIF('00 CE'!$B:$B,$A56,'00 CE'!F:F)","v":0},0,0,null,{"$f":"IF(A56=\"\",\"\",IF(VLOOKUP(A56,'00 CE'!$B$4:$D$565,3,0)=0,\"\",VLOOKUP(A56,'00 CE'!$B$4:$D$565,3,0)))","v":""}]
["BA0860","Servizi sanitari per assistenza ospedaliera da Ospedali Classificati privati",{"$f":"SUMIF('00 CE'!$B:$B,$A57,'00 CE'!G:G)","v":0},{"$f":"SUMIF('00 CE'!$B:$B,$A57,'00 CE'!F:F)","v":0},0,0,null,{"$f":"IF(A57=\"\",\"\",IF(VLOOKUP(A57,'00 CE'!$B$4:$D$565,3,0)=0,\"\",VLOOKUP(A57,'00 CE'!$B$4:$D$565,3,0)))","v":""}]
["BA0870","Servizi sanitari per assistenza ospedaliera da Case di Cura private",{"$f":"SUMIF('00 CE'!$B:$B,$A58,'00 CE'!G:G)","v":64592865.920000002},{"$f":"SUMIF('00 CE'!$B:$B,$A58,'00 CE'!F:F)","v":62664028.379999995},1928837.5400000066,3.0780618320663519E-2,null,{"$f":"IF(A58=\"\",\"\",IF(VLOOKUP(A58,'00 CE'!$B$4:$D$565,3,0)=0,\"\",VLOOKUP(A58,'00 CE'!$B$4:$D$565,3,0)))","v":""}]
["BA0880","Servizi sanitari per assistenza ospedaliera da altri privati",{"$f":"SUMIF('00 CE'!$B:$B,$A59,'00 CE'!G:G)","v":0},{"$f":"SUMIF('00 CE'!$B:$B,$A59,'00 CE'!F:F)","v":0},0,0,null,{"$f":"IF(A59=\"\",\"\",IF(VLOOKUP(A59,'00 CE'!$B$4:$D$565,3,0)=0,\"\",VLOOKUP(A59,'00 CE'!$B$4:$D$565,3,0)))","v":""}]
["BA0890","- da privato per cittadini non residenti - Extraregione (mobilità attiva in compensazione)",{"$f":"SUMIF('00 CE'!$B:$B,$A60,'00 CE'!G:G)","v":8426930.5099999998},{"$f":"SUMIF('00 CE'!$B:$B,$A60,'00 CE'!F:F)","v":10285883.140000001},-1858952.6300000008,-0.18072853878446851,null,{"$f":"IF(A60=\"\",\"\",IF(VLOOKUP(A60,'00 CE'!$B$4:$D$565,3,0)=0,\"\",VLOOKUP(A60,'00 CE'!$B$4:$D$565,3,0)))","v":""}]
["BA0900","ACQUISTI PRESTAZIONI DI PSICHIATRICA RESIDENZIALE E SEMIRESIDENZIALE",{"$f":"SUM(C62:C66)","v":12842279.100000001},{"$f":"SUM(D62:D66)","v":13021762.400000002},-179483.30000000075,-1.3783333967144165E-2,null,{"$f":"IF(A61=\"\",\"\",IF(VLOOKUP(A61,'00 CE'!$B$4:$D$565,3,0)=0,\"\",VLOOKUP(A61,'00 CE'!$B$4:$D$565,3,0)))","v":"S"}]
["BA0910","- da pubblico (Aziende sanitarie pubbliche della Regione)",{"$f":"SUMIF('00 CE'!$B:$B,$A62,'00 CE'!G:G)","v":1735685.3},{"$f":"SUMIF('00 CE'!$B:$B,$A62,'00 CE'!F:F)","v":1551575.5},184109.80000000005,0.11865990407814511,null,{"$f":"IF(A62=\"\",\"\",IF(VLOOKUP(A62,'00 CE'!$B$4:$D$565,3,0)=0,\"\",VLOOKUP(A62,'00 CE'!$B$4:$D$565,3,0)))","v":""}]
["BA0920","- da pubblico (altri soggetti pubbl. della Regione)",{"$f":"SUMIF('00 CE'!$B:$B,$A63,'00 CE'!G:G)","v":0},{"$f":"SUMIF('00 CE'!$B:$B,$A63,'00 CE'!F:F)","v":0},0,0,null,{"$f":"IF(A63=\"\",\"\",IF(VLOOKUP(A63,'00 CE'!$B$4:$D$565,3,0)=0,\"\",VLOOKUP(A63,'00 CE'!$B$4:$D$565,3,0)))","v":""}]
["BA0930","- da pubblico (Extraregione) - non soggette a compensazione",{"$f":"SUMIF('00 CE'!$B:$B,$A64,'00 CE'!G:G)","v":60576},{"$f":"SUMIF('00 CE'!$B:$B,$A64,'00 CE'!F:F)","v":81781.600000000006},-21205.600000000006,-0.25929548944994968,null,{"$f":"IF(A64=\"\",\"\",IF(VLOOKUP(A64,'00 CE'!$B$4:$D$565,3,0)=0,\"\",VLOOKUP(A64,'00 CE'!$B$4:$D$565,3,0)))","v":""}]
["BA0940","- da privato (intraregionale)",{"$f":"SUMIF('00 CE'!$B:$B,$A65,'00 CE'!G:G)","v":9380591.6799999997},{"$f":"SUMIF('00 CE'!$B:$B,$A65,'00 CE'!F:F)","v":9798519.8400000017},-417928.16000000201,-4.2652172657130831E-2,null,{"$f":"IF(A65=\"\",\"\",IF(VLOOKUP(A65,'00 CE'!$B$4:$D$565,3,0)=0,\"\",VLOOKUP(A65,'00 CE'!$B$4:$D$565,3,0)))","v":""}]
["BA0950","- da privato (extraregionale)",{"$f":"SUMIF('00 CE'!$B:$B,$A66,'00 CE'!G:G)","v":1665426.12},{"$f":"SUMIF('00 CE'!$B:$B,$A66,'00 CE'!F:F)","v":1589885.46},75540.660000000149,4.7513271805127488E-2,null,{"$f":"IF(A66=\"\",\"\",IF(VLOOKUP(A66,'00 CE'!$B$4:$D$565,3,0)=0,\"\",VLOOKUP(A66,'00 CE'!$B$4:$D$565,3,0)))","v":""}]
["BA0960","ACQUISTI PRESTAZIONI DI DISTRIBUZIONE FARMACI FILE F",{"$f":"SUM(C68:C73)","v":8471399.0999999996},{"$f":"SUM(D68:D73)","v":7092976.6900000004},1378422.4099999992,0.19433623854190321,null,{"$f":"IF(A67=\"\",\"\",IF(VLOOKUP(A67,'00 CE'!$B$4:$D$565,3,0)=0,\"\",VLOOKUP(A67,'00 CE'!$B$4:$D$565,3,0)))","v":"S"}]
["BA0970","- da pubblico (Aziende sanitarie pubbliche della Regione) - Mobilità intraregionale",{"$f":"SUMIF('00 CE'!$B:$B,$A68,'00 CE'!G:G)","v":4858115.13},{"$f":"SUMIF('00 CE'!$B:$B,$A68,'00 CE'!F:F)","v":4464112.37},394002.75999999978,8.8260045299890108E-2,null,{"$f":"IF(A68=\"\",\"\",IF(VLOOKUP(A68,'00 CE'!$B$4:$D$565,3,0)=0,\"\",VLOOKUP(A68,'00 CE'!$B$4:$D$565,3,0)))","v":""}]
["BA0980","- da pubblico (altri soggetti pubbl. della Regione)",{"$f":"SUMIF('00 CE'!$B:$B,$A69,'00 CE'!G:G)","v":0},{"$f":"SUMIF('00 CE'!$B:$B,$A69,'00 CE'!F:F)","v":0},0,0,null,{"$f":"IF(A69=\"\",\"\",IF(VLOOKUP(A69,'00 CE'!$B$4:$D$565,3,0)=0,\"\",VLOOKUP(A69,'00 CE'!$B$4:$D$565,3,0)))","v":""}]
["BA0990","- da pubblico (Extraregione)",{"$f":"SUMIF('00 CE'!$B:$B,$A70,'00 CE'!G:G)","v":1901052.91},{"$f":"SUMIF('00 CE'!$B:$B,$A70,'00 CE'!F:F)","v":2195879.04},-294826.13000000012,-0.13426337454361789,null,{"$f":"IF(A70=\"\",\"\",IF(VLOOKUP(A70,'00 CE'!$B$4:$D$565,3,0)=0,\"\",VLOOKUP(A70,'00 CE'!$B$4:$D$565,3,0)))","v":""}]
["BA1000","- da privato (intraregionale)",{"$f":"SUMIF('00 CE'!$B:$B,$A71,'00 CE'!G:G)","v":1712231.06},{"$f":"SUMIF('00 CE'!$B:$B,$A71,'00 CE'!F:F)","v":432985.28},1279245.78,2.9544786834323791,null,{"$f":"IF(A71=\"\",\"\",IF(VLOOKUP(A71,'00 CE'!$B$4:$D$565,3,0)=0,\"\",VLOOKUP(A71,'00 CE'!$B$4:$D$565,3,0)))","v":""}]
["BA1010","- da privato (extraregionale)",{"$f":"SUMIF('00 CE'!$B:$B,$A72,'00 CE'!G:G)","v":0},{"$f":"SUMIF('00 CE'!$B:$B,$A72,'00 CE'!F:F)","v":0},0,0,null,{"$f":"IF(A72=\"\",\"\",IF(VLOOKUP(A72,'00 CE'!$B$4:$D$565,3,0)=0,\"\",VLOOKUP(A72,'00 CE'!$B$4:$D$565,3,0)))","v":""}]
["BA1020","- da privato per cittadini non residenti - Extraregione (mobilità attiva in compensazione)",{"$f":"SUMIF('00 CE'!$B:$B,$A73,'00 CE'!G:G)","v":0},{"$f":"SUMIF('00 CE'!$B:$B,$A73,'00 CE'!F:F)","v":0},0,0,null,{"$f":"IF(A73=\"\",\"\",IF(VLOOKUP(A73,'00 CE'!$B$4:$D$565,3,0)=0,\"\",VLOOKUP(A73,'00 CE'!$B$4:$D$565,3,0)))","v":""}]
["BA1030","ACQUISTI PRESTAZIONI TERMALI IN CONVENZIONE",{"$f":"SUM(C75:C79)","v":1664343.8799999997},{"$f":"SUM(D75:D79)","v":2149505.71},-485161.83000000031,-0.22570855603821602,null,{"$f":"IF(A74=\"\",\"\",IF(VLOOKUP(A74,'00 CE'!$B$4:$D$565,3,0)=0,\"\",VLOOKUP(A74,'00 CE'!$B$4:$D$565,3,0)))","v":"S"}]
["BA1040","- da pubblico (Aziende sanitarie pubbliche della Regione) - Mobilità intraregionale",{"$f":"SUMIF('00 CE'!$B:$B,$A75,'00 CE'!G:G)","v":46.2},{"$f":"SUMIF('00 CE'!$B:$B,$A75,'00 CE'!F:F)","v":0},46.2,"",null,{"$f":"IF(A75=\"\",\"\",IF(VLOOKUP(A75,'00 CE'!$B$4:$D$565,3,0)=0,\"\",VLOOKUP(A75,'00 CE'!$B$4:$D$565,3,0)))","v":""}]
["BA1050","- da pubblico (altri soggetti pubbl. della Regione)",{"$f":"SUMIF('00 CE'!$B:$B,$A76,'00 CE'!G:G)","v":0},{"$f":"SUMIF('00 CE'!$B:$B,$A76,'00 CE'!F:F)","v":0},0,0,null,{"$f":"IF(A76=\"\",\"\",IF(VLOOKUP(A76,'00 CE'!$B$4:$D$565,3,0)=0,\"\",VLOOKUP(A76,'00 CE'!$B$4:$D$565,3,0)))","v":""}]
["BA1060","- da pubblico (Extraregione)",{"$f":"SUMIF('00 CE'!$B:$B,$A77,'00 CE'!G:G)","v":106826.2},{"$f":"SUMIF('00 CE'!$B:$B,$A77,'00 CE'!F:F)","v":95302.31},11523.89,{"$f":"IF(AND(C77=0,D77=0),0,IF(C77=0,\"\",IF(D77=0,\"\",E77/D77)))","v":0.12091931454756973},null,{"$f":"IF(A77=\"\",\"\",IF(VLOOKUP(A77,'00 CE'!$B$4:$D$565,3,0)=0,\"\",VLOOKUP(A77,'00 CE'!$B$4:$D$565,3,0)))","v":""}]
["BA1070","- da privato",{"$f":"SUMIF('00 CE'!$B:$B,$A78,'00 CE'!G:G)","v":1401125.0799999998},{"$f":"SUMIF('00 CE'!$B:$B,$A78,'00 CE'!F:F)","v":1821580.51},-420455.43000000017,-0.23081902100500634,null,{"$f":"IF(A78=\"\",\"\",IF(VLOOKUP(A78,'00 CE'!$B$4:$D$565,3,0)=0,\"\",VLOOKUP(A78,'00 CE'!$B$4:$D$565,3,0)))","v":""}]
["BA1080","- da privato per cittadini non residenti - Extraregione (mobilità attiva in compensazione)",{"$f":"SUMIF('00 CE'!$B:$B,$A79,'00 CE'!G:G)","v":156346.4},{"$f":"SUMIF('00 CE'!$B:$B,$A79,'00 CE'!F:F)","v":232622.88999999998},-76276.489999999991,-0.32789761145173629,null,{"$f":"IF(A79=\"\",\"\",IF(VLOOKUP(A79,'00 CE'!$B$4:$D$565,3,0)=0,\"\",VLOOKUP(A79,'00 CE'!$B$4:$D$565,3,0)))","v":""}]
[null,null,null,null,null,null,null,{"$f":"IF(A80=\"\",\"\",IF(VLOOKUP(A80,'00 CE'!$B$4:$D$565,3,0)=0,\"\",VLOOKUP(A80,'00 CE'!$B$4:$D$565,3,0)))","v":""}]
[null,"Tab. 60 – Dettaglio acquisti di servizi sanitari – II parte",null,null,null,null,null,{"$f":"IF(A81=\"\",\"\",IF(VLOOKUP(A81,'00 CE'!$B$4:$D$565,3,0)=0,\"\",VLOOKUP(A81,'00 CE'!$B$4:$D$565,3,0)))","v":""}]
["CODICE MOD. CE","DETTAGLIO ACQUISTI DI SERVIZI SANITARI",{"$f":"\"Valore CE \" &'00 Aggregatore'!$F$2","v":"Valore CE 2019"},{"$f":"\"Valore CE \" &'00 Aggregatore'!$F$2 -1","v":"Valore CE 2018"},"Variazioni\nimporto","Variazioni\n%"]
[null,null,null,null,null,null,null,{"$f":"IF(A83=\"\",\"\",IF(VLOOKUP(A83,'00 CE'!$B$4:$D$565,3,0)=0,\"\",VLOOKUP(A83,'00 CE'!$B$4:$D$565,3,0)))","v":""}]
["BA1090","ACQUISTI PRESTAZIONI DI TRASPORTO SANITARIO",{"$f":"SUM(C85:C88)","v":7848424.4499999993},{"$f":"SUM(D85:D88)","v":8783342.459999999},{"$f":"C84-D84","v":-934918.00999999978},{"$f":"IF(AND(C84=0,D84=0),0,IF(C84=0,\"\",IF(D84=0,\"\",E84/D84)))","v":-0.10644216757546306},null,{"$f":"IF(A84=\"\",\"\",IF(VLOOKUP(A84,'00 CE'!$B$4:$D$565,3,0)=0,\"\",VLOOKUP(A84,'00 CE'!$B$4:$D$565,3,0)))","v":"S"}]
["BA1100","- da pubblico (Aziende sanitarie pubbliche della Regione) - Mobilità intraregionale",{"$f":"SUMIF('00 CE'!$B:$B,$A85,'00 CE'!G:G)","v":98634.25},{"$f":"SUMIF('00 CE'!$B:$B,$A85,'00 CE'!F:F)","v":103216},-4581.75,-4.4389920167415907E-2,null,{"$f":"IF(A85=\"\",\"\",IF(VLOOKUP(A85,'00 CE'!$B$4:$D$565,3,0)=0,\"\",VLOOKUP(A85,'00 CE'!$B$4:$D$565,3,0)))","v":""}]
["BA1110","- da pubblico (altri soggetti pubbl. della Regione)",{"$f":"SUMIF('00 CE'!$B:$B,$A86,'00 CE'!G:G)","v":0},{"$f":"SUMIF('00 CE'!$B:$B,$A86,'00 CE'!F:F)","v":0},{"$f":"C86-D86","v":0},0,null,{"$f":"IF(A86=\"\",\"\",IF(VLOOKUP(A86,'00 CE'!$B$4:$D$565,3,0)=0,\"\",VLOOKUP(A86,'00 CE'!$B$4:$D$565,3,0)))","v":""}]
["BA1120","- da pubblico (Extraregione)",{"$f":"SUMIF('00 CE'!$B:$B,$A87,'00 CE'!G:G)","v":148466.56},{"$f":"SUMIF('00 CE'!$B:$B,$A87,'00 CE'!F:F)","v":344124.9},-195658.34000000003,-0.56856780779304261,null,{"$f":"IF(A87=\"\",\"\",IF(VLOOKUP(A87,'00 CE'!$B$4:$D$565,3,0)=0,\"\",VLOOKUP(A87,'00 CE'!$B$4:$D$565,3,0)))","v":""}]
["BA1130","- da privato",{"$f":"SUMIF('00 CE'!$B:$B,$A88,'00 CE'!G:G)","v":7601323.6399999997},{"$f":"SUMIF('00 CE'!$B:$B,$A88,'00 CE'!F:F)","v":8336001.5599999996},-734677.91999999993,-8.8133131299461986E-2,null,{"$f":"IF(A88=\"\",\"\",IF(VLOOKUP(A88,'00 CE'!$B$4:$D$565,3,0)=0,\"\",VLOOKUP(A88,'00 CE'!$B$4:$D$565,3,0)))","v":""}]
["BA1140","ACQUISTI PRESTAZIONI  SOCIO-SANITARIE A RILEVANZA SANITARIA",{"$f":"C90+C93+C94+C95+C96+C97","v":17664091.359999999},{"$f":"D90+D93+D94+D95+D96+D97","v":16307538.569999998},1356552.790000001,8.3185625113011835E-2,null,{"$f":"IF(A89=\"\",\"\",IF(VLOOKUP(A89,'00 CE'!$B$4:$D$565,3,0)=0,\"\",VLOOKUP(A89,'00 CE'!$B$4:$D$565,3,0)))","v":"S"}]
["BA1150","- da pubblico (Aziende sanitarie pubbliche della Regione) - Mobilità intraregionale",{"$f":"SUMIF('00 CE'!$B:$B,$A90,'00 CE'!G:G)","v":1807405.46},{"$f":"SUMIF('00 CE'!$B:$B,$A90,'00 CE'!F:F)","v":1758520.3800000001},{"$f":"C90-D90","v":48885.079999999842},2.7798984052718138E-2,null,{"$f":"IF(A90=\"\",\"\",IF(VLOOKUP(A90,'00 CE'!$B$4:$D$565,3,0)=0,\"\",VLOOKUP(A90,'00 CE'!$B$4:$D$565,3,0)))","v":"S"}]
["BA1151","B.2.A.12.1.A) Assistenza domiciliare integrata (ADI)",{"$f":"SUMIF('00 CE'!$B:$B,$A91,'00 CE'!G:G)","v":0},{"$f":"SUMIF('00 CE'!$B:$B,$A91,'00 CE'!F:F)","v":0},0,{"$f":"IF(AND(C91=0,D91=0),0,IF(C91=0,\"\",IF(D91=0,\"\",E91/D91)))","v":0},null,{"$f":"IF(A91=\"\",\"\",IF(VLOOKUP(A91,'00 CE'!$B$4:$D$565,3,0)=0,\"\",VLOOKUP(A91,'00 CE'!$B$4:$D$565,3,0)))","v":""}]
["BA1152","B.2.A.12.1.B) Altre prestazioni socio-sanitarie a rilevanza sanitaria",{"$f":"SUMIF('00 CE'!$B:$B,$A92,'00 CE'!G:G)","v":1807405.46},{"$f":"SUMIF('00 CE'!$B:$B,$A92,'00 CE'!F:F)","v":1758520.3800000001},48885.079999999842,2.7798984052718138E-2,null,{"$f":"IF(A92=\"\",\"\",IF(VLOOKUP(A92,'00 CE'!$B$4:$D$565,3,0)=0,\"\",VLOOKUP(A92,'00 CE'!$B$4:$D$565,3,0)))","v":""}]
["BA1160","- da pubblico (altri soggetti pubblici della Regione)",{"$f":"SUMIF('00 CE'!$B:$B,$A93,'00 CE'!G:G)","v":0},{"$f":"SUMIF('00 CE'!$B:$B,$A93,'00 CE'!F:F)","v":0},0,0,null,{"$f":"IF(A93=\"\",\"\",IF(VLOOKUP(A93,'00 CE'!$B$4:$D$565,3,0)=0,\"\",VLOOKUP(A93,'00 CE'!$B$4:$D$565,3,0)))","v":""}]
["BA1161","B.2.A.12.3) - da pubblico  (Extraregione) - Acquisto di Altre prestazioni sociosanitarie a rilevanza sanitaria erogate a soggetti pubblici Extraregione",{"$f":"SUMIF('00 CE'!$B:$B,$A94,'00 CE'!G:G)","v":0},{"$f":"SUMIF('00 CE'!$B:$B,$A94,'00 CE'!F:F)","v":0},0,{"$f":"IF(AND(C94=0,D94=0),0,IF(C94=0,\"\",IF(D94=0,\"\",E94/D94)))","v":0},null,{"$f":"IF(A94=\"\",\"\",IF(VLOOKUP(A94,'00 CE'!$B$4:$D$565,3,0)=0,\"\",VLOOKUP(A94,'00 CE'!$B$4:$D$565,3,0)))","v":""}]
["BA1170","- da pubblico (Extraregione) non soggette a compensazione",{"$f":"SUMIF('00 CE'!$B:$B,$A95,'00 CE'!G:G)","v":163730.37},{"$f":"SUMIF('00 CE'!$B:$B,$A95,'00 CE'!F:F)","v":160969.38},2760.9899999999907,1.7152268338239178E-2,null,{"$f":"IF(A95=\"\",\"\",IF(VLOOKUP(A95,'00 CE'!$B$4:$D$565,3,0)=0,\"\",VLOOKUP(A95,'00 CE'!$B$4:$D$565,3,0)))","v":""}]
["BA1180","- da privato (intraregionale)",{"$f":"SUMIF('00 CE'!$B:$B,$A96,'00 CE'!G:G)","v":13625990.66},{"$f":"SUMIF('00 CE'!$B:$B,$A96,'00 CE'!F:F)","v":12500635.899999999},1125354.7600000016,9.0023801109190116E-2,null,{"$f":"IF(A96=\"\",\"\",IF(VLOOKUP(A96,'00 CE'!$B$4:$D$565,3,0)=0,\"\",VLOOKUP(A96,'00 CE'!$B$4:$D$565,3,0)))","v":""}]
["BA1190","- da privato (extraregionale)",{"$f":"SUMIF('00 CE'!$B:$B,$A97,'00 CE'!G:G)","v":2066964.8699999999},{"$f":"SUMIF('00 CE'!$B:$B,$A97,'00 CE'!F:F)","v":1887412.9100000001},179551.95999999973,9.5131255619100172E-2,null,{"$f":"IF(A97=\"\",\"\",IF(VLOOKUP(A97,'00 CE'!$B$4:$D$565,3,0)=0,\"\",VLOOKUP(A97,'00 CE'!$B$4:$D$565,3,0)))","v":""}]
["BA1200","COMPARTECIPAZIONE AL PERSONALE PER ATT. LIBERO-PROF. (INTRAMOENIA)",{"$f":"SUMIF('00 CE'!$B:$B,$A98,'00 CE'!G:G)","v":2990762.6099999994},{"$f":"SUMIF('00 CE'!$B:$B,$A98,'00 CE'!F:F)","v":3321031.3200000003},{"$f":"C98-D98","v":-330268.71000000089},-9.9447634838927337E-2,null,{"$f":"IF(A98=\"\",\"\",IF(VLOOKUP(A98,'00 CE'!$B$4:$D$565,3,0)=0,\"\",VLOOKUP(A98,'00 CE'!$B$4:$D$565,3,0)))","v":"S"}]
["BA1210","Compartecipazione al personale per att. libero professionale intramoenia - Area ospedaliera",{"$f":"SUMIF('00 CE'!$B:$B,$A99,'00 CE'!G:G)","v":60058.96},{"$f":"SUMIF('00 CE'!$B:$B,$A99,'00 CE'!F:F)","v":54218.100000000006},{"$f":"C99-D99","v":5840.8599999999933},0.10772896873922164]
["BA1220","Compartecipazione al personale per att. libero professionale intramoenia- Area specialistica",{"$f":"SUMIF('00 CE'!$B:$B,$A100,'00 CE'!G:G)","v":2527432.63},{"$f":"SUMIF('00 CE'!$B:$B,$A100,'00 CE'!F:F)","v":2563747.4700000002},-36314.840000000317,-1.4164749229377226E-2]
["BA1230","Compartecipazione al personale per att. libero professionale intramoenia - Area sanità pubblica",{"$f":"SUMIF('00 CE'!$B:$B,$A101,'00 CE'!G:G)","v":14345.3},{"$f":"SUMIF('00 CE'!$B:$B,$A101,'00 CE'!F:F)","v":15233.61},-888.31000000000131,-5.8312507672180214E-2]
["BA1240","Compartecipazione al personale per att. libero professionale intramoenia - Consulenze (ex art. 55 c.1 lett. c), d) ed ex Art. 57-58)",{"$f":"SUMIF('00 CE'!$B:$B,$A102,'00 CE'!G:G)","v":335908.3},{"$f":"SUMIF('00 CE'!$B:$B,$A102,'00 CE'!F:F)","v":579327.30000000005},-243419.00000000006,-0.42017526189426951]
["BA1250","Compartecipazione al personale per att. libero professionale intramoenia - Consulenze (ex art. 55 c.1 lett. c), d) ed ex Art. 57-58) (Aziende sanitarie pubbliche della Regione)",{"$f":"SUMIF('00 CE'!$B:$B,$A103,'00 CE'!G:G)","v":0},{"$f":"SUMIF('00 CE'!$B:$B,$A103,'00 CE'!F:F)","v":0},0,0]
["BA1260","Compartecipazione al personale per att. libero professionale intramoenia - Altro",{"$f":"SUMIF('00 CE'!$B:$B,$A104,'00 CE'!G:G)","v":53017.42},{"$f":"SUMIF('00 CE'!$B:$B,$A104,'00 CE'!F:F)","v":108504.84},-55487.42,-0.51138198074850849]
["BA1270","Compartecipazione al personale per att. libero  professionale intramoenia - Altro (Aziende sanitarie pubbliche della Regione)",{"$f":"SUMIF('00 CE'!$B:$B,$A105,'00 CE'!G:G)","v":0},{"$f":"SUMIF('00 CE'!$B:$B,$A105,'00 CE'!F:F)","v":0},0]
["BA1280","RIMBORSI ASSEGNI E CONTRIBUTI SANITARI",{"$f":"SUM(C107:C113)","v":2341034.66},{"$f":"SUM(D107:D113)","v":2143960.7800000003},197073.87999999989,9.1920468806336961E-2,null,{"$f":"IF(A106=\"\",\"\",IF(VLOOKUP(A106,'00 CE'!$B$4:$D$565,3,0)=0,\"\",VLOOKUP(A106,'00 CE'!$B$4:$D$565,3,0)))","v":"S"}]
["BA1290","Contributi ad associazioni di volontariato",{"$f":"SUMIF('00 CE'!$B:$B,$A107,'00 CE'!G:G)","v":367251.39},{"$f":"SUMIF('00 CE'!$B:$B,$A107,'00 CE'!F:F)","v":349365.76000000001},{"$f":"C107-D107","v":17885.630000000005},5.1194570412395321E-2,null,{"$f":"IF(A107=\"\",\"\",IF(VLOOKUP(A107,'00 CE'!$B$4:$D$565,3,0)=0,\"\",VLOOKUP(A107,'00 CE'!$B$4:$D$565,3,0)))","v":""}]
["BA1300","Rimborsi per cure all'estero",{"$f":"SUMIF('00 CE'!$B:$B,$A108,'00 CE'!G:G)","v":12227.29},{"$f":"SUMIF('00 CE'!$B:$B,$A108,'00 CE'!F:F)","v":2069.39},10157.900000000001,4.9086445764210715,null,{"$f":"IF(A108=\"\",\"\",IF(VLOOKUP(A108,'00 CE'!$B$4:$D$565,3,0)=0,\"\",VLOOKUP(A108,'00 CE'!$B$4:$D$565,3,0)))","v":""}]
["BA1310","Contributi a società partecipate e/o enti dipendenti della Regione",{"$f":"SUMIF('00 CE'!$B:$B,$A109,'00 CE'!G:G)","v":0},{"$f":"SUMIF('00 CE'!$B:$B,$A109,'00 CE'!F:F)","v":0},0,0,null,{"$f":"IF(A109=\"\",\"\",IF(VLOOKUP(A109,'00 CE'!$B$4:$D$565,3,0)=0,\"\",VLOOKUP(A109,'00 CE'!$B$4:$D$565,3,0)))","v":""}]
["BA1320","Contributo Legge 210/92",{"$f":"SUMIF('00 CE'!$B:$B,$A110,'00 CE'!G:G)","v":0},{"$f":"SUMIF('00 CE'!$B:$B,$A110,'00 CE'!F:F)","v":0},0,0,null,{"$f":"IF(A110=\"\",\"\",IF(VLOOKUP(A110,'00 CE'!$B$4:$D$565,3,0)=0,\"\",VLOOKUP(A110,'00 CE'!$B$4:$D$565,3,0)))","v":""}]
["BA1330","Altri rimborsi, assegni e contributi",{"$f":"SUMIF('00 CE'!$B:$B,$A111,'00 CE'!G:G)","v":1961555.98},{"$f":"SUMIF('00 CE'!$B:$B,$A111,'00 CE'!F:F)","v":1792525.6300000001},169030.34999999986,9.4297312780961373E-2,null,{"$f":"IF(A111=\"\",\"\",IF(VLOOKUP(A111,'00 CE'!$B$4:$D$565,3,0)=0,\"\",VLOOKUP(A111,'00 CE'!$B$4:$D$565,3,0)))","v":""}]
["BA1340","Rimborsi, assegni e contributi v/Aziende sanitarie pubbliche della Regione",{"$f":"SUMIF('00 CE'!$B:$B,$A112,'00 CE'!G:G)","v":0},{"$f":"SUMIF('00 CE'!$B:$B,$A112,'00 CE'!F:F)","v":0},0,0,null,{"$f":"IF(A112=\"\",\"\",IF(VLOOKUP(A112,'00 CE'!$B$4:$D$565,3,0)=0,\"\",VLOOKUP(A112,'00 CE'!$B$4:$D$565,3,0)))","v":""}]
["BA1341","B.2.A.14.7)  Rimborsi, assegni e contributi v/Regione - GSA",{"$f":"SUMIF('00 CE'!$B:$B,$A113,'00 CE'!G:G)","v":0},{"$f":"SUMIF('00 CE'!$B:$B,$A113,'00 CE'!F:F)","v":0},0,null,null,{"$f":"IF(A113=\"\",\"\",IF(VLOOKUP(A113,'00 CE'!$B$4:$D$565,3,0)=0,\"\",VLOOKUP(A113,'00 CE'!$B$4:$D$565,3,0)))","v":""}]
["BA1350","CONSULENZE, COLLABORAZIONI, INTERINALE, ALTRE PRESTAZIONI DI LAVORO SANITARIE E SOCIOSANITARIE",{"$f":"SUM(C115:C117)+C124","v":5940516.5399999991},{"$f":"SUM(D115:D117)+D124","v":6574839.0399999991},-634322.5,-9.6477266765149602E-2,null,{"$f":"IF(A114=\"\",\"\",IF(VLOOKUP(A114,'00 CE'!$B$4:$D$565,3,0)=0,\"\",VLOOKUP(A114,'00 CE'!$B$4:$D$565,3,0)))","v":"S"}]
["BA1360","Consulenze sanitarie e sociosan. da Aziende sanitarie pubbliche della Regione",{"$f":"SUMIF('00 CE'!$B:$B,$A115,'00 CE'!G:G)","v":386424.77},{"$f":"SUMIF('00 CE'!$B:$B,$A115,'00 CE'!F:F)","v":416373.3},{"$f":"C115-D115","v":-29948.52999999997},-7.1927114442736778E-2,null,{"$f":"IF(A115=\"\",\"\",IF(VLOOKUP(A115,'00 CE'!$B$4:$D$565,3,0)=0,\"\",VLOOKUP(A115,'00 CE'!$B$4:$D$565,3,0)))","v":""}]
["BA1370","Consulenze sanitarie e sociosanit. da terzi - Altri soggetti pubblici",{"$f":"SUMIF('00 CE'!$B:$B,$A116,'00 CE'!G:G)","v":643.39},{"$f":"SUMIF('00 CE'!$B:$B,$A116,'00 CE'!F:F)","v":0},643.39,"",null,{"$f":"IF(A116=\"\",\"\",IF(VLOOKUP(A116,'00 CE'!$B$4:$D$565,3,0)=0,\"\",VLOOKUP(A116,'00 CE'!$B$4:$D$565,3,0)))","v":""}]
["BA1380","Consulenze, Collaborazioni, Interinale e altre prestazioni di lavoro sanitarie e socios. da privato",{"$f":"SUMIF('00 CE'!$B:$B,$A117,'00 CE'!G:G)","v":5545422.7799999993},{"$f":"SUMIF('00 CE'!$B:$B,$A117,'00 CE'!F:F)","v":6104477.8199999994},-559055.04,-9.1581140350510779E-2,null,{"$f":"IF(A117=\"\",\"\",IF(VLOOKUP(A117,'00 CE'!$B$4:$D$565,3,0)=0,\"\",VLOOKUP(A117,'00 CE'!$B$4:$D$565,3,0)))","v":"S"}]
["BA1390","Consulenze sanitarie da privato - articolo 55, comma 2, CCNL 8 giugno 2000",{"$f":"SUMIF('00 CE'!$B:$B,$A118,'00 CE'!G:G)","v":2367368.34},{"$f":"SUMIF('00 CE'!$B:$B,$A118,'00 CE'!F:F)","v":2164804.17},202564.16999999993,9.3571590819690603E-2,null,{"$f":"IF(A118=\"\",\"\",IF(VLOOKUP(A118,'00 CE'!$B$4:$D$565,3,0)=0,\"\",VLOOKUP(A118,'00 CE'!$B$4:$D$565,3,0)))","v":""}]
["BA1400","Altre consulenze sanitarie e sociosanitarie da privato",{"$f":"SUMIF('00 CE'!$B:$B,$A119,'00 CE'!G:G)","v":11041.25},{"$f":"SUMIF('00 CE'!$B:$B,$A119,'00 CE'!F:F)","v":4381.71},6659.54,1.5198495564517049,null,{"$f":"IF(A119=\"\",\"\",IF(VLOOKUP(A119,'00 CE'!$B$4:$D$565,3,0)=0,\"\",VLOOKUP(A119,'00 CE'!$B$4:$D$565,3,0)))","v":""}]
["BA1410","Collaborazioni coordinate e continuative sanitarie e socios. da privato",{"$f":"SUMIF('00 CE'!$B:$B,$A120,'00 CE'!G:G)","v":0},{"$f":"SUMIF('00 CE'!$B:$B,$A120,'00 CE'!F:F)","v":0},0,0,null,{"$f":"IF(A120=\"\",\"\",IF(VLOOKUP(A120,'00 CE'!$B$4:$D$565,3,0)=0,\"\",VLOOKUP(A120,'00 CE'!$B$4:$D$565,3,0)))","v":""}]
["BA1420","Indennità a personale universitario - area sanitaria ",{"$f":"SUMIF('00 CE'!$B:$B,$A121,'00 CE'!G:G)","v":253677.26},{"$f":"SUMIF('00 CE'!$B:$B,$A121,'00 CE'!F:F)","v":256736.03},-3058.7699999999895,-1.1914065976637519E-2,null,{"$f":"IF(A121=\"\",\"\",IF(VLOOKUP(A121,'00 CE'!$B$4:$D$565,3,0)=0,\"\",VLOOKUP(A121,'00 CE'!$B$4:$D$565,3,0)))","v":""}]
["BA1430","Lavoro interinale - area sanitaria ",{"$f":"SUMIF('00 CE'!$B:$B,$A122,'00 CE'!G:G)","v":2555444.7999999998},{"$f":"SUMIF('00 CE'!$B:$B,$A122,'00 CE'!F:F)","v":2862789.15},-307344.35000000009,-0.10735836063930873,null,{"$f":"IF(A122=\"\",\"\",IF(VLOOKUP(A122,'00 CE'!$B$4:$D$565,3,0)=0,\"\",VLOOKUP(A122,'00 CE'!$B$4:$D$565,3,0)))","v":""}]
["BA1440","Altre collaborazioni e prestazioni di lavoro - area sanitaria ",{"$f":"SUMIF('00 CE'!$B:$B,$A123,'00 CE'!G:G)","v":357891.13},{"$f":"SUMIF('00 CE'!$B:$B,$A123,'00 CE'!F:F)","v":815766.76},-457875.63,-0.56128252884439667,null,{"$f":"IF(A123=\"\",\"\",IF(VLOOKUP(A123,'00 CE'!$B$4:$D$565,3,0)=0,\"\",VLOOKUP(A123,'00 CE'!$B$4:$D$565,3,0)))","v":""}]
["BA1450","Rimborso oneri stipendiali del personale sanitario in comando",{"$f":"SUMIF('00 CE'!$B:$B,$A124,'00 CE'!G:G)","v":8025.6},{"$f":"SUMIF('00 CE'!$B:$B,$A124,'00 CE'!F:F)","v":53987.92},-45962.32,-0.85134452299699637,null,{"$f":"IF(A124=\"\",\"\",IF(VLOOKUP(A124,'00 CE'!$B$4:$D$565,3,0)=0,\"\",VLOOKUP(A124,'00 CE'!$B$4:$D$565,3,0)))","v":"S"}]
["BA1460","Rimborso oneri stipendiali personale sanitario in comando da Aziende sanitarie pubbliche della Regione",{"$f":"SUMIF('00 CE'!$B:$B,$A125,'00 CE'!G:G)","v":0},{"$f":"SUMIF('00 CE'!$B:$B,$A125,'00 CE'!F:F)","v":0},0,0,null,{"$f":"IF(A125=\"\",\"\",IF(VLOOKUP(A125,'00 CE'!$B$4:$D$565,3,0)=0,\"\",VLOOKUP(A125,'00 CE'!$B$4:$D$565,3,0)))","v":""}]
["BA1470","Rimborso oneri stipendiali personale sanitario in comando da Regioni, soggetti pubblici e da Università",{"$f":"SUMIF('00 CE'!$B:$B,$A126,'00 CE'!G:G)","v":0},{"$f":"SUMIF('00 CE'!$B:$B,$A126,'00 CE'!F:F)","v":0},0,0,null,{"$f":"IF(A126=\"\",\"\",IF(VLOOKUP(A126,'00 CE'!$B$4:$D$565,3,0)=0,\"\",VLOOKUP(A126,'00 CE'!$B$4:$D$565,3,0)))","v":""}]
["BA1480","Rimborso oneri stipendiali personale sanitario in comando da aziende di altre Regioni (Extraregione)",{"$f":"SUMIF('00 CE'!$B:$B,$A127,'00 CE'!G:G)","v":8025.6},{"$f":"SUMIF('00 CE'!$B:$B,$A127,'00 CE'!F:F)","v":53987.92},-45962.32,-0.85134452299699637,null,{"$f":"IF(A127=\"\",\"\",IF(VLOOKUP(A127,'00 CE'!$B$4:$D$565,3,0)=0,\"\",VLOOKUP(A127,'00 CE'!$B$4:$D$565,3,0)))","v":""}]
["BA1490","ALTRI SERVIZI SANITARI E SOCIOSANITARI A RILEVANZA SANITARIA",{"$f":"SUM(C129:C133)","v":7243962.9199999999},{"$f":"SUM(D129:D133)","v":5607016.7799999993},1636946.1400000006,0.29194600341467158,null,{"$f":"IF(A128=\"\",\"\",IF(VLOOKUP(A128,'00 CE'!$B$4:$D$565,3,0)=0,\"\",VLOOKUP(A128,'00 CE'!$B$4:$D$565,3,0)))","v":"S"}]
["BA1500","Altri servizi sanitari e sociosanitari a rilevanza sanitaria da pubblico - Aziende sanitarie pubbliche della Regione",{"$f":"SUMIF('00 CE'!$B:$B,$A129,'00 CE'!G:G)","v":0},{"$f":"SUMIF('00 CE'!$B:$B,$A129,'00 CE'!F:F)","v":0},0,0,null,{"$f":"IF(A129=\"\",\"\",IF(VLOOKUP(A129,'00 CE'!$B$4:$D$565,3,0)=0,\"\",VLOOKUP(A129,'00 CE'!$B$4:$D$565,3,0)))","v":""}]
["BA1510","Altri servizi sanitari e sociosanitari a rilevanza sanitaria da pubblico - Altri soggetti pubblici della Regione",{"$f":"SUMIF('00 CE'!$B:$B,$A130,'00 CE'!G:G)","v":0},{"$f":"SUMIF('00 CE'!$B:$B,$A130,'00 CE'!F:F)","v":0},0,0,null,{"$f":"IF(A130=\"\",\"\",IF(VLOOKUP(A130,'00 CE'!$B$4:$D$565,3,0)=0,\"\",VLOOKUP(A130,'00 CE'!$B$4:$D$565,3,0)))","v":""}]
["BA1520","Altri servizi sanitari e sociosanitari a rilevanza sanitaria da pubblico (Extraregione)",{"$f":"SUMIF('00 CE'!$B:$B,$A131,'00 CE'!G:G)","v":0},{"$f":"SUMIF('00 CE'!$B:$B,$A131,'00 CE'!F:F)","v":0},0,0,null,{"$f":"IF(A131=\"\",\"\",IF(VLOOKUP(A131,'00 CE'!$B$4:$D$565,3,0)=0,\"\",VLOOKUP(A131,'00 CE'!$B$4:$D$565,3,0)))","v":""}]
["BA1530","Altri servizi sanitari da privato",{"$f":"SUMIF('00 CE'!$B:$B,$A132,'00 CE'!G:G)","v":4913910.1399999997},{"$f":"SUMIF('00 CE'!$B:$B,$A132,'00 CE'!F:F)","v":3534647.28},1379262.8599999999,0.39021230429532416,null,{"$f":"IF(A132=\"\",\"\",IF(VLOOKUP(A132,'00 CE'!$B$4:$D$565,3,0)=0,\"\",VLOOKUP(A132,'00 CE'!$B$4:$D$565,3,0)))","v":""}]
["BA1540","Costi per servizi sanitari - Mobilità internazionale passiva",{"$f":"SUMIF('00 CE'!$B:$B,$A133,'00 CE'!G:G)","v":2330052.7799999998},{"$f":"SUMIF('00 CE'!$B:$B,$A133,'00 CE'!F:F)","v":2072369.5},257683.2799999998,0.12434234339001794,null,{"$f":"IF(A133=\"\",\"\",IF(VLOOKUP(A133,'00 CE'!$B$4:$D$565,3,0)=0,\"\",VLOOKUP(A133,'00 CE'!$B$4:$D$565,3,0)))","v":""}]
["BA1541","B.2.A.16.6)  Costi per servizi sanitari - Mobilità internazionale passiva rilevata dalle ASL",{"$f":"SUMIF('00 CE'!$B:$B,$A134,'00 CE'!G:G)","v":0},{"$f":"SUMIF('00 CE'!$B:$B,$A134,'00 CE'!F:F)","v":0},0,{"$f":"IF(AND(C134=0,D134=0),0,IF(C134=0,\"\",IF(D134=0,\"\",E134/D134)))","v":0},null,{"$f":"IF(A134=\"\",\"\",IF(VLOOKUP(A134,'00 CE'!$B$4:$D$565,3,0)=0,\"\",VLOOKUP(A134,'00 CE'!$B$4:$D$565,3,0)))","v":""}]
["BA1542","B.2.A.16.7) Costi per prestazioni sanitarie erogate da aziende sanitarie estere (fatturate direttamente)",{"$f":"SUMIF('00 CE'!$B:$B,$A135,'00 CE'!G:G)","v":0},{"$f":"SUMIF('00 CE'!$B:$B,$A135,'00 CE'!F:F)","v":0},0,0,null,{"$f":"IF(A135=\"\",\"\",IF(VLOOKUP(A135,'00 CE'!$B$4:$D$565,3,0)=0,\"\",VLOOKUP(A135,'00 CE'!$B$4:$D$565,3,0)))","v":""}]
["BA1550","COSTI PER DIFFERENZIALE TARIFFE TUC",{"$f":"SUMIF('00 CE'!$B:$B,$A136,'00 CE'!G:G)","v":0},{"$f":"SUMIF('00 CE'!$B:$B,$A136,'00 CE'!F:F)","v":0},0,0,null,{"$f":"IF(A136=\"\",\"\",IF(VLOOKUP(A136,'00 CE'!$B$4:$D$565,3,0)=0,\"\",VLOOKUP(A136,'00 CE'!$B$4:$D$565,3,0)))","v":""}]
[null,"TOTALE",{"$f":"C74+C67+C61+C51+C46+C41+C35+C16+C12+C4+C84+C89+C98+C106+C114+C128+C136","v":337098602.43000007},{"$f":"D74+D67+D61+D51+D46+D41+D35+D16+D12+D4+D84+D89+D98+D106+D114+D128+D136","v":331170827.86999995},{"$f":"E74+E67+E61+E51+E46+E41+E35+E16+E12+E4+E84+E89+E98+E106+E114+E128+E136","v":5927774.5600000313},1.789944663340625E-2]

{"sheet":"Farmaceutica Convenzionata","index":18,"n_rows":11,"n_cols":3,"rows_kept":11,"cut":false,"hidden":false,"merged":[[4,1,4,2],[0,1,0,2]]}
[null,"DETTAGLIO SPESA FARMACEUTICA CONVENZIONATA"]
[]
[]
[]
[null,"Spesa Farmaceutica Convenzionata \nConsuntivo 2019"]
[null,"Spesa farmaceutica netta",46454221.759999998]
[null,"Contributo ENPAF ( 0,15%-art.17-DPR 371/98 )",30403.759999999998]
[null,"Contributi a farmacie rurali",137136.5]
[null," Altro (*) "]
[null,"TOTALE  ",{"$f":"SUM(C6:C9)","v":46621762.019999996}]
[null,"valori in €"]

{"sheet":"AS01-AS02","index":19,"n_rows":53,"n_cols":5,"rows_kept":53,"cut":false,"hidden":false,"merged":[[36,1,36,9],[39,1,39,4],[0,0,0,3],[2,0,2,1],[2,2,2,3],[2,4,2,9],[3,0,3,1],[3,4,3,9],[10,0,10,9],[7,0,7,9],[5,0,5,9],[11,0,11,9],[23,1,23,2],[8,0,8,9],[19,0,19,9],[6,0,6,9],[9,0,9,9],[12,0,12,9],[32,0,32,9],[14,0,14,3],[16,0,16,1],[16,2,16,3],[16,4,16,9],[17,0,17,1],[17,4,17,9]]}
["Altre informazioni relative a acquisti di servizi"]
[]
["Informazione",null,"Caso presente in azienda?",null,"Se sì, illustrare"]
["AS01. Sono state rilevate significative variazioni rispetto all'esercizio precedente? ",null,null,"SI","Si veda commento sottostante."]
[]
["Complessivamente, il costo totale per l'acquisto di servizi sanitari ha subito un incremento di €/000 5.528 . Le variazioni più significative hanno riguardato: "]
[" Il costo della  Medicina di Base rileva un decremento   rispetto al 2018  di  €/000 578 riconducibile sostanzialmente  a minori accessi in ADI del servizio  vaccinazioni ."]
["Il costo per acquisti di servizi sanitari per assistenza farmaceutica si è ridotto rispetto al 2018 di - €/000 3.484. Tale variazione è riconducibile alla minore spesa per farmaceutica convenzionata in ragione dell’entrata a regime  della DPC, avviata nel  mese di Agosto 2018."]
["Il costo per acquisti di servizi sanitari - assistenza ospedaliera è aumentato  rispetto al 2018 di complessivi -€/000 7.947  Tale variazione è ascrivibile sostanzialmente all'incremento  del costo per mobilità passiva da pubblico sia extra regionale per €/000 6307 che intra €/000 1.571 . Il costo per prestazioni ospedaliere da privato accreditato intraregione  , invece , rileva un incremento di €/000 1.929 compensato dalla riduzione dei costi per prestazioni ospedaliere rese da privato accreditato nei confranti di pazienti resicdenti in territorio extra regionale -€/ 000 1. 859"]
["il costo per l'acquisto di prestazioni per assistenza specialistica ambulatoriale è diminuito di €/000 719 ascrivibile sostanzialmente al decremento della mobilità da pubblico extra regione di €/000 598 "]
["Il costo per acquisti di prestazioni di distribuzione farmaci File F è aumentato di circa €/000 1.378 . In particolare, detta variazione è dovuta sia all'aumento dei costi per l'acquisto di prestazioni di distribuzione farmaci File F da pubblico extraregione (per €/000 394), sia ai costi per il servizio di distribuzione farmaci PHT (DPC) da parte delle farmacie (€/000 1.279)."]
["Il costo per acquisti di prestazioni  sociosanitari a rilevanza sanitaria è aumentato di circa €/000 1.356 tale variazione ha riguardato  in particolare gli acquisti infraregionali da privato di prestazione di assistenza domiciliare  ed acquisti da privato intraregionale per assistenza a tossicodipendenti ed alcolisti per  €/000 1.125  "]
["Il'incremento del costo sostenuto per acquisti di altri servizi sanitari e sociosanitari a rilevanza sanitaria di circa €/000 1.637 rispetto al 2018  è riconducibile all'incremento del costo del servizio di ossigeno terapia domicialire  di €/000 1.379  in parte dovuta una diversa riclassifica rispetto all'anno precedente degli acquisti per ossigeno e ossigeno terapia domiciliare. Infatti l'ossigeno diminuisce di €/000 882. Inoltre si rileva un icremento del costo di prestazioni in mobilità passiva internazionale."]
[]
["Altre informazioni relative a acquisti di servizi"]
[]
["Informazione",null,"Caso presente in azienda?",null,"Se sì, illustrare"]
["AS01. Sono state rilevate significative variazioni rispetto all'esercizio precedente? ",null,null,"SI","Si veda commento sottostante."]
[]
["Si rappresenta di seguito la suddivisione del costo medici SUMAI tra le varie tipologie specialistiche:"]
[]
[]
[]
[null,"Costo medici SUMAI\n CONSUNTIVO 2019 "]
[null,"Tipologia"]
[null,"Medici",3723136]
[null,"Veterinari",196829]
[null,"Psicologi",158520]
[null,"Penitenziaria",105924]
[null,"Sert",0]
[null,"TOTALE",{"$f":"SUM(C26:C30)","v":4184409}]
[]
["Si precisa che nel costo della Specialistica ambulatoriale è compresa anche la spesa sostenuta per  il Sert, in quanto queste ultime prestazioni vengono rese dagli stessi medici specialisti che contemporaneamente lavorano presso i Distretti."]
[]
[]
["AS02 - Costi per prestazioni sanitarie da privato"]
["AS02 - SI","Con riferimento ai costi per acquisto da privati accreditati di prestazioni sanitarie si evidenzia per l’anno 2019 un volume complessivo del fatturato prodotto leggermente soperiore ai tetti di spesa assegnati. Le prestazioni per   Ambulatoriali Branche a Visita e Termali  presentano un fatturato complessivo entro i tetti di spesa annuale assegnati; per le prestazioni in R.A.  si è già provveduto al saldo finale di liquidazione con il pieno rispetto del Budget assenato; le restanti tipologie di prestazioni (Ricoveri Ospedalieri,   Ambulatoriali, Residenze Protette, R.S.A. e  Riabilitative) presentano un surplus di fatturato rispetto al budget assegnato che, al momento della liquidazione del saldo anno 2019,  dovrà essere riassorbito a seguito dell'emissione di apposite note di credito da parte delle strutture interessate. "]
[]
[]
[null,"DETTAGLIO SCOSTAMENTI FATTURATO/BUDGET PER SPECIALITA'"]
[]
[null,"Tipologia","Fatturato","Budget","Scostamento"]
[]
[null,"RICOVERI",74101489,73127326,{"$f":"C44-D44","v":974163}]
[null,"RES. PROT.",8836167,8578336,{"$f":"C45-D45","v":257831}]
[null,"R.S.A.",5131267,5001203,130064]
[null,"R.A.",772776,772776,0]
[null,"TERMALI",1911464,3286169,-1374705]
[null,"RIABILITAZIONE",14665450,14535122,130328]
[null,"AMB. C.D.C.",6911261,6806648,104613]
[null,"AMB. PRIV.",3593287,3527428,65859]
[null,"BRAN. A VISIT.",37097,45260,-8163]
[null,"TOTALE GENERALE",{"$f":"SUM(C44:C52)","v":115960258},115680268,{"$f":"SUM(E44:E52)","v":279990}]

{"sheet":"Tab 60-bis","index":20,"n_rows":47,"n_cols":9,"rows_kept":47,"cut":false,"hidden":false,"merged":[[0,0,0,8],[5,8,7,8],[26,5,28,5],[26,6,28,6],[26,7,28,7],[26,8,28,8],[4,0,4,8],[5,0,7,0],[5,1,7,1],[5,2,7,2],[5,3,7,3],[26,0,28,0],[26,1,28,1],[26,2,28,2],[26,3,28,3],[26,4,28,4],[5,4,7,4],[5,5,7,5],[5,6,7,6],[5,7,7,7]]}
["Tabella 60-bis - Consulenze sanitarie da privato - articolo 55, comma2, CCNL 8 giugno 2000"]
[]
["Si riporta di seguito il dettaglio dei costi per Consulenze sanitarie da privato - articolo 55, comma2, CCNL 8 giugno 2000, contabilizzate nella voce di conto 0702011503."]
[]
["Dettaglio composizione voce BA1390 \nConsulenze Sanitarie da Privato \nCONSUNTIVO 2019"]
["Medici "," Sede di appartenenza ","Linee di attività ","Motivazione ","Sede di Erogazione della prestazione ","Importo ","Irap ","Totale ","Note "]
[]
[]
["Dirigenza Medica","UOC Centro Trasfusionale","Attività Ambulatoriale","Raccolta Sangue","PO Pescara - PO Penne - PO Popoli",151903.28999999998,12911.800000000001,164815.08999999997]
["Dirigenza Medica","UOC Nefrologia e Dialisi","Trattamenti Dialitici","3° Turno di Dialisi","PO Pescara",124560,10587.609999999999,135147.60999999999]
["Dirigenza Medica","UOC Anestesia e Rianimazione","Sedute Operatorie","Riduzione Liste d'Attesa","PO Pescara - PO Penne - PO Popoli",176580,8965.7900000000009,185545.79]
["Dirigenza Medica","UO varie","Turni Guardia Notturna","Carenza Personale","PO Pescara - PO Penne - PO Popoli",164610,10591.849999999999,175201.85]
["Dirigenza Medica","UOC Servizio Territoriale 118","Turni Guardia Notturna","Carenza Personale","Area Territoriale Asl Pescara",77280,6568.8000000000038,83848.800000000003]
["Dirigenza Medica","UO varie","Attività Ambulatoriale","Riduzione Liste d'Attesa","PO Pescara - PO Penne - PO Popoli",108797.81,8310.369999999999,117108.18]
["Dirigenza Medica","UOC Pronto Soccorso","Turni Guardia Notturna","Carenza Personale","PO Pescara - PO Penne - PO Popoli",282660,18926.11,301586.11]
["Dirigenza Medica","UOC Laboratorio Analisi","Attività Ambulatoriale","Convenzione Forze Ordine","PO Pescara",16351.320000000003,1389.86,17741.180000000004]
["Dirigenza Medica","UO varie Area Chirurgica","Sedute Operatorie","Riduzione Liste d'Attesa","PO Pescara - PO Penne - PO Popoli",270687.58999999997,13602.55,284290.13999999996]
["Dirigenza Medica","UO Malattie Infettive","Attività Ambulatoriale","Monitoraggio HIV","PO Pescara",11638.710000000001,989.31999999999994,12628.03]
["Dirigenza Medica","UO varie","Turni Aggiuntivi Eventi Sportivi","Convenzione Ente Comune","PO Pescara",3990,339.15,4329.1499999999996]
[]
[]
[]
[]
[]
["Totale (A)  ",null,null,null,null,1389058.7200000002,93183.21,1482241.9300000002]
[]
["Altre  Qualifiche  Professionali \n   (Specificare) "," Sede di appartenenza ","Linee di attività ","Motivazione ","Sede di Erogazione della prestazione ","Importo ","Irap ","Totale ","Note "]
[]
[]
["Personale di Equipe","UOC Centro Trasfusionale","Attività Ambulatoriale","Raccolta Sangue","PO Pescara - PO Penne - PO Popoli",211151.49,19937.840000000007,231089.33]
["Personale di Equipe","UOC Nefrologia e Dialisi","Trattamenti Dialitici","3° Turno di Dialisi","PO Pescara",271289.16999999993,20990.129999999997,292279.29999999993]
["Personale di Equipe","UO varie","Turni Guardia Notturna","Carenza Personale","PO Pescara - PO Penne - PO Popoli",2040,173.39999999999998,2213.4]
["Personale di Equipe","UOC Centro Trasfusionale","Attività Ambulatoriale","Raccolta Sangue","PO Pescara - PO Penne - PO Popoli",121906.39000000001,4767.4299999999994,126673.82]
["Personale di Equipe","UOC Radioterapia","Trattamenti Radioterapici","Riduzione Liste d'Attesa","PO Pescara - PO Penne - PO Popoli",39591.259999999995,2856,42447.259999999995]
["Personale di Equipe","UO varie","Attività Ambulatoriale","Riduzione Liste d'Attesa","PO Pescara - PO Penne - PO Popoli",86429.32,7970.6900000000005,94400.010000000009]
["Personale di Equipe","UO Malattie Infettive","Attività Ambulatoriale","Monitoraggio HIV","PO Pescara",25114.310000000005,2522.0900000000006,27636.400000000005]
["Personale di Equipe","UOC Laboratorio Analisi","Attività Ambulatoriale","Convenzione Forze Ordine","PO Pescara",64752.589999999982,5961.2200000000021,70713.809999999983]
["Personale di Equipe","UO varie Area Chirurgica","Sedute Operatorie","Riduzione Liste d'Attesa","PO Pescara - PO Penne - PO Popoli",137073.15,9153.260000000002,146226.41]
["Personale di Equipe","UO varie","Attività Ambulatoriale","Riduzione Liste d'Attesa","PO Pescara",16687.2,492,17179.2]
["Personale di Equipe","UO varie","Sperimentazione","Convenzione Enti Diversi","PO Pescara",2274.4,156.16000000000003,2430.56]
[]
[]
[]
[]
[]
["Totale  (B)",null,null,null,null,978309.27999999991,74980.220000000016,1053289.5]
["TOTALE ( A+B)",null,null,null,null,2367368,168163.43000000002,2535531.4300000002]

{"sheet":"Tab 61","index":21,"n_rows":63,"n_cols":14,"rows_kept":63,"cut":false,"hidden":false,"merged":[[61,10,62,10],[61,11,62,11],[61,12,62,12],[59,9,60,9],[59,10,60,10],[59,11,60,11],[59,12,60,12],[61,0,62,0],[61,1,62,1],[61,2,62,2],[61,3,62,3],[61,4,62,4],[61,7,62,7],[61,8,62,8],[61,9,62,9],[57,9,58,9],[57,10,58,10],[57,11,58,11],[59,0,60,0],[59,1,60,1],[59,2,60,2],[59,3,60,3],[59,4,60,4],[59,7,60,7],[59,8,60,8],[57,0,58,0],[57,2,58,2],[57,3,58,3],[57,4,58,4],[57,7,58,7],[57,8,58,8],[55,9,56,9],[55,10,56,10],[55,11,56,11],[55,12,56,12],[53,8,54,8],[53,9,54,9],[53,10,54,10],[53,11,54,11],[53,12,54,12],[51,9,52,9],[51,10,52,10],[51,11,52,11],[51,12,52,12],[53,0,54,0],[53,1,54,1],[53,2,54,2],[53,3,54,3],[53,4,54,4],[53,7,54,7],[51,1,52,1],[51,2,52,2],[51,3,52,3],[51,4,52,4],[51,7,52,7],[51,8,52,8],[55,0,56,0],[55,1,56,1],[55,2,56,2],[55,3,56,3],[55,4,56,4],[55,7,56,7],[55,8,56,8],[47,12,48,12],[49,1,50,1],[49,2,50,2],[49,3,50,3],[49,4,50,4],[49,7,50,7],[49,8,50,8],[49,9,50,9],[49,10,50,10],[49,11,50,11],[49,12,50,12],[47,1,48,1],[47,2,48,2],[47,3,48,3],[47,4,48,4],[47,7,48,7],[47,8,48,8],[47,9,48,9],[47,10,48,10],[47,11,48,11],[43,9,44,9],[43,10,44,10],[43,11,44,11],[43,12,44,12],[45,1,46,1],[45,2,46,2],[45,3,46,3],[45,4,46,4],[45,7,46,7],[45,8,46,8],[43,1,44,1],[43,2,44,2],[43,3,44,3],[43,4,44,4],[43,7,44,7],[43,8,44,8],[45,9,46,9],[45,10,46,10],[45,11,46,11],[45,12,46,12],[41,7,42,7],[41,8,42,8],[41,9,42,9],[41,10,42,10],[41,11,42,11],[41,12,42,12],[39,8,40,8],[39,9,40,9],[39,10,40,10],[39,11,40,11],[39,12,40,12],[39,7,40,7],[41,0,42,0],[41,1,42,1],[41,2,42,2],[41,3,42,3],[41,4,42,4],[39,0,40,0],[39,1,40,1],[39,2,40,2],[39,3,40,3],[39,4,40,4],[37,7,38,7],[37,8,38,8],[37,9,38,9],[37,10,38,10],[37,11,38,11],[37,12,38,12],[35,8,36,8],[35,9,36,9],[35,10,36,10],[35,11,36,11],[35,12,36,12],[35,7,36,7],[37,0,38,0],[37,1,38,1],[37,2,38,2],[37,3,38,3],[37,4,38,4],[35,0,36,0],[35,1,36,1],[35,2,36,2],[35,3,36,3],[35,4,36,4],[33,7,34,7],[33,8,34,8],[33,9,34,9],[33,10,34,10],[33,11,34,11],[33,12,34,12],[31,8,32,8],[31,9,32,9],[31,10,32,10],[31,11,32,11],[31,12,32,12],[31,7,32,7],[33,0,34,0],[33,1,34,1],[33,2,34,2],[33,3,34,3],[33,4,34,4],[31,0,32,0],[31,1,32,1],[31,2,32,2],[31,3,32,3],[31,4,32,4],[29,7,30,7],[29,8,30,8],[29,9,30,9],[29,10,30,10],[29,11,30,11],[29,12,30,12],[27,8,28,8],[27,9,28,9],[27,10,28,10],[27,11,28,11],[27,12,28,12],[27,7,28,7],[29,0,30,0],[29,1,30,1],[29,2,30,2],[29,3,30,3],[29,4,30,4],[27,0,28,0],[27,1,28,1],[27,2,28,2],[27,3,28,3],[27,4,28,4],[25,7,26,7],[25,8,26,8],[25,9,26,9],[25,10,26,10],[25,11,26,11],[25,12,26,12],[23,8,24,8],[23,9,24,9],[23,10,24,10],[23,11,24,11],[23,12,24,12],[23,7,24,7],[25,0,26,0],[25,1,26,1],[25,2,26,2],[25,3,26,3],[25,4,26,4],[23,0,24,0],[23,1,24,1],[23,2,24,2],[23,3,24,3],[23,4,24,4],[21,7,22,7],[21,8,22,8],[21,9,22,9],[21,10,22,10],[21,11,22,11],[21,12,22,12],[19,8,20,8],[19,9,20,9],[19,10,20,10],[19,11,20,11],[19,12,20,12],[19,7,20,7],[21,0,22,0],[21,1,22,1],[21,2,22,2],[21,3,22,3],[21,4,22,4],[19,0,20,0],[19,1,20,1],[19,2,20,2],[19,3,20,3],[19,4,20,4],[17,7,18,7],[17,8,18,8],[17,9,18,9],[17,10,18,10],[17,11,18,11],[17,12,18,12],[15,8,16,8],[15,9,16,9],[15,10,16,10],[15,11,16,11],[15,12,16,12],[15,7,16,7],[17,0,18,0],[17,1,18,1],[17,2,18,2],[17,3,18,3],[17,4,18,4],[15,0,16,0],[15,1,16,1],[15,2,16,2],[15,3,16,3],[15,4,16,4],[13,7,14,7],[13,8,14,8],[13,9,14,9],[13,10,14,10],[13,11,14,11],[13,12,14,12],[11,8,12,8],[11,9,12,9],[11,10,12,10],[11,11,12,11],[11,12,12,12],[11,7,12,7],[13,0,14,0],[13,1,14,1],[13,2,14,2],[13,3,14,3],[13,4,14,4],[11,0,12,0],[11,1,12,1],[11,2,12,2],[11,3,12,3],[11,4,12,4],[3,11,4,11],[3,12,4,12],[9,0,10,0],[9,1,10,1],[9,2,10,2],[9,3,10,3],[9,4,10,4],[7,0,8,0],[7,1,8,1],[7,2,8,2],[7,3,8,3],[7,4,8,4],[9,7,10,7],[9,8,10,8],[9,9,10,9],[9,10,10,10],[9,11,10,11],[9,12,10,12],[7,8,8,8],[7,9,8,9],[7,10,8,10],[7,11,8,11],[7,12,8,12],[7,7,8,7],[5,0,6,0],[5,1,6,1],[5,2,6,2],[5,3,6,3],[5,4,6,4],[1,10,2,10],[1,11,2,11],[1,12,2,12],[1,13,2,13],[3,0,4,0],[3,1,4,1],[3,2,4,2],[3,3,4,3],[3,4,4,4],[3,7,4,7],[5,7,6,7],[5,8,6,8],[5,9,6,9],[5,10,6,10],[5,11,6,11],[5,12,6,12],[3,8,4,8],[3,9,4,9],[3,10,4,10],[0,0,0,9],[1,0,2,0],[1,1,2,1],[1,2,2,2],[1,3,2,3],[1,4,2,4],[1,5,2,6],[1,7,2,7],[1,8,2,8],[1,9,2,9]]}
["Tab. 61 – Dettaglio acquisti di servizi sanitari da privato"]
["DETTAGLIO ACQUISTI DI SERVIZI SANITARI - DA PRIVATO","Codice Struttura da classificazione NSIS","Partita IVA (o Codice Fiscale)","Tipologia di prestazione","Anno di competenza","Importo fatturato",null,"Budget / Tetto annuale","Fatturato extra budget","Importo liquidato/ certificato","Importo Rilevato in Co.Ge.","Importo delle note di credito richieste","Importo delle note di credito ricevute","Importo pagato"]
[null,"Codice Struttura Sts11","Partita Iva",null,null,null,null,"Valore Considerato A Budget Nella Fase Di Liquidazione - Per L'Anno 2008 E Ante Indicare La Parte Residua, Ovvero Il Delta Rilevato Tra Importo Fatturato (Al Netto Di Eventuali Note Di Credito) Ed Il Budget Di Riferimento.",null,null,"Importo Rilevato In Coge","Importo Delle Note Di Credito Richieste","Importo Delle Note Di Credito Richieste"]
["C.D.C. VILLA SERENA",130024,1220790685,"Ricoveri",2019,"Regionale",{"$f":"35692814.88","v":35692814.880000003},37973805,{"$f":"G4+G5-H4","v":973863.69000000507},{"$f":"N4+N5","v":36186745.780000001},{"$f":"G4+G5-L4","v":37973804.690000005},973864,0,33802499.219999999]
[null,null,null,null,null,"Extra-regionale",3254853.81,null,null,null,null,null,null,2384246.56]
["C.D.C. SYNERGO",130022,62520689,"Ricoveri",2019,"Regionale",29981743.539999999,35153521,{"$f":"G6+G7-H6","v":299.24000000208616},{"$f":"N6+N7","v":32665001.219999999},{"$f":"G6+G7-L6","v":35153521.240000002},299,0,28104140.18]
[null,null,null,null,null,"Extra-regionale",5172076.7,null,null,null,null,null,null,4560861.04]
["C.D.C. VILLA SERENA","001302 - 001312",1220790685,"Residenze protette",2019,"Regionale",8836166.8900000006,8578336.3399999999,{"$f":"G8+G9-H8","v":257830.55000000075},{"$f":"N8+N9","v":8341554.5700000003},{"$f":"G8+G9-L8","v":8578336.3399999999},257830.55,0,8341554.5700000003]
[null,null,null,null,null,"Extra-regionale",0,null,null,null,null,null,null,0]
["C.D.C. VILLA SERENA","001313",1220790685,"R.S.A.",2019,"Regionale",2063291.16,1861701,{"$f":"G10+G11-H10","v":201590.15999999992},{"$f":"N10+N11","v":1937014.14},{"$f":"G10+G11-L10","v":1861701.16},201590,0,1937014.14]
[null,null,null,null,null,"Extra-regionale",0,null,null,null,null,null,null,0]
["C.I.S.E.",130119,1741480683,"R.S.A.",2019,"Regionale",615498.94999999995,737495.64,-121996.69000000006,{"$f":"N12+N13","v":568659.93999999994},{"$f":"G12+G13","v":615498.94999999995},0,0,568659.93999999994]
[null,null,null,null,null,"Extra-regionale",0,null,null,null,null,null,null,0]
["CASA DI CURA MEDAGLIA D'ORO DE CESARIS S.P.A.","006246","00117030684","R.S.A.",2019,"Regionale",2452476.65,2402007,{"$f":"G14+G15-H14","v":50469.649999999907},{"$f":"N14+N15","v":2233688.1800000002},{"$f":"G14+G15-L14","v":2402006.65},50470,0,2233688.1800000002]
[null,null,null,null,null,"Extra-regionale",0,null,null,null,null,0,0,0]
["IL GIARDINO",130108,1562130680,"R.A.",2019,"Regionale",772775.72,772775.72,0,{"$f":"N16+N17","v":763441.97},{"$f":"G16+G17","v":772775.72},null,null,763441.97]
[null,null,null,null,null,"Extra-regionale",0]
["TERME DI POPOLI","018101",1125990687,"Termali",2019,"Regionale",725463.81,769864,-3813.7699999999022,{"$f":"N18+N19","v":766050.2300000001},{"$f":"G18+G19","v":766050.2300000001},null,null,725463.81]
[null,null,null,null,null,"Extra-regionale",40586.42,null,null,null,null,null,null,40586.42]
["TERME DI CARAMANICO","018001",1113020687,"Termali",2019,"Regionale",991081.47,2516305,-1370891.55,{"$f":"N20+N21","v":1145413.45},{"$f":"G20+G21","v":1145413.45},null,null,991081.47]
[null,null,null,null,null,"Extra-regionale",154331.98000000001,null,null,null,null,null,null,154331.98000000001]
["IST. DON ORIONE",130063,1105681009,"Riabilitazione",2019,"Regionale",3936951.99,3919657.15,{"$f":"G22+G23-H22","v":17294.840000000317},{"$f":"N22+N23","v":3574218.81},{"$f":"G22+G23-L22","v":3919656.99},17295,0,3574218.81]
[null,null,null,null,null,"Extra-regionale"]
["FOND. PAPA PAOLO VI","130060/64/65/79/80/81/82",1127170684,"Riabilitazione",2019,"Regionale",8849106.4499999993,8723716.8800000008,{"$f":"G24+G25-H24","v":125389.56999999844},{"$f":"N24+N25","v":8002543.5800000001},{"$f":"G24+G25-L24","v":8723716.4499999993},125390,0,8002543.5800000001]
[null,null,null,null,null,"Extra-regionale"]
["SAN STEF AR SRL","130061-130062",2014620682,"Riabilitazione",2019,"Regionale",1703513.86,1703625,-111.13999999989755,{"$f":"N26+N27","v":1526237.68},{"$f":"G26+G27","v":1703513.86},0,0,1526237.68]
[null,null,null,null,null,"Extra-regionale"]
["CENTRO DI SOLIDARIETA' ASS.GRUP.S. ONLUS",130777,91002370681,"Riabilitazione",2019,"Regionale",175877.87,188123.32,-12245.450000000012,{"$f":"N28+N29","v":156058.22},{"$f":"G28+G29","v":175877.87},0,0,156058.22]
[null,null,null,null,null,"Extra-regionale"]
["C.D.C. VILLA SERENA","001301-001314-001315",1220790685,"Ambulatoriale Case di Cura",2019,"Regionale",3740580.52,3706204,{"$f":"G30+G31-H30","v":129105.99000000022},{"$f":"N30+N31","v":3426790.4200000004},{"$f":"G30+G31-L30","v":3706203.99},129106,0,3341049.47]
[null,null,null,null,null,"Extra-regionale",94729.47,null,null,null,null,null,null,85740.95]
["C.D.C. SYNERGO","000501-000502-000503",62520689,"Ambulatoriale Case di Cura",2019,"Regionale",3009053.71,3100444,-24493.299999999814,{"$f":"N32+N33","v":2921923.6199999996},{"$f":"G32+G33","v":3075950.7},0,0,2858436.3]
[null,null,null,null,null,"Extra-regionale",66896.990000000005,null,null,null,null,null,null,63487.32]
["ISTITUTO DON ORIONE ","003101",1105681009,"Ambulatoriale Altri Privati",2019,"Regionale",149108.13,141137,{"$f":"G34+G35-H34","v":8121.8000000000175},{"$f":"N34+N35","v":134040.27000000002},{"$f":"G34+G35-L34","v":141136.80000000002},8122,0,133889.60000000001]
[null,null,null,null,null,"Extra-regionale",150.66999999999999,null,null,null,null,null,null,150.66999999999999]
["CENTRO FISIOCHINESITERAPICO DELLA DOT.MASCI GIOVANNA & C. S.A.S.","003801",1103910681,"Ambulatoriale Altri Privati",2019,"Regionale",275156.82,274626,{"$f":"G36+G37-H36","v":1700.6699999999837},{"$f":"N36+N37","v":252773.21999999997},{"$f":"G36+G37-L36","v":274625.67},1701,0,251612.86]
[null,null,null,null,null,"Extra-regionale",1169.8499999999999,null,null,null,null,null,null,1160.3599999999999]
["VUZA MARIA & C S.A.S.","003601",1107760686,"Ambulatoriale Altri Privati",2019,"Regionale",217294.91,218182,{"$f":"G38+G39-H38","v":514.86999999999534},{"$f":"N38+N39","v":201077.71},{"$f":"G38+G39-L38","v":218181.87},515,0,199763.18]
[null,null,null,null,null,"Extra-regionale",1401.96,null,null,null,null,null,null,1314.53]
["FISIOTER S.A.S.","003401",944790682,"Ambulatoriale Altri Privati",2019,"Regionale",395075.81,403623,{"$f":"G40+G41-H40","v":38.35999999998603},366976.42000000004,{"$f":"G40+G41-L40","v":403623.36},38,0,359355.59]
[null,null,null,null,null,"Extra-regionale",8585.5499999999993,null,null,null,null,null,null,7620.83]
["CLINITEST S.R.L.","010501",200370682,"Ambulatoriale Altri Privati",2019,"Regionale",52364.02,51611,{"$f":"G42+G43-H42","v":935.87999999999738},44450.39,{"$f":"G42+G43-L42","v":51610.879999999997},936,0,44305.35]
[null,null,null,null,null,"Extra-regionale",182.86,null,null,null,null,null,null,145.04]
["CO.PAN SAS ISTITUTO DI FISIOKINESITERAPIA","009151",908760689,"Ambulatoriale Altri Privati",2019,"Regionale",142516.35,135987,{"$f":"G44+G45-H44","v":7129.0500000000175},128210.54,{"$f":"G44+G45-L44","v":135987.05000000002},7129,0,127610.84]
[null,null,null,null,null,"Extra-regionale",599.70000000000005,null,null,null,null,null,null,599.70000000000005]
["4R SNC STUDIO DI RADIOLOGIA MEDICA","003701",307580688,"Ambulatoriale Altri Privati",2019,"Regionale",74525.7,75011,-56.94999999999709,67895.47,{"$f":"G46+G47","v":74954.05},0,0,67534.81]
[null,null,null,null,null,"Extra-regionale",428.35,null,null,null,null,null,null,360.66]
["COLAROSSI ROBERTO & C. SAS","004201",1339250688,"Ambulatoriale Altri Privati",2019,"Regionale",109495.54,109575,-79.460000000006403,99243.39,{"$f":"G48+G49","v":109495.54},0,0,99243.39]
[null,null,null,null,null,"Extra-regionale",0,null,null,null,null,null,null,0]
["RADIOLOGIA MEDICA REGINA MARGHERITA","010801",322520685,"Ambulatoriale Altri Privati",2019,"Regionale",110199.53,112961,-1772.9900000000052,100808.87,{"$f":"G50+G51","v":111188.01},0,0,99989.06]
[null,null,null,null,null,"Extra-regionale",988.48,null,null,null,null,null,null,819.81]
["BLEU  SRL RADIOLOGIA","004501",997880687,"Ambulatoriale Altri Privati",2019,"Regionale",389597.69,{"$f":"176290+189573","v":365863},{"$f":"G52+G53-H52","v":27154.409999999974},329776.51,{"$f":"G52+G53-L52","v":365863.41},27154,0,326963.69]
[null,null,null,null,null,"Extra-regionale",3419.72,null,null,null,null,null,null,2812.82]
["DOTT. ROLANDO COLLEVECCHIO","009601",1093440681,"Ambulatoriale Altri Privati",2019,"Regionale",33613,23833,{"$f":"G54+G55-H54","v":9879.18},19153.260000000002,{"$f":"G54+G55-L54","v":23833.18},9879,0,19097.77]
[null,null,null,null,null,"Extra-regionale",99.18,null,null,null,null,null,null,55.49]
["CONSORZIO GRUPPO ATQ",null,1959880681,"Ambulatoriale Altri Privati",2019,"Regionale",1033444.75,1035060,{"$f":"G56+G57-H56","v":12194.520000000019},945221.75,{"$f":"G56+G57-L56","v":1035059.52},12195,0,933023.52]
[null,null,null,null,null,"Extra-regionale",13809.77,null,null,null,null,null,null,12198.23]
["LIFECARE S.R.L.",null,3435870286,"Ambulatoriale Altri Privati",2019,"Regionale",572171.62,579959,{"$f":"G58+G59-H58","v":100.05000000004657},518684.87,{"$f":"G58+G59-L58","v":579959.05000000005},100,0,511768.7]
[null,null,null,null,null,"Extra-regionale",7887.43,null,null,null,null,null,0,6916.17]
["DOTT.SSA ORLANDI","014401",1212420689,"Branche a visita",2019,"Regionale",16066.8,22554,-6487.2000000000007,12887.88,{"$f":"G60+G61","v":16066.8},0,0,12887.88]
[null,null,null,null,null,"Extra-regionale",0,null,null,null,null,null,null,0]
["DOTT. MINICUCCI","006001",1887300687,"Branche a visita",2019,"Regionale",20459.04,22706,-1675.3799999999974,16653.29,{"$f":"G62+G63","v":21030.620000000003},0,0,16178.68]
[null,null,null,null,null,"Extra-regionale",571.58000000000004,null,null,null,null,null,null,474.61]

{"sheet":"Tab 61bis","index":22,"n_rows":45,"n_cols":3,"rows_kept":45,"cut":false,"hidden":false,"merged":[[41,0,41,1],[43,0,43,1],[2,0,2,2],[5,0,5,1],[16,0,16,1],[18,0,18,1],[34,0,34,1],[36,0,36,1]]}
[]
[null,null,"Tabella 61-bis"]
["Dettaglio acquisti da privato di prestazioni non rientranti nei contratti negoziali \n(Acquisti Diretti)"]
["Struttura privata erogante","Tipologia assistenza/prestazione","Totale prestazione al 31/12/19"]
["VILLA SERENA DR.L.PETRUZZI S.R.L.","Specialistica ambulatoriale ",518.26]
["CONTO 0702010313 - Servizi sanitari da case di cura private - per cittadini residenti acquistate fuori contratti negoziali in strutture entro Regione (Assistenza Specialistica Ambulatoriale)",null,{"$f":"SUM(C5:C5)","v":518.26}]
["LEGA DEL FILO D'ORO","Riabilitazione ex art. 26",12742.89]
["OPERA PIA ESSA G.MANCINELLIMONTELPARO","Riabilitazione ex art. 26",{"$f":"76714.59+15369.52+10127.96","v":102212.07}]
["KOS CARE S.R.L.(EX IST. RIAB. SANTO STEFANO)","Riabilitazione ex art. 26",{"$f":"59907.94+8037.96+8215","v":76160.900000000009}]
["COOP. LUCE SUL MARE SOC. COOP.SOCIALECENTRO DI RIABILITAZIONE PRIVATO","Riabilitazione ex art. 26",{"$f":"56112+4704","v":60816}]
["FONDAZIONE DON CARLO GNOCCHI","Riabilitazione ex art. 26",1016.14]
["FONDAZIONE I.P.S. CARDINAL GUSMINI","Riabilitazione ex art. 26",5465.6]
["ATENA SRL","Riabilitazione ex art. 26",42941.599999999999]
["IST. DI RIAB. C.A.R.S.I.C.","Riabilitazione ex art. 26",{"$f":"42356+4200+4060","v":50616}]
["UNIVERSO SALUTE S.R.L.","Riabilitazione ex art. 26",{"$f":"202752.7+9429.75+9429.75","v":221612.2}]
["CENTRO RIABILITAZIONE MOTORIA PADRE PIO","Riabilitazione ex art. 26",9516.44]
["CONTO 0702010408 - Da privato accreditato per cittadini residenti acquistate in strutture fuori Regione (Riabilitazione ex art. 26)",null,{"$f":"SUM(C7:C16)","v":583099.84}]
["CONSORZIO COOPERATIVE SOCIALI S.G.S.","Assistenza psichiatrica",802255.34]
["CONTO 0702010807 - Da privato accreditato per cittadini residenti acquistate fuori contratti negoziali in strutture entro Regione (Strutture Psicoriabilitative) (intraregionale)",null,{"$f":"SUM(C18)","v":802255.34}]
["INVESTIMENTI CERESIO","Assistenza psichiatrica",124155]
["GNOSIS S.C.R.L.","Assistenza psichiatrica",13440.74]
["COOPERATIVA ARL RAYMOND GLEDHILL ONLUS","Assistenza psichiatrica",2031.75]
["IL PORTO - ONLUS ASSOCIAZIONE","Assistenza psichiatrica",72627.7]
["GESTI-VAR SRL","Assistenza psichiatrica",126936]
["LA GOCCIA S.C.A.R.L.","Assistenza psichiatrica",8500.7999999999993]
["LA GOCCIA SOC.COOP.SOCIALE","Assistenza psichiatrica",273402.59999999998]
["SERENITY HOUSE EAGLES SRLCASA DI RIPOSO-CASA PROTETTA-","Assistenza psichiatrica",48608]
["ATENA SRL","Assistenza psichiatrica",468620]
["ITALIAN HOSPITAL GROUP","Assistenza psichiatrica",46704]
["SUORE OSPEDALIERE","Assistenza psichiatrica",510]
["SOGGIORNO MADRE CABRINI","Assistenza psichiatrica",15360]
["SERENI ORIZZONTI SPA","Assistenza psichiatrica",391442]
["SOCIETA' COOP. SOC. INTERACTIV","Assistenza psichiatrica",26318.85]
["COOPERATIVA SOC.TRAGITTI SOC.COOP.ONLUS","Assistenza psichiatrica",46768.68]
["CONTO 0702010809 - Da privato accreditato per cittadini residenti acquistate in strutture fuori Regione (Strutture Psicoriabilitative) (extraregionale)",null,{"$f":"SUM(C20:C34)","v":1665426.1199999999}]
["DIAVERUM ITALIA SRL","Assistenza sanitaria",606420.29]
["CONTO 0702011225 - Altre prestazioni socio sanitarie a rilevanza sanitaria da privato (intraregionale e extraregionale)",null,{"$f":"SUM(C36)","v":606420.29}]
["A.S.P. PAOLO RICCI AZ.PUBBLICA DI SERVIZ","Assistenza geriatrica",21184.400000000001]
["AnF.F.F.A.S. CENTRO LARIO","Assistenza geriatrica",24228]
["SAMNIUM  SRL","Assistenza geriatrica",800]
["A.N.F.F.A.S. ONLUS CONERO","Assistenza geriatrica",24426.33]
["CONTO 0702011226 - Da privato accreditato per assistenza geriatrica per cittadini residenti acquistate in strutture fuori Regione (Centri Residenziali)",null,{"$f":"SUM(C38:C41)","v":70638.73000000001}]
["CONGREG.PICCOLE SUORE MISSIONARIE DELLACARITA' PICCOLO COTTOLENGO DI DON ORIONE","Assistenza geriatrica",36463.5]
["CONTO 0702011227 - Da privato accreditato per assistenza geriatrica per cittadini residenti acquistate in strutture fuori Regione (Residenze Sanitarie Assistite)",null,{"$f":"SUM(C43:C43)","v":36463.5}]
["TOTALE GENERALE",null,{"$f":"C6+C17+C19+C35+C37+C42+C44","v":3764822.0799999996}]

{"sheet":"AS03","index":23,"n_rows":60,"n_cols":6,"rows_kept":60,"cut":false,"hidden":false,"merged":[[52,0,52,3],[56,0,56,6],[57,0,57,6],[58,0,58,6],[59,0,59,6],[8,1,8,3],[10,1,10,3],[12,1,12,3],[28,2,28,3],[30,2,30,3],[26,2,26,3],[14,1,14,3],[29,2,29,3],[25,2,25,3],[24,2,24,3],[19,2,19,3],[20,2,20,3],[21,2,21,3],[22,2,22,3],[23,2,23,3],[17,2,17,3],[51,1,51,3],[46,2,46,3],[47,2,47,3],[48,2,48,3],[42,2,42,3],[43,2,43,3],[44,2,44,3],[45,2,45,3],[49,2,49,3],[18,2,18,3],[27,2,27,3],[32,2,32,3],[34,2,34,3],[33,2,33,3],[9,2,9,3],[16,2,16,3],[13,2,13,3],[11,2,11,3],[15,2,15,3],[0,0,0,6],[2,1,2,4],[4,2,4,3],[7,2,7,3],[5,2,5,3],[6,1,6,3],[6,5,6,6],[40,2,40,3],[41,2,41,3],[50,2,50,3],[31,2,31,3],[35,2,35,3],[36,2,36,3],[37,2,37,3],[38,2,38,3],[39,2,39,3]]}
["AS03 - Consulenze, Collaborazioni, Interinale e altre prestazioni di lavoro sanitarie e sociosanitarie"]
[]
["AS03 - SI","Nell'esercizio sono stati rilevati costi per consulenze, collaborazioni, interinale e altre prestazioni di lavoro sanitarie e sociosanitarie. Si veda dettaglio sottostante per tipologia di prestazione, soggetto fornitore e importo."]
[]
["Cod. Conto","Descrizione","Fornitore",null,"Importo"]
["0702011503","Consulenze sanitarie da privato - articolo 55, comma 2, CCNL 8 giugno 2000","PERSONALE  - VARIE QUALIFICHE",null,2367368.34]
["0702011503","Consulenze sanitarie da privato - articolo 55, comma 2, CCNL 8 giugno 2000",null,null,{"$f":"SUM(E6)","v":2367368.34},"IMPORTO DETTAGLIATO ALLA TABELLA 60-bis"]
["0702011504","Altre consulenze sanitarie e sociosanitarie da privato","MEDICI SPECIALISTICI AMBULATORIALI INTERNI",null,11041.25]
["0702011504","Altre consulenze sanitarie e sociosanitarie da privato",null,null,{"$f":"SUM(E8)","v":11041.25}]
["0702011510","Indennità a personale universitario - area sanitaria","Università G. d'Annunzio di Chieti",null,253677.26]
["0702011510","Totale Indennità a personale universitario - area sanitaria",null,null,{"$f":"SUM(E10)","v":253677.26}]
["0702011511","Lavoro interinale - area sanitaria","MANPOWER SRL",null,2555444.7999999998]
["0702011511","Totale lavoro interinale - area sanitaria",null,null,{"$f":"SUM(E12)","v":2555444.7999999998}]
["0702011515","Altre collaborazioni e prestazioni di lavoro - area sanitaria","MEDICI SPECIAL AMBULATORIALI INTERNI TIT",null,24527.29]
["0702011515","Totale Altre collaborazioni e prestazioni di lavoro - area sanitaria",null,null,{"$f":"SUM(E14)","v":24527.29}]
["0702011516","Personale tirocinante compresi oneri riflessi","LEPORATI LUCA",null,600]
["0702011516","Personale tirocinante compresi oneri riflessi","CAPODICASA SANDRA",null,1800]
["0702011516","Personale tirocinante compresi oneri riflessi","CIRILLO GIULIO",null,1780]
["0702011516","Personale tirocinante compresi oneri riflessi","DAPRILE STEFANO",null,1280]
["0702011516","Personale tirocinante compresi oneri riflessi","DELLA SOLA MASSIMO",null,1800]
["0702011516","Personale tirocinante compresi oneri riflessi","DI FRANCESCO LOLITA",null,1800]
["0702011516","Personale tirocinante compresi oneri riflessi","DI GIAMBERARDINO DIANA",null,1800]
["0702011516","Personale tirocinante compresi oneri riflessi","MAZZONCELLI MASSIMO",null,1800]
["0702011516","Personale tirocinante compresi oneri riflessi","PRIMATERRA PRISCILLA",null,1800]
["0702011516","Personale tirocinante compresi oneri riflessi","ZAINO MARIELLA",null,1800]
["0702011516","Personale tirocinante compresi oneri riflessi","INAIL PESCARA",null,406.77]
["0702011516","Personale tirocinante compresi oneri riflessi","IRAP",null,1382.1]
["0702011516",null,"Totale personale tirocinante compresi oneri riflessi",null,{"$f":"SUM(E16:E27)","v":18048.87}]
["0702011517","Borsisti compresi oneri riflessi","DI CENSO ERICA",null,21031]
["0702011517","Borsisti compresi oneri riflessi","DELL'ORLETTA ELEONORA",null,9962]
["0702011517","Borsisti compresi oneri riflessi","VITULLO FELICE",null,25236]
["0702011517","Borsisti compresi oneri riflessi","LUCIANI STEFANIA",null,16465]
["0702011517","Borsisti compresi oneri riflessi","SBARAGLIA VALENTINA",null,1137]
["0702011517","Borsisti compresi oneri riflessi","PERROTTA ELEONORA",null,8138]
["0702011517","Borsisti compresi oneri riflessi","PETACCIA VALENTINA",null,8137]
["0702011517","Borsisti compresi oneri riflessi","DONATO SIMONE",null,14228]
["0702011517","Borsisti compresi oneri riflessi","D'ALESSANDRO MASSIMO",null,10324]
["0702011517","Borsisti compresi oneri riflessi","DI CARLO SIMONA",null,8061]
["0702011517","Borsisti compresi oneri riflessi","AMICANTONIO ALESSANDRA",null,8599]
["0702011517","Borsisti compresi oneri riflessi","DI NICOLA LORELLA",null,1657]
["0702011517","Borsisti compresi oneri riflessi","LO STERZO ROSA",null,5589.97]
["0702011517","Borsisti compresi oneri riflessi","MASCIA MANLIO",null,18120]
["0702011517","Borsisti compresi oneri riflessi","IANNELLI TIZIANA",null,21030]
["0702011517","Borsisti compresi oneri riflessi","RINCHI ALICE",null,5928]
["0702011517","Borsisti compresi oneri riflessi","SANTONE CELESTE",null,19476]
["0702011517","Borsisti compresi oneri riflessi","DI GIAMBATTISTA MONICA",null,15142]
["0702011517","Borsisti compresi oneri riflessi","SASSO ELENA",null,12388]
["0702011517","Borsisti compresi oneri riflessi","DRAGANI MARIA GRAZIA ANIA",null,12519]
["0702011517","Borsisti compresi oneri riflessi","DI BERARDINO ALESSANDRA",null,15913]
["0702011517","Borsisti compresi oneri riflessi","I.N.P.S. ",null,32462]
["0702011517","Borsisti compresi oneri riflessi","IRAP",null,23772]
["0702011517","Borsisti compresi oneri riflessi",null,null,{"$f":"SUM(E29:E51)","v":315314.96999999997}]
["VOCE BA 1380 - TOTALE CONSULENZE, COLLABORAZIONI, INTERINALE, ALTRE PRESTAZIONI DI LAVORO SANITARIE E SOCIO-SANITARIE DA PRIVATO",null,null,null,{"$f":"E7+E9+E11+E13+E15+E28+E52","v":5545422.7799999993}]
[]
[]
[]
["La voce di CE BA1380 \"Consulenze , collaborazioni, interinale e altre prestazioni di lavoro sanitarie e sociosanitarie da privato\" ammonta, al 31/12/2019, ad €/000 5.545 ed è diminuita, rispetto al 2018, di circa - €/000 559. Tale variazione è stata determinata:"]
["- dalla aumento  dei costi per consulenze sanitarie da privato ex art. 55, comma 2, CCNL 8 giugno 2000, per €/000 + 203 a cui l'Azienda fa ricorso per fronteggiare le urgenze o per potenziare alcuni servizi sanitari;"]
["- dalla riduzione dei costi per lavoro interinale (€/000 - 308), in parte finanziati con fondi da Progetti Obiettivo, dovuti al fatto che l'Azienda nel 2019 ha fatto minore ricorso a tale tipologia di contratto di lavoro rispetto al 2018;"]
["- dalla riduzione dei costi per borsisti (- €/000 390), dovuta al fatto che l'Azienda nel 2019 ha fatto minore ricorso a tale tipologia di rapporto rispetto al 2018 soprattutto per la realizzazione dei progetti obiettivo, privilegiando altre tipologie contrattuali."]

{"sheet":"AS04","index":24,"n_rows":68,"n_cols":4,"rows_kept":68,"cut":false,"hidden":false,"merged":[[0,0,0,3],[67,0,67,3],[2,1,2,3],[10,0,10,3],[7,1,7,2],[63,1,63,2],[64,0,64,2],[65,0,65,2],[47,0,47,2],[52,1,52,2],[53,0,53,2],[8,0,8,2],[27,1,27,2],[46,1,46,2],[6,1,6,2],[4,0,4,3]]}
["AS04 - Consulenze, Collaborazioni, Interinale e altre prestazioni di lavoro non sanitarie"]
[]
["AS04 - SI","Nell'esercizio sono stati rilevati costi per consulenze, collaborazioni, interinale e altre prestazioni di lavoro non sanitarie. Si veda dettaglio sottostante per tipologia prestazione, soggetto fornitore e importo."]
[]
[{"$f":"\"Dettaglio composizione voce BA1790 \nConsulenze non sanitarie da privato \"&\n [1]Intro!B7","v":"Dettaglio composizione voce BA1790 \nConsulenze non sanitarie da privato Dott.ssa FACCIA FEDERICA"}]
["TIPOLOGIA","DURATA CONTRATTO","DECORRENZA","IMPORTO AL 31/12/2019"]
["Consulenze tecniche","Incarico professionale a prestazione unica",null,155448.88]
["Consulenze legali","Incarico professionale a prestazione unica",null,150186.14000000001]
["Totale voce BA1790  al 31/12/2019",null,null,{"$f":"SUM(D7:D8)","v":305635.02}]
[]
["DETTAGLIO VOCE CE BA1780 - \"CONSULENZE, COLLABORAZIONI, INTERINALE E ALTRE PRESTAZIONI DI LAVORO NON SANITARIE DA PRIVATO\""]
[]
["Cod. Conto","Descrizione","Fornitore","Importo"]
["0702020204","Consulenze tecniche","MARTELLA ING. ACHILLE CLAUDIO",22965.279999999999]
["0702020204","Consulenze tecniche","AGENZIA DELLE ENTRATE - PESCARA",909.45]
["0702020204","Consulenze tecniche","CIERI CATERINA ",7909.37]
["0702020204","Consulenze tecniche","AON HEWITT RISK & CONSULTING",21975.25]
["0702020204","Consulenze tecniche","GARDELLI CLAUDIO",9452]
["0702020204","Consulenze tecniche","DI FELICE ANNALIA",2718.7]
["0702020204","Consulenze tecniche","TEMPESTA PAOLO ",16337.44]
["0702020204","Consulenze tecniche","LUDOVICO FRANCO",1584.68]
["0702020204","Consulenze tecniche","NEXT INNOVATION IN ENGINEERING S.R.L.",25376]
["0702020204","Consulenze tecniche","SPER S.R.L.    ",6598.58]
["0702020204","Consulenze tecniche","UNIVERSITA' G.D'ANNUNZIO DI CHIETI",7500]
["0702020204","Consulenze tecniche","SCARANO PAOLO  ",805.79]
["0702020204","Consulenze tecniche","MARRELLI ALFONSO",750]
["0702020204","Consulenze tecniche","POLIDORI PASQUALE",30566.34]
["0702020204","Totale consulenze tecniche",null,{"$f":"SUM(D14:D27)","v":155448.88}]
["0702020205","Consulenze legali","CERCEO GIULIO STUDIO LEGALE",16521.93]
["0702020205","Consulenze legali","CIPRIETTI SABATINO",23345.919999999998]
["0702020205","Consulenze legali","RUSSI AVV. DOMENICO",9440.51]
["0702020205","Consulenze legali","STUDIO LEGALE AVV.TI TENAGLIA",713.7]
["0702020205","Consulenze legali","ROSSI STEFANO",2662.22]
["0702020205","Consulenze legali","MARCHESE TOMMASO",30606.26]
["0702020205","Consulenze legali","MUNDO CARLA    ",7923.02]
["0702020205","Consulenze legali","SARA FORTUNA   ",1459.12]
["0702020205","Consulenze legali","RIARIO SFORZA MARCO AVV.",8025.16]
["0702020205","Consulenze legali","ALESSANDRINI PIETRO",12594.73]
["0702020205","Consulenze legali","ANTONUCCI VINCENZO AVV.",4867.99]
["0702020205","Consulenze legali","D'AMBROSIO MICHELE",15095.75]
["0702020205","Consulenze legali","CROCETTA FRANCO",6000]
["0702020205","Consulenze legali","CROCETTA RICCARDO",5903.15]
[null,null,"DI SCIASCIO ALESSANDRO AVV.",656.6]
["0702020205","Consulenze legali","FAIETA ANTONELLA",657.8]
["0702020205","Consulenze legali","LUPO TIMINI LORENZO",1713.76]
["0702020205","Consulenze legali","MARRA EGIDIO   ",1998.42]
["0702020205","Totale consulenze legali",null,{"$f":"SUM(D29:D46)","v":150186.04}]
["TOTALE CONSULENZE NON SANITARIE DA PRIVATO (Voce BA1790) ",null,null,{"$f":"D28+D47","v":305634.92000000004}]
["0702020215","Collaborazioni coordinate e continuative non sanitarie da privato - ruolo amministrativo","BACI RICCARDO",8508.83]
["0702020215","Collaborazioni coordinate e continuative non sanitarie da privato - ruolo amministrativo","BALDASSARRE IPPOLITO",8379.91]
["0702020215","Collaborazioni coordinate e continuative non sanitarie da privato - ruolo amministrativo","MANZOLI LAMBERTO",6878.51]
["0702020215","Collaborazioni coordinate e continuative non sanitarie da privato - ruolo amministrativo","INPS",6964.35]
["0702020215","Collaborazioni coordinate e continuative non sanitarie da privato - ruolo amministrativo",null,{"$f":"SUM(D49:D52)","v":30731.599999999999}]
["TOTALE COLLABORAZIONI COORDINATE E CONTINUATIVE NON SANITARIE DA PRIVATO (Voce BA1800)",null,null,{"$f":"D53","v":30731.599999999999}]
["0702020223","Personale religioso adibito a mansioni non sanitarie","PROBI MARIO",23075.85]
["0702020223","Personale religioso adibito a mansioni non sanitarie","OUDBA DESIRE",5128.0200000000004]
["0702020223","Personale religioso adibito a mansioni non sanitarie","CURIA METROPOLITANA PESCARA-PENNE",6000]
["0702020223","Personale religioso adibito a mansioni non sanitarie","DIOCESI SULMONA-VALVA",3600]
["0702020223","Personale religioso adibito a mansioni non sanitarie","MANDELLI GIANCARLO",23075.919999999998]
["0702020223","Personale religioso adibito a mansioni non sanitarie","KAFANDO RELBAMBA ROGER",17307.830000000002]
["0702020223","Personale religioso adibito a mansioni non sanitarie","YELYAORE RELEWENDE LAZARE",17307.099999999999]
["0702020223","Personale religioso adibito a mansioni non sanitarie","SANKARA WENDKUNI JULDAS RAOU",5769]
["0702020223","Personale religioso adibito a mansioni non sanitarie","INPS ",{"$f":"27565.95","v":27565.95}]
["0702020223","Totale personale religioso adibito a mansioni non sanitarie",null,{"$f":"SUM(D55:D63)","v":128829.67}]
["ALTRE COLLABORAZIONI E PRESTAZIONI DI LAVORO - AREA NON SANITARIA (Voce BA1830)",null,null,{"$f":"D64","v":128829.67}]
["VOCE BA 1780 - TOTALE CONSULENZE, COLLABORAZIONI, INTERINALE E ALTRE PRESTAZIONI DI LAVORO NON SANITARIE DA PRIVATO",null,null,{"$f":"D48+D54+D65","v":465196.19}]
[]
["La voce di CE BA1780 \"Consulenze , collaborazioni, interinale e altre prestazioni di lavoro non sanitarie da privato\" ammonta, al 31/12/2019, ad €/000 465 e si è ridotta, rispetto al 2018 di circa €/000 127. Tale scostamento è dovuto principalmente alla riduzione dei costi per consulenze legali (- €/000 177) , il cui ammontare può subire alcune variazioni, da un anno all'altro, in relazione al numero ed all'esito dei contenziosi conclusi nel corso dell'esercizio. Tale decremento di spesa è stato parzialmente compensato dalll'aumento dei costi per consulenze tecniche (+ €/000 85). "]

{"sheet":"Tab 62","index":25,"n_rows":60,"n_cols":8,"rows_kept":60,"cut":false,"hidden":false,"merged":[[1,7,2,7],[59,0,59,5],[1,5,2,5],[0,1,0,5],[1,0,2,0],[1,1,2,1],[1,2,2,2],[1,3,2,3],[1,4,2,4]]}
[null,"Tab. 62 – Dettaglio acquisti di servizi non sanitari "]
["CODICE MOD. CE","DETTAGLIO ACQUISTI DI SERVIZI NON SANITARI",{"$f":"\"Valore CE \" &'00 Aggregatore'!$F$2","v":"Valore CE 2019"},{"$f":"\"Valore CE \" &'00 Aggregatore'!$F$2 -1","v":"Valore CE 2018"},"Variazioni\nimporto","%",null,"SOMMA"]
[]
[null,"SERVIZI NON SANITARI",{"$f":"C5+C6+C7+C10+C11+C12+C13+C14+C15+C16+C17+C18+C19+C20","v":35939365.670000002},{"$f":"D5+D6+D7+D10+D11+D12+D13+D14+D15+D16+D17+D18+D19+D20","v":35624428.469999999},{"$f":"C4-D4","v":314937.20000000298},{"$f":"IF(AND(C4=0,D4=0),0,IF(C4=0,\"\",IF(D4=0,\"\",E4/D4)))","v":8.8404842835645078E-3}]
["BA1580","Lavanderia",{"$f":"SUMIF('00 CE'!$B:$B,'Tab 62'!$A5,'00 CE'!G:G)","v":4372468.2300000004},{"$f":"SUMIF('00 CE'!$B:$B,'Tab 62'!$A5,'00 CE'!F:F)","v":4633285.6399999997},{"$f":"C5-D5","v":-260817.40999999922},{"$f":"IF(AND(C5=0,D5=0),0,IF(C5=0,\"\",IF(D5=0,\"\",E5/D5)))","v":-5.6292106782347924E-2},null,{"$f":"IF(A5=\"\",\"\",IF(VLOOKUP(A5,'00 CE'!$B$4:$D$565,3,0)=0,\"\",VLOOKUP(A5,'00 CE'!$B$4:$D$565,3,0)))","v":""}]
["BA1590","Pulizia",{"$f":"SUMIF('00 CE'!$B:$B,'Tab 62'!$A6,'00 CE'!G:G)","v":6224643.75},{"$f":"SUMIF('00 CE'!$B:$B,'Tab 62'!$A6,'00 CE'!F:F)","v":6110953.9000000004},{"$f":"C6-D6","v":113689.84999999963},1.860427223972343E-2,null,{"$f":"IF(A6=\"\",\"\",IF(VLOOKUP(A6,'00 CE'!$B$4:$D$565,3,0)=0,\"\",VLOOKUP(A6,'00 CE'!$B$4:$D$565,3,0)))","v":""}]
["BA1600","Mensa",{"$f":"SUMIF('00 CE'!$B:$B,'Tab 62'!$A7,'00 CE'!G:G)","v":4136284.81},{"$f":"SUMIF('00 CE'!$B:$B,'Tab 62'!$A7,'00 CE'!F:F)","v":4253494.91},-117210.10000000009,-2.7556186731160351E-2,null,{"$f":"IF(A7=\"\",\"\",IF(VLOOKUP(A7,'00 CE'!$B$4:$D$565,3,0)=0,\"\",VLOOKUP(A7,'00 CE'!$B$4:$D$565,3,0)))","v":"S"}]
["BA1601","B.2.B.1.3.A)   Mensa dipendenti",{"$f":"SUMIF('00 CE'!$B:$B,'Tab 62'!$A8,'00 CE'!G:G)","v":285686.02},285686,{"$f":"C8-D8","v":2.0000000018626451E-2},{"$f":"IF(AND(C8=0,D8=0),0,IF(C8=0,\"\",IF(D8=0,\"\",E8/D8)))","v":7.0006930751336962E-8},null,{"$f":"IF(A8=\"\",\"\",IF(VLOOKUP(A8,'00 CE'!$B$4:$D$565,3,0)=0,\"\",VLOOKUP(A8,'00 CE'!$B$4:$D$565,3,0)))","v":""}]
["BA1602","B.2.B.1.3.B)   Mensa degenti",{"$f":"SUMIF('00 CE'!$B:$B,'Tab 62'!$A9,'00 CE'!G:G)","v":3850598.79},3967808.89,-117210.10000000009,-2.9540258427113934E-2,null,{"$f":"IF(A9=\"\",\"\",IF(VLOOKUP(A9,'00 CE'!$B$4:$D$565,3,0)=0,\"\",VLOOKUP(A9,'00 CE'!$B$4:$D$565,3,0)))","v":""}]
["BA1610","Riscaldamento",{"$f":"SUMIF('00 CE'!$B:$B,'Tab 62'!$A10,'00 CE'!G:G)","v":1031930.19},{"$f":"SUMIF('00 CE'!$B:$B,'Tab 62'!$A10,'00 CE'!F:F)","v":912590.81},119339.37999999989,0.13076986826111023,null,{"$f":"IF(A10=\"\",\"\",IF(VLOOKUP(A10,'00 CE'!$B$4:$D$565,3,0)=0,\"\",VLOOKUP(A10,'00 CE'!$B$4:$D$565,3,0)))","v":""}]
["BA1620","Servizi di assistenza informatica",{"$f":"SUMIF('00 CE'!$B:$B,'Tab 62'!$A11,'00 CE'!G:G)","v":1601064.93},{"$f":"SUMIF('00 CE'!$B:$B,'Tab 62'!$A11,'00 CE'!F:F)","v":1812783.81},-211718.88000000012,-0.11679212867639198,null,{"$f":"IF(A11=\"\",\"\",IF(VLOOKUP(A11,'00 CE'!$B$4:$D$565,3,0)=0,\"\",VLOOKUP(A11,'00 CE'!$B$4:$D$565,3,0)))","v":""}]
["BA1630","Servizi trasporti (non sanitari)",{"$f":"SUMIF('00 CE'!$B:$B,'Tab 62'!$A12,'00 CE'!G:G)","v":7252.41},{"$f":"SUMIF('00 CE'!$B:$B,'Tab 62'!$A12,'00 CE'!F:F)","v":5892.6},1359.8099999999995,0.23076570613990419,null,{"$f":"IF(A12=\"\",\"\",IF(VLOOKUP(A12,'00 CE'!$B$4:$D$565,3,0)=0,\"\",VLOOKUP(A12,'00 CE'!$B$4:$D$565,3,0)))","v":""}]
["BA1640","Smaltimento rifiuti",{"$f":"SUMIF('00 CE'!$B:$B,'Tab 62'!$A13,'00 CE'!G:G)","v":1394724.73},{"$f":"SUMIF('00 CE'!$B:$B,'Tab 62'!$A13,'00 CE'!F:F)","v":1392025.82},2698.9099999999162,1.9388361632544403E-3,null,{"$f":"IF(A13=\"\",\"\",IF(VLOOKUP(A13,'00 CE'!$B$4:$D$565,3,0)=0,\"\",VLOOKUP(A13,'00 CE'!$B$4:$D$565,3,0)))","v":""}]
["BA1650","Utenze telefoniche",{"$f":"SUMIF('00 CE'!$B:$B,'Tab 62'!$A14,'00 CE'!G:G)","v":875622.55},{"$f":"SUMIF('00 CE'!$B:$B,'Tab 62'!$A14,'00 CE'!F:F)","v":940270.67},-64648.119999999995,-6.8754798020021185E-2,null,{"$f":"IF(A14=\"\",\"\",IF(VLOOKUP(A14,'00 CE'!$B$4:$D$565,3,0)=0,\"\",VLOOKUP(A14,'00 CE'!$B$4:$D$565,3,0)))","v":""}]
["BA1660","Utenze elettricità",{"$f":"SUMIF('00 CE'!$B:$B,'Tab 62'!$A15,'00 CE'!G:G)","v":3335006.41},{"$f":"SUMIF('00 CE'!$B:$B,'Tab 62'!$A15,'00 CE'!F:F)","v":3337366.78},-2360.3699999996461,-7.0725519716464795E-4,null,{"$f":"IF(A15=\"\",\"\",IF(VLOOKUP(A15,'00 CE'!$B$4:$D$565,3,0)=0,\"\",VLOOKUP(A15,'00 CE'!$B$4:$D$565,3,0)))","v":""}]
["BA1670","Altre utenze",{"$f":"SUMIF('00 CE'!$B:$B,'Tab 62'!$A16,'00 CE'!G:G)","v":1175726.77},{"$f":"SUMIF('00 CE'!$B:$B,'Tab 62'!$A16,'00 CE'!F:F)","v":875740.52},299986.25,0.34255152428027424,null,{"$f":"IF(A16=\"\",\"\",IF(VLOOKUP(A16,'00 CE'!$B$4:$D$565,3,0)=0,\"\",VLOOKUP(A16,'00 CE'!$B$4:$D$565,3,0)))","v":""}]
["BA1680","Premi di assicurazione",{"$f":"SUMIF('00 CE'!$B:$B,'Tab 62'!$A17,'00 CE'!G:G)","v":4770445.47},{"$f":"SUMIF('00 CE'!$B:$B,'Tab 62'!$A17,'00 CE'!F:F)","v":4728617.0999999996},41828.370000000112,8.84579341389264E-3,null,{"$f":"IF(A17=\"\",\"\",IF(VLOOKUP(A17,'00 CE'!$B$4:$D$565,3,0)=0,\"\",VLOOKUP(A17,'00 CE'!$B$4:$D$565,3,0)))","v":"S"}]
["BA1720","Altri servizi non sanitari da pubblico (Aziende sanitarie pubbliche della Regione)",{"$f":"SUMIF('00 CE'!$B:$B,'Tab 62'!$A18,'00 CE'!G:G)","v":0},{"$f":"SUMIF('00 CE'!$B:$B,'Tab 62'!$A18,'00 CE'!F:F)","v":0},0,0,null,{"$f":"IF(A18=\"\",\"\",IF(VLOOKUP(A18,'00 CE'!$B$4:$D$565,3,0)=0,\"\",VLOOKUP(A18,'00 CE'!$B$4:$D$565,3,0)))","v":""}]
["BA1730","Altri servizi non sanitari da altri soggetti pubblici",{"$f":"SUMIF('00 CE'!$B:$B,'Tab 62'!$A19,'00 CE'!G:G)","v":0},{"$f":"SUMIF('00 CE'!$B:$B,'Tab 62'!$A19,'00 CE'!F:F)","v":0},0,0,null,{"$f":"IF(A19=\"\",\"\",IF(VLOOKUP(A19,'00 CE'!$B$4:$D$565,3,0)=0,\"\",VLOOKUP(A19,'00 CE'!$B$4:$D$565,3,0)))","v":""}]
["BA1740","Altri servizi non sanitari da privato",{"$f":"SUMIF('00 CE'!$B:$B,'Tab 62'!$A20,'00 CE'!G:G)","v":7014195.4199999999},{"$f":"SUMIF('00 CE'!$B:$B,'Tab 62'!$A20,'00 CE'!F:F)","v":6621405.9100000001},392789.50999999978,5.9321164619554306E-2,null,{"$f":"IF(A20=\"\",\"\",IF(VLOOKUP(A20,'00 CE'!$B$4:$D$565,3,0)=0,\"\",VLOOKUP(A20,'00 CE'!$B$4:$D$565,3,0)))","v":""}]
["0702020118","Vigilanza",1927984.29,1895097.74,32886.550000000047,1.7353484892024644E-2]
["0702020119","Altri servizi appaltati",4575180.3600000003,4138097.74,437082.62000000011,0.10562404453984697]
["0702020120","Spese di rappresentanza",2466,181,2285,12.624309392265193]
["0702020121","Spese postali",194488.14,354747.32,-160259.18,-0.45175585822607478]
["0702020122","Quote per spese condominiali",32252.639999999999,32959.089999999997,-706.44999999999709,-2.1434147605410136E-2]
["0702020123","Spese legali",217446.32,77880.800000000003,139565.52000000002,1.7920401433986299]
["0702020124","Bolli e marchi",720.1,55127.95,-54407.85,-0.98693766047894038]
["0702020125","Abbonamenti, riviste e libri",18517.12,21856.82,-3339.7000000000007,-0.15279898905696257]
["0702020126","Spese per liti, arbitraggi e risarcimenti",0,72,-72,""]
["0702020127","Altri servizi non sanitari da privato",45140,45140,0,0]
["0702020128","Rimborsi spese personale del ruolo sanitario dirigenza medica",0,0,0,0]
["0702020129","Rimborsi spese personale del ruolo sanitario dirigenza non medica",0,0,0,0]
["0702020130","Rimborsi spese personale del ruolo sanitario comparto",0,0,0,0]
["0702020131","Rimborsi spese personale del ruolo professionale dirigenza",0,0,0,0]
["0702020132","Rimborsi spese personale del ruolo professionale comparto",0,0,0,0]
["0702020133","Rimborsi spese personale del ruolo tecnico dirigenza",0,0,0,0]
["0702020134","Rimborsi spese personale del ruolo tecnico comparto",0,0,0,0]
["0702020135","Rimborsi spese personale del ruolo amministrativo dirigenza",0,0,0,0]
["0702020136","Rimborsi spese personale del ruolo amministrativo comparto",0,0,0,0]
[null,"CONSULENZE, COLLABORAZIONI, INTERINALE, ALTRE PRESTAZIONI DI LAVORO NON SANITARIE ",{"$f":"SUM(C41:C43)+C50","v":465196.44},{"$f":"SUM(D41:D43)+D50","v":592002.4},{"$f":"SUM(E41:E43)","v":-126805.96000000002},-0.21419838838491198,null,{"$f":"IF(A40=\"\",\"\",IF(VLOOKUP(A40,'00 CE'!$B$4:$D$565,3,0)=0,\"\",VLOOKUP(A40,'00 CE'!$B$4:$D$565,3,0)))","v":""}]
["BA1760","Consulenze non sanitarie da Aziende sanitarie pubbliche della Regione",{"$f":"SUMIF('00 CE'!$B:$B,'Tab 62'!$A41,'00 CE'!G:G)","v":0},{"$f":"SUMIF('00 CE'!$B:$B,'Tab 62'!$A41,'00 CE'!F:F)","v":0},{"$f":"C41-D41","v":0},0,null,{"$f":"IF(A41=\"\",\"\",IF(VLOOKUP(A41,'00 CE'!$B$4:$D$565,3,0)=0,\"\",VLOOKUP(A41,'00 CE'!$B$4:$D$565,3,0)))","v":""}]
["BA1770","Consulenze non sanitarie da Terzi - Altri soggetti pubblici",{"$f":"SUMIF('00 CE'!$B:$B,'Tab 62'!$A42,'00 CE'!G:G)","v":0},{"$f":"SUMIF('00 CE'!$B:$B,'Tab 62'!$A42,'00 CE'!F:F)","v":0},{"$f":"C42-D42","v":0},0,null,{"$f":"IF(A42=\"\",\"\",IF(VLOOKUP(A42,'00 CE'!$B$4:$D$565,3,0)=0,\"\",VLOOKUP(A42,'00 CE'!$B$4:$D$565,3,0)))","v":""}]
["BA1780","Consulenze, Collaborazioni, Interinale e altre prestazioni di lavoro non sanitarie da privato",{"$f":"SUMIF('00 CE'!$B:$B,'Tab 62'!$A43,'00 CE'!G:G)","v":465196.44},{"$f":"SUMIF('00 CE'!$B:$B,'Tab 62'!$A43,'00 CE'!F:F)","v":592002.4},-126805.96000000002,-0.21419838838491198,null,{"$f":"IF(A43=\"\",\"\",IF(VLOOKUP(A43,'00 CE'!$B$4:$D$565,3,0)=0,\"\",VLOOKUP(A43,'00 CE'!$B$4:$D$565,3,0)))","v":"S"}]
["BA1790","Consulenze non sanitarie da privato",{"$f":"SUMIF('00 CE'!$B:$B,'Tab 62'!$A44,'00 CE'!G:G)","v":305635.02},{"$f":"SUMIF('00 CE'!$B:$B,'Tab 62'!$A44,'00 CE'!F:F)","v":432526.65},-126891.63,-0.29337297482132024,null,{"$f":"IF(A44=\"\",\"\",IF(VLOOKUP(A44,'00 CE'!$B$4:$D$565,3,0)=0,\"\",VLOOKUP(A44,'00 CE'!$B$4:$D$565,3,0)))","v":""}]
["BA1800","Collaborazioni coordinate e continuative non sanitarie da privato",{"$f":"SUMIF('00 CE'!$B:$B,'Tab 62'!$A45,'00 CE'!G:G)","v":30731.74},{"$f":"SUMIF('00 CE'!$B:$B,'Tab 62'!$A45,'00 CE'!F:F)","v":31178.34},-446.59999999999854,-1.4324046758101892E-2,null,{"$f":"IF(A45=\"\",\"\",IF(VLOOKUP(A45,'00 CE'!$B$4:$D$565,3,0)=0,\"\",VLOOKUP(A45,'00 CE'!$B$4:$D$565,3,0)))","v":""}]
["BA1810","Indennità a personale universitario - area non sanitaria ",{"$f":"SUMIF('00 CE'!$B:$B,'Tab 62'!$A46,'00 CE'!G:G)","v":0},{"$f":"SUMIF('00 CE'!$B:$B,'Tab 62'!$A46,'00 CE'!F:F)","v":0},0,0,null,{"$f":"IF(A46=\"\",\"\",IF(VLOOKUP(A46,'00 CE'!$B$4:$D$565,3,0)=0,\"\",VLOOKUP(A46,'00 CE'!$B$4:$D$565,3,0)))","v":""}]
["BA1820","Lavoro interinale - area non sanitaria ",{"$f":"SUMIF('00 CE'!$B:$B,'Tab 62'!$A47,'00 CE'!G:G)","v":0},{"$f":"SUMIF('00 CE'!$B:$B,'Tab 62'!$A47,'00 CE'!F:F)","v":0},0,0,null,{"$f":"IF(A47=\"\",\"\",IF(VLOOKUP(A47,'00 CE'!$B$4:$D$565,3,0)=0,\"\",VLOOKUP(A47,'00 CE'!$B$4:$D$565,3,0)))","v":""}]
["BA1830","Altre collaborazioni e prestazioni di lavoro - area non sanitaria ",{"$f":"SUMIF('00 CE'!$B:$B,'Tab 62'!$A48,'00 CE'!G:G)","v":128829.68},{"$f":"SUMIF('00 CE'!$B:$B,'Tab 62'!$A48,'00 CE'!F:F)","v":128297.41},532.26999999998952,4.1487197598142431E-3,null,{"$f":"IF(A48=\"\",\"\",IF(VLOOKUP(A48,'00 CE'!$B$4:$D$565,3,0)=0,\"\",VLOOKUP(A48,'00 CE'!$B$4:$D$565,3,0)))","v":""}]
["BA1831","B.2.B.2.3.F) Altre Consulenze non sanitarie da privato -  in attuazione dell’art.79, comma 1 sexies lettera c), del D.L. 112/2008, convertito con legge 133/2008 e della legge 23 dicembre 2009 n. 191",{"$f":"SUMIF('00 CE'!$B:$B,'Tab 62'!$A49,'00 CE'!G:G)","v":0},{"$f":"SUMIF('00 CE'!$B:$B,'Tab 62'!$A49,'00 CE'!F:F)","v":0},{"$f":"C49-D49","v":0},{"$f":"IF(AND(C49=0,D49=0),0,IF(C49=0,\"\",IF(D49=0,\"\",E49/D49)))","v":0},null,{"$f":"IF(A49=\"\",\"\",IF(VLOOKUP(A49,'00 CE'!$B$4:$D$565,3,0)=0,\"\",VLOOKUP(A49,'00 CE'!$B$4:$D$565,3,0)))","v":""}]
["BA1840","Rimborso oneri stipendiali del personale non sanitario in comando",{"$f":"SUMIF('00 CE'!$B:$B,'Tab 62'!$A50,'00 CE'!G:G)","v":0},{"$f":"SUMIF('00 CE'!$B:$B,'Tab 62'!$A50,'00 CE'!F:F)","v":0},0,0,null,{"$f":"IF(A50=\"\",\"\",IF(VLOOKUP(A50,'00 CE'!$B$4:$D$565,3,0)=0,\"\",VLOOKUP(A50,'00 CE'!$B$4:$D$565,3,0)))","v":"S"}]
["BA1850","Rimborso oneri stipendiali personale non sanitario in comando da Aziende sanitarie pubbliche della Regione",{"$f":"SUMIF('00 CE'!$B:$B,'Tab 62'!$A51,'00 CE'!G:G)","v":0},{"$f":"SUMIF('00 CE'!$B:$B,'Tab 62'!$A51,'00 CE'!F:F)","v":0},0,0,null,{"$f":"IF(A51=\"\",\"\",IF(VLOOKUP(A51,'00 CE'!$B$4:$D$565,3,0)=0,\"\",VLOOKUP(A51,'00 CE'!$B$4:$D$565,3,0)))","v":""}]
["BA1860","Rimborso oneri stipendiali personale non sanitario in comando da Regione, soggetti pubblici e da Università",{"$f":"SUMIF('00 CE'!$B:$B,'Tab 62'!$A52,'00 CE'!G:G)","v":0},{"$f":"SUMIF('00 CE'!$B:$B,'Tab 62'!$A52,'00 CE'!F:F)","v":0},0,0,null,{"$f":"IF(A52=\"\",\"\",IF(VLOOKUP(A52,'00 CE'!$B$4:$D$565,3,0)=0,\"\",VLOOKUP(A52,'00 CE'!$B$4:$D$565,3,0)))","v":""}]
["BA1870","Rimborso oneri stipendiali personale non sanitario in comando da aziende di altre Regioni (Extraregione)",{"$f":"SUMIF('00 CE'!$B:$B,'Tab 62'!$A53,'00 CE'!G:G)","v":0},{"$f":"SUMIF('00 CE'!$B:$B,'Tab 62'!$A53,'00 CE'!F:F)","v":0},0,0,null,{"$f":"IF(A53=\"\",\"\",IF(VLOOKUP(A53,'00 CE'!$B$4:$D$565,3,0)=0,\"\",VLOOKUP(A53,'00 CE'!$B$4:$D$565,3,0)))","v":""}]
[null,"FORMAZIONE",{"$f":"C55+C56","v":570840.51},{"$f":"D55+D56","v":661265.06999999995},{"$f":"C54-D54","v":-90424.559999999939},-0.13674480038693099,null,{"$f":"IF(A54=\"\",\"\",IF(VLOOKUP(A54,'00 CE'!$B$4:$D$565,3,0)=0,\"\",VLOOKUP(A54,'00 CE'!$B$4:$D$565,3,0)))","v":""}]
["BA1890","Formazione (esternalizzata e non) da pubblico",{"$f":"SUMIF('00 CE'!$B:$B,'Tab 62'!$A55,'00 CE'!G:G)","v":39577.83},{"$f":"SUMIF('00 CE'!$B:$B,'Tab 62'!$A55,'00 CE'!F:F)","v":35012.980000000003},{"$f":"C55-D55","v":4564.8499999999985},0.13037593486758334,null,{"$f":"IF(A55=\"\",\"\",IF(VLOOKUP(A55,'00 CE'!$B$4:$D$565,3,0)=0,\"\",VLOOKUP(A55,'00 CE'!$B$4:$D$565,3,0)))","v":""}]
["BA1900","Formazione (esternalizzata e non) da privato",{"$f":"SUMIF('00 CE'!$B:$B,'Tab 62'!$A56,'00 CE'!G:G)","v":531262.68000000005},{"$f":"SUMIF('00 CE'!$B:$B,'Tab 62'!$A56,'00 CE'!F:F)","v":626252.09},{"$f":"C56-D56","v":-94989.409999999916},-0.1516791904039792,null,{"$f":"IF(A56=\"\",\"\",IF(VLOOKUP(A56,'00 CE'!$B$4:$D$565,3,0)=0,\"\",VLOOKUP(A56,'00 CE'!$B$4:$D$565,3,0)))","v":""}]
[null,"TOTALE",{"$f":"C4+C40+C54","v":36975402.619999997},{"$f":"D4+D40+D54","v":36877695.939999998},{"$f":"E4+E40+E54","v":97706.68000000302},2.6494789739297097E-3,null,{"$f":"IF(A57=\"\",\"\",IF(VLOOKUP(A57,'00 CE'!$B$4:$D$565,3,0)=0,\"\",VLOOKUP(A57,'00 CE'!$B$4:$D$565,3,0)))","v":""}]
[]
[]
["Il costo totale per l'acquisto di servizi non sanitari  è  complessivamente in linea con quello del 2018"]

{"sheet":"Tab 63","index":26,"n_rows":22,"n_cols":6,"rows_kept":22,"cut":false,"hidden":false,"merged":[[21,0,21,5],[2,0,5,5],[0,0,0,6],[7,1,7,5],[8,0,9,0],[8,1,9,1],[8,2,9,2],[8,3,9,3],[8,4,9,4],[8,5,9,5]]}
["AS05 - Manutenzioni e riparazioni"]
[]
["Sono considerate di carattere ordinario le prestazioni di manutenzione finalizzate al normale mantenimento e riparazione dei cespiti, che non comportano un significativo aumento della produttività o della vita utile del bene. In tal caso i relativi costi sono imputati al conto economico, secondo il principio della competenza economica. Qualora invece le spese per manutenzione comportano un miglioramento del bene e ne producono l'allungamento della vita utile, il miglioramento della produttività o della sicurezza, esse sono considerate di carattere straordinario, ed i costi relativi sono imputati al bene oggetto del servizio e capitalizzati. "]
[]
[]
[]
[]
[null,"Tab. 63 – Dettaglio manutenzioni e riparazioni "]
["CODICE MOD. CE","DETTAGLIO MANUTENZIONI E RIPARAZIONI",{"$f":"\"Valore CE \" &'00 Aggregatore'!$F$2","v":"Valore CE 2019"},{"$f":"\"Valore CE \" &'00 Aggregatore'!$F$2 -1","v":"Valore CE 2018"},"Variazioni \nimporto","%"]
[]
["BA1920","Manutenzione e riparazione ai fabbricati e loro pertinenze",{"$f":"SUMIF('00 CE'!$B:$B,'Tab 63'!$A11,'00 CE'!G:G)","v":8135678.5800000001},{"$f":"SUMIF('00 CE'!$B:$B,'Tab 63'!$A11,'00 CE'!F:F)","v":8571730.1999999993},{"$f":"C11-D11","v":-436051.61999999918},{"$f":"IF(AND(C11=0,D11=0),0,IF(C11=0,\"\",IF(D11=0,\"\",E11/C11)))","v":-5.3597449273862438E-2}]
["BA1930","Manutenzione e riparazione agli impianti e macchinari",{"$f":"SUMIF('00 CE'!$B:$B,'Tab 63'!$A12,'00 CE'!G:G)","v":11712},{"$f":"SUMIF('00 CE'!$B:$B,'Tab 63'!$A12,'00 CE'!F:F)","v":0},{"$f":"C12-D12","v":11712},{"$f":"IF(AND(C12=0,D12=0),0,IF(C12=0,\"\",IF(D12=0,\"\",E12/C12)))","v":""}]
["BA1940","Manutenzione e riparazione alle attrezzature sanitarie e scientifiche",{"$f":"SUMIF('00 CE'!$B:$B,'Tab 63'!$A13,'00 CE'!G:G)","v":5458525.2800000003},{"$f":"SUMIF('00 CE'!$B:$B,'Tab 63'!$A13,'00 CE'!F:F)","v":6129147.0499999998},-670621.76999999955,-0.12285768327521596]
["BA1950","Manutenzione e riparazione ai mobili e arredi",{"$f":"SUMIF('00 CE'!$B:$B,'Tab 63'!$A14,'00 CE'!G:G)","v":0},{"$f":"SUMIF('00 CE'!$B:$B,'Tab 63'!$A14,'00 CE'!F:F)","v":0},0,0]
["BA1960","Manutenzione e riparazione agli automezzi",{"$f":"SUMIF('00 CE'!$B:$B,'Tab 63'!$A15,'00 CE'!G:G)","v":83762.679999999993},{"$f":"SUMIF('00 CE'!$B:$B,'Tab 63'!$A15,'00 CE'!F:F)","v":125986.4},-42223.72,-0.50408750054320139]
["BA1970","Altre manutenzioni e riparazioni",{"$f":"SUMIF('00 CE'!$B:$B,'Tab 63'!$A16,'00 CE'!G:G)","v":816680.65},{"$f":"SUMIF('00 CE'!$B:$B,'Tab 63'!$A16,'00 CE'!F:F)","v":883986.33},-67305.679999999935,-8.2413707242849368E-2]
["BA1980","Manutenzioni e riparazioni da Aziende sanitarie pubbliche della Regione",{"$f":"SUMIF('00 CE'!$B:$B,'Tab 63'!$A17,'00 CE'!G:G)","v":0},{"$f":"SUMIF('00 CE'!$B:$B,'Tab 63'!$A17,'00 CE'!F:F)","v":0},0,0]
[null,"TOTALE",{"$f":"SUM(C11:C17)","v":14506359.189999999},{"$f":"SUM(D11:D17)","v":15710849.98},{"$f":"SUM(E11:E17)","v":-1204490.7899999986},-8.3031915467136494E-2]
[]
[]
[]
["Il costo per manutenzioni sostenuto nel corso dell'esercizio 2019 ha subito una  riduzione rispetto a  quello sostenuto nel 2018 (-€/000 1.204) . Gli scostamenti più significativi sono attribuibili ad  una  riduzione del costo per manutenzioni di fabbricati (- €/000 436) , dovuta al fatto che gli inteventi manutentivi sui fabbricati sono stati più  cospicui nel 2018 rispetto all'anno 2019, si registra inoltre una riduzione  del costo di manutenzione delle attrezzature sanitarie e scientifiche (- €/000 670),  dovuta in parte al fatto che la ditta PHILIPS , alla data di elaborazione del presente Bilancio, non ha ancora emesso, nonostante i solleciti, l'ultima fattura (€/000 207) relativa al servizio di manutenzione anno  2019 comprensiva dell'eventuale conguaglio annuale ed al fatto che in corso d'anno, con delibera n. 382 del 22/03/2019 è stato aggiudicato il nuovo affidamento per la gestione delle apparecchiature biomedicali.  Con la nuova gara i canoni trimestrali hanno subito una riduzione alla quale, nel secondo semestre 2019, ha  corrisposto una riduzione dei costi registrati di circa  -€ /000 460"]

{"sheet":"Tab 64-65","index":27,"n_rows":42,"n_cols":10,"rows_kept":42,"cut":false,"hidden":false,"merged":[[40,5,40,7],[41,5,41,7],[37,5,37,7],[35,1,36,1],[35,2,36,2],[38,5,38,7],[39,5,39,7],[35,8,36,8],[35,9,36,9],[2,0,3,0],[2,1,3,1],[2,2,3,2],[2,3,2,4],[2,5,3,5],[35,3,36,3],[35,4,36,4],[35,5,36,7]]}
[]
[null,"Tab. 64 – Dettaglio costi per contratti multiservizio "]
["CODICE MOD. CE","DETTAGLIO COSTI PER \nCONTRATTI MULTISERVIZIO (GLOBAL SERVICE)",{"$f":"\"Valore CE \" &'00 Aggregatore'!$F$2","v":"Valore CE 2019"},"TIPOLOGIA DI CONTRATTO",null,"% di incidenza\nmultiservizio"]
[null,null,null,"Importo Multiservizio","Importo Altro",null,null,"SOMMA"]
["BA1580","Lavanderia",{"$f":"SUMIF('00 CE'!$B:$B,$A5,'00 CE'!$G:$G)","v":4372468.2300000004},0,{"$f":"C5-D5","v":4372468.2300000004},{"$f":"IF(D5=0,0,IF(C5=0,\"\",D5/C5))","v":0},null,{"$f":"IF(A5=\"\",\"\",IF(VLOOKUP(A5,'00 CE'!$B$4:$D$565,3,0)=0,\"\",VLOOKUP(A5,'00 CE'!$B$4:$D$565,3,0)))","v":""}]
["BA1590","Pulizia",{"$f":"SUMIF('00 CE'!$B:$B,$A6,'00 CE'!$G:$G)","v":6224643.75},0,6224643.75,0,null,{"$f":"IF(A6=\"\",\"\",IF(VLOOKUP(A6,'00 CE'!$B$4:$D$565,3,0)=0,\"\",VLOOKUP(A6,'00 CE'!$B$4:$D$565,3,0)))","v":""}]
["BA1600","Mensa",{"$f":"SUMIF('00 CE'!$B:$B,$A7,'00 CE'!$G:$G)","v":4136284.81},0,4136284.81,0,null,{"$f":"IF(A7=\"\",\"\",IF(VLOOKUP(A7,'00 CE'!$B$4:$D$565,3,0)=0,\"\",VLOOKUP(A7,'00 CE'!$B$4:$D$565,3,0)))","v":"S"}]
["BA1601","B.2.B.1.3.A)   Mensa dipendenti",{"$f":"SUMIF('00 CE'!$B:$B,$A8,'00 CE'!$G:$G)","v":285686.02},0,{"$f":"C8-D8","v":285686.02},{"$f":"IF(D8=0,0,IF(C8=0,\"\",D8/C8))","v":0},null,{"$f":"IF(A8=\"\",\"\",IF(VLOOKUP(A8,'00 CE'!$B$4:$D$565,3,0)=0,\"\",VLOOKUP(A8,'00 CE'!$B$4:$D$565,3,0)))","v":""}]
["BA1602","B.2.B.1.3.B)   Mensa degenti",{"$f":"SUMIF('00 CE'!$B:$B,$A9,'00 CE'!$G:$G)","v":3850598.79},0,3850598.79,0,null,{"$f":"IF(A9=\"\",\"\",IF(VLOOKUP(A9,'00 CE'!$B$4:$D$565,3,0)=0,\"\",VLOOKUP(A9,'00 CE'!$B$4:$D$565,3,0)))","v":""}]
["BA1610","Riscaldamento",{"$f":"SUMIF('00 CE'!$B:$B,$A10,'00 CE'!$G:$G)","v":1031930.19},0,1031930.19,0,null,{"$f":"IF(A10=\"\",\"\",IF(VLOOKUP(A10,'00 CE'!$B$4:$D$565,3,0)=0,\"\",VLOOKUP(A10,'00 CE'!$B$4:$D$565,3,0)))","v":""}]
["BA1620","Servizi di assistenza informatica",{"$f":"SUMIF('00 CE'!$B:$B,$A11,'00 CE'!$G:$G)","v":1601064.93},0,1601064.93,0,null,{"$f":"IF(A11=\"\",\"\",IF(VLOOKUP(A11,'00 CE'!$B$4:$D$565,3,0)=0,\"\",VLOOKUP(A11,'00 CE'!$B$4:$D$565,3,0)))","v":""}]
["BA1630","Servizi trasporti (non sanitari)",{"$f":"SUMIF('00 CE'!$B:$B,$A12,'00 CE'!$G:$G)","v":7252.41},0,7252.41,0,null,{"$f":"IF(A12=\"\",\"\",IF(VLOOKUP(A12,'00 CE'!$B$4:$D$565,3,0)=0,\"\",VLOOKUP(A12,'00 CE'!$B$4:$D$565,3,0)))","v":""}]
["BA1640","Smaltimento rifiuti",{"$f":"SUMIF('00 CE'!$B:$B,$A13,'00 CE'!$G:$G)","v":1394724.73},0,1394724.73,0,null,{"$f":"IF(A13=\"\",\"\",IF(VLOOKUP(A13,'00 CE'!$B$4:$D$565,3,0)=0,\"\",VLOOKUP(A13,'00 CE'!$B$4:$D$565,3,0)))","v":""}]
["BA1650","Utenze telefoniche",{"$f":"SUMIF('00 CE'!$B:$B,$A14,'00 CE'!$G:$G)","v":875622.55},0,875622.55,0,null,{"$f":"IF(A14=\"\",\"\",IF(VLOOKUP(A14,'00 CE'!$B$4:$D$565,3,0)=0,\"\",VLOOKUP(A14,'00 CE'!$B$4:$D$565,3,0)))","v":""}]
["BA1660","Utenze elettricità",{"$f":"SUMIF('00 CE'!$B:$B,$A15,'00 CE'!$G:$G)","v":3335006.41},0,3335006.41,0,null,{"$f":"IF(A15=\"\",\"\",IF(VLOOKUP(A15,'00 CE'!$B$4:$D$565,3,0)=0,\"\",VLOOKUP(A15,'00 CE'!$B$4:$D$565,3,0)))","v":""}]
["BA1670","Altre utenze",{"$f":"SUMIF('00 CE'!$B:$B,$A16,'00 CE'!$G:$G)","v":1175726.77},0,1175726.77,0,null,{"$f":"IF(A16=\"\",\"\",IF(VLOOKUP(A16,'00 CE'!$B$4:$D$565,3,0)=0,\"\",VLOOKUP(A16,'00 CE'!$B$4:$D$565,3,0)))","v":""}]
["BA1680","Premi di assicurazione",{"$f":"SUMIF('00 CE'!$B:$B,$A17,'00 CE'!$G:$G)","v":4770445.47},0,4770445.47,0,null,{"$f":"IF(A17=\"\",\"\",IF(VLOOKUP(A17,'00 CE'!$B$4:$D$565,3,0)=0,\"\",VLOOKUP(A17,'00 CE'!$B$4:$D$565,3,0)))","v":"S"}]
["BA1720","Altri servizi non sanitari da pubblico (Aziende sanitarie pubbliche della Regione)",{"$f":"SUMIF('00 CE'!$B:$B,$A18,'00 CE'!$G:$G)","v":0},0,0,0,null,{"$f":"IF(A18=\"\",\"\",IF(VLOOKUP(A18,'00 CE'!$B$4:$D$565,3,0)=0,\"\",VLOOKUP(A18,'00 CE'!$B$4:$D$565,3,0)))","v":""}]
["BA1730","Altri servizi non sanitari da altri soggetti pubblici",{"$f":"SUMIF('00 CE'!$B:$B,$A19,'00 CE'!$G:$G)","v":0},0,0,0,null,{"$f":"IF(A19=\"\",\"\",IF(VLOOKUP(A19,'00 CE'!$B$4:$D$565,3,0)=0,\"\",VLOOKUP(A19,'00 CE'!$B$4:$D$565,3,0)))","v":""}]
["BA1740","Altri servizi non sanitari da privato",{"$f":"SUMIF('00 CE'!$B:$B,$A20,'00 CE'!$G:$G)","v":7014195.4199999999},0,7014195.4199999999,0,null,{"$f":"IF(A20=\"\",\"\",IF(VLOOKUP(A20,'00 CE'!$B$4:$D$565,3,0)=0,\"\",VLOOKUP(A20,'00 CE'!$B$4:$D$565,3,0)))","v":""}]
["BA1890","Formazione (esternalizzata e non) da pubblico",{"$f":"SUMIF('00 CE'!$B:$B,$A21,'00 CE'!$G:$G)","v":39577.83},0,39577.83,0,null,{"$f":"IF(A21=\"\",\"\",IF(VLOOKUP(A21,'00 CE'!$B$4:$D$565,3,0)=0,\"\",VLOOKUP(A21,'00 CE'!$B$4:$D$565,3,0)))","v":""}]
["BA1900","Formazione (esternalizzata e non) da privato",{"$f":"SUMIF('00 CE'!$B:$B,$A22,'00 CE'!$G:$G)","v":531262.68000000005},0,531262.68000000005,0,null,{"$f":"IF(A22=\"\",\"\",IF(VLOOKUP(A22,'00 CE'!$B$4:$D$565,3,0)=0,\"\",VLOOKUP(A22,'00 CE'!$B$4:$D$565,3,0)))","v":""}]
["BA1910","Manutenzione e riparazione (ordinaria esternalizzata):",{"$f":"SUMIF('00 CE'!$B:$B,$A23,'00 CE'!$G:$G)","v":14506359.189999999},0,14506359.189999999,0,null,{"$f":"IF(A23=\"\",\"\",IF(VLOOKUP(A23,'00 CE'!$B$4:$D$565,3,0)=0,\"\",VLOOKUP(A23,'00 CE'!$B$4:$D$565,3,0)))","v":"S"}]
["BA1920","Manutenzione e riparazione ai fabbricati e loro pertinenze",{"$f":"SUMIF('00 CE'!$B:$B,$A24,'00 CE'!$G:$G)","v":8135678.5800000001},0,8135678.5800000001,0,null,{"$f":"IF(A24=\"\",\"\",IF(VLOOKUP(A24,'00 CE'!$B$4:$D$565,3,0)=0,\"\",VLOOKUP(A24,'00 CE'!$B$4:$D$565,3,0)))","v":""}]
["BA1930","Manutenzione e riparazione agli impianti e macchinari",{"$f":"SUMIF('00 CE'!$B:$B,$A25,'00 CE'!$G:$G)","v":11712},0,11712,0,null,{"$f":"IF(A25=\"\",\"\",IF(VLOOKUP(A25,'00 CE'!$B$4:$D$565,3,0)=0,\"\",VLOOKUP(A25,'00 CE'!$B$4:$D$565,3,0)))","v":""}]
["BA1940","Manutenzione e riparazione alle attrezzature sanitarie e scientifiche",{"$f":"SUMIF('00 CE'!$B:$B,$A26,'00 CE'!$G:$G)","v":5458525.2800000003},0,5458525.2800000003,0,null,{"$f":"IF(A26=\"\",\"\",IF(VLOOKUP(A26,'00 CE'!$B$4:$D$565,3,0)=0,\"\",VLOOKUP(A26,'00 CE'!$B$4:$D$565,3,0)))","v":""}]
["BA1950","Manutenzione e riparazione ai mobili e arredi",{"$f":"SUMIF('00 CE'!$B:$B,$A27,'00 CE'!$G:$G)","v":0},0,0,0,null,{"$f":"IF(A27=\"\",\"\",IF(VLOOKUP(A27,'00 CE'!$B$4:$D$565,3,0)=0,\"\",VLOOKUP(A27,'00 CE'!$B$4:$D$565,3,0)))","v":""}]
["BA1960","Manutenzione e riparazione agli automezzi",{"$f":"SUMIF('00 CE'!$B:$B,$A28,'00 CE'!$G:$G)","v":83762.679999999993},0,83762.679999999993,0,null,{"$f":"IF(A28=\"\",\"\",IF(VLOOKUP(A28,'00 CE'!$B$4:$D$565,3,0)=0,\"\",VLOOKUP(A28,'00 CE'!$B$4:$D$565,3,0)))","v":""}]
["BA1970","Altre manutenzioni e riparazioni",{"$f":"SUMIF('00 CE'!$B:$B,$A29,'00 CE'!$G:$G)","v":816680.65},0,816680.65,0,null,{"$f":"IF(A29=\"\",\"\",IF(VLOOKUP(A29,'00 CE'!$B$4:$D$565,3,0)=0,\"\",VLOOKUP(A29,'00 CE'!$B$4:$D$565,3,0)))","v":""}]
["BA1980","Manutenzioni e riparazioni da Aziende sanitarie pubbliche della Regione",{"$f":"SUMIF('00 CE'!$B:$B,$A30,'00 CE'!$G:$G)","v":0},0,0,0,null,{"$f":"IF(A30=\"\",\"\",IF(VLOOKUP(A30,'00 CE'!$B$4:$D$565,3,0)=0,\"\",VLOOKUP(A30,'00 CE'!$B$4:$D$565,3,0)))","v":""}]
[null,"TOTALE",{"$f":"SUM(C5:C23)-(C7)","v":51016565.369999997},0,51016565.369999997,0]
[]
[]
[]
[null,"Tab. 65 – Dettaglio canoni di leasing "]
[null,"DETTAGLIO LEASING","Valore contratto con IVA","Costo imputato all'esercizio","Canoni a scadere","Delibera",null,null,"Decorrenza contratto","Scadenza contratto"]
[]
[null,"Leasing attivati con fondi aziendali:"]
[null,"Leasing finanziari finanziati dalla Regione:"]
[null,"…"]
[null,"…"]
[null,"…"]

{"sheet":"Tab 66-67-68-69","index":28,"n_rows":174,"n_cols":11,"rows_kept":174,"cut":false,"hidden":false,"merged":[[173,1,173,5],[133,1,133,5],[134,0,135,0],[134,1,135,1],[134,2,135,2],[134,3,135,3],[134,4,135,4],[134,5,135,5],[96,5,97,5],[57,1,57,5],[58,0,59,0],[58,1,59,1],[58,2,59,2],[58,3,59,3],[58,4,59,4],[58,5,59,5],[96,0,97,0],[96,1,97,1],[96,2,97,2],[96,3,97,3],[96,4,97,4],[0,0,0,5],[2,1,2,5],[3,0,4,0],[3,1,4,1],[3,2,4,2],[3,3,4,3],[3,4,4,4],[3,5,4,5]]}
["21.     Costi del personale"]
[]
[null,"Tab. 66 – Costi del personale – ruolo sanitario"]
["CODICE MOD. CE","COSTI DEL PERSONALE","Valore CE 2019","Valore CE 2018","Variazioni\nimporto","%"]
[null,null,null,null,null,null,null,"Diff 2015","Ctrl","Diff 2014","Ctrl"]
["BA2090","PERSONALE DEL RUOLO SANITARIO",{"$f":"C7+C40","v":143093492.81999999},{"$f":"D7+D40","v":139820551.13999999},{"$f":"C6-D6","v":3272941.6800000072},{"$f":"IF(AND(C6=0,D6=0),0,IF(C6=0,\"\",IF(D6=0,\"\",E6/D6)))","v":2.3408158910222469E-2}]
["BA2100","Costo del personale dirigente ruolo sanitario",{"$f":"C8+C24","v":74381810.650000006},{"$f":"D8+D24","v":72571422.890000001},{"$f":"C7-D7","v":1810387.7600000054},{"$f":"IF(AND(C7=0,D7=0),0,IF(C7=0,\"\",IF(D7=0,\"\",E7/D7)))","v":2.4946289984476358E-2}]
["BA2110","Costo del personale dirigente medico",{"$f":"C9+C16+C23","v":68836236.049999997},{"$f":"D9+D16+D23","v":67351870.719999999},{"$f":"C8-D8","v":1484365.3299999982},2.2038962156981617E-2]
["BA2120","Costo del personale dirigente medico - tempo indeterminato",{"$f":"SUMIF('00 CE'!$B:$B,'Tab 66-67-68-69'!$A9,'00 CE'!G:G)","v":64754869.079999991},{"$f":"SUMIF('00 CE'!$B:$B,'Tab 66-67-68-69'!$A9,'00 CE'!F:F)","v":64319241.780000001},{"$f":"C9-D9","v":435627.29999998957},6.7728923405226986E-3,null,{"$f":"C9-(C10+C11+C12+C13+C14+C15)","v":0},{"$f":"IF(H9=0,\"OK\",\" CTRL\")","v":"OK"},{"$f":"D9-(D10+D11+D12+D13+D14+D15)","v":-7.2386115789413452E-4},{"$f":"IF(J9=0,\"OK\",\" CTRL\")","v":" CTRL"}]
[null,"Voci di costo a carattere stipendiale",33870823.33563976,33125068.316363633,{"$f":"C10-D10","v":745755.01927612722},2.2513312641463373E-2]
[null,"Retribuzione di posizione",2845289.0600000005,2833858.3200000003,11430.740000000224,4.0336314343337471E-3]
[null,"Indennità di risultato",4149304.6443602405,3790145.9143602364,359158.73000000417,9.476118812186389E-2]
[null,"Altro trattamento accessorio",9471590.8699999973,9879725.7699999996,-408134.90000000224,-4.1310347017860828E-2]
[null,"Oneri sociali su retribuzione",14411890.51,14651043.32,-239152.81000000052,-1.6323261407161036E-2]
[null,"Altri oneri per il personale",5970.6600000000053,39400.14,-33429.479999999996,-0.8484609445550193]
["BA2130","Costo del personale dirigente medico - tempo determinato",{"$f":"SUMIF('00 CE'!$B:$B,'Tab 66-67-68-69'!$A16,'00 CE'!G:G)","v":4081366.97},{"$f":"SUMIF('00 CE'!$B:$B,'Tab 66-67-68-69'!$A16,'00 CE'!F:F)","v":3032628.94},{"$f":"C16-D16","v":1048738.0300000003},0.34581811713502947,null,{"$f":"C16-(C17+C18+C19+C20+C21+C22)","v":0},{"$f":"IF(H16=0,\"OK\",\" CTRL\")","v":"OK"},{"$f":"D16-(D17+D18+D19+D20+D21+D22)","v":0},{"$f":"IF(J16=0,\"OK\",\" CTRL\")","v":"OK"}]
[null,"Voci di costo a carattere stipendiale",2811919.17,2036952.21,{"$f":"C17-D17","v":774966.96},0.38045416882902716]
[null,"Retribuzione di posizione",4852.82,1207.6400000000001,3645.1799999999994,3.0184326454903774]
[null,"Indennità di risultato",34895.43,10066.92,24828.510000000002,2.4663462111549515]
[null,"Altro trattamento accessorio",336083.91,227995.23,108088.67999999996,0.47408307621172585]
[null,"Oneri sociali su retribuzione",892210.27,755100.41,137109.85999999999,0.18157831486278755]
[null,"Altri oneri per il personale",1405.37,1306.53,98.839999999999918,7.56507695957995E-2]
["BA2140","Costo del personale dirigente medico - altro",{"$f":"SUMIF('00 CE'!$B:$B,'Tab 66-67-68-69'!$A23,'00 CE'!G:G)","v":0},{"$f":"SUMIF('00 CE'!$B:$B,'Tab 66-67-68-69'!$A23,'00 CE'!F:F)","v":0},0,0]
["BA2150","Costo del personale dirigente non medico",{"$f":"C25+C32+C39","v":5545574.6000000015},{"$f":"D25+D32+D39","v":5219552.17},326022.43000000156,6.2461762883385757E-2]
["BA2160","Costo del personale dirigente non medico - tempo indeterminato",{"$f":"SUMIF('00 CE'!$B:$B,'Tab 66-67-68-69'!$A25,'00 CE'!G:G)","v":4801927.3800000008},{"$f":"SUMIF('00 CE'!$B:$B,'Tab 66-67-68-69'!$A25,'00 CE'!F:F)","v":4831272.49},-29345.109999999404,-6.0739919060121992E-3,null,{"$f":"C25-(C26+C27+C28+C29+C30+C31)","v":0},{"$f":"IF(H25=0,\"OK\",\" CTRL\")","v":"OK"},{"$f":"D25-(D26+D27+D28+D29+D30+D31)","v":-1.349886879324913E-4},{"$f":"IF(J25=0,\"OK\",\" CTRL\")","v":" CTRL"}]
[null,"Voci di costo a carattere stipendiale",2565373.3648650111,2574884.4049999993,-9511.0401349882595,-3.6937736375735526E-3]
[null,"Retribuzione di posizione",320850.76,319956.47000000003,894.28999999997905,2.7950364623036969E-3]
[null,"Indennità di risultato",274462.77513498999,226151.55513499008,48311.219999999914,0.21362320489533182]
[null,"Altro trattamento accessorio",636001.62999999989,695893.65999999992,-59892.030000000028,-8.6064916872500369E-2]
[null,"Oneri sociali su retribuzione",1002158.29,1007940.26,-5781.9699999999721,-5.7364213232240294E-3]
[null,"Altri oneri per il personale",3080.56,6446.1399999999994,-3365.5799999999995,-0.52210780405017576]
["BA2170","Costo del personale dirigente non medico - tempo determinato",{"$f":"SUMIF('00 CE'!$B:$B,'Tab 66-67-68-69'!$A32,'00 CE'!G:G)","v":743647.2200000002},{"$f":"SUMIF('00 CE'!$B:$B,'Tab 66-67-68-69'!$A32,'00 CE'!F:F)","v":388279.68},355367.54000000021,0.91523599689790669,null,{"$f":"C32-(C33+C34+C35+C36+C37+C38)","v":0},{"$f":"IF(H32=0,\"OK\",\" CTRL\")","v":"OK"},{"$f":"D32-(D33+D34+D35+D36+D37+D38)","v":0},{"$f":"IF(J32=0,\"OK\",\" CTRL\")","v":"OK"}]
[null,"Voci di costo a carattere stipendiale",554848.48000000033,292658.29999999993,262190.1800000004,0.89589183016507801]
[null,"Retribuzione di posizione",3692.1900000000005,2786.41,905.78000000000065,0.32507061057059106]
[null,"Indennità di risultato",0,0,0,0]
[null,"Altro trattamento accessorio",20628.97,11558.449999999999,9070.5200000000023,0.78475228079889636]
[null,"Oneri sociali su retribuzione",162999.59,81276.52,81723.069999999992,1.005494206690936]
[null,"Altri oneri per il personale",1477.99,0,1477.99,""]
["BA2180","Costo del personale dirigente non medico - altro",{"$f":"SUMIF('00 CE'!$B:$B,'Tab 66-67-68-69'!$A39,'00 CE'!G:G)","v":0},{"$f":"SUMIF('00 CE'!$B:$B,'Tab 66-67-68-69'!$A39,'00 CE'!F:F)","v":0},{"$f":"C39-D39","v":0},0]
["BA2190","Costo del personale comparto ruolo sanitario",{"$f":"C41+C48+C55","v":68711682.170000002},{"$f":"D41+D48+D55","v":67249128.25},{"$f":"C40-D40","v":1462553.9200000018},2.1748295599653394E-2]
["BA2200","Costo del personale comparto ruolo sanitario - tempo indeterminato",{"$f":"SUMIF('00 CE'!$B:$B,'Tab 66-67-68-69'!$A41,'00 CE'!G:G)","v":66799162.539999999},{"$f":"SUMIF('00 CE'!$B:$B,'Tab 66-67-68-69'!$A41,'00 CE'!F:F)","v":65514162.510000005},{"$f":"C41-D41","v":1285000.0299999937},1.9614080082361623E-2,null,{"$f":"C41-(C42+C43+C44+C45+C46+C47)","v":0},{"$f":"IF(H41=0,\"OK\",\" CTRL\")","v":"OK"},{"$f":"D41-(D42+D43+D44+D45+D46+D47)","v":5.9551000595092773E-4},{"$f":"IF(J41=0,\"OK\",\" CTRL\")","v":" CTRL"}]
[null,"Voci di costo a carattere stipendiale",45416466.322622143,45261782.468636364,{"$f":"C42-D42","v":154683.85398577899},3.4175378332253134E-3]
[null,"Straordinario e indennità personale",1101662.5200000003,0,1101662.5200000003,""]
[null,"Retribuzione per produttività personale",2307239.7473778473,2282319.6607681308,24920.086609716527,1.0918753861730962E-2]
[null,"Altro trattamento accessorio",3735081.0200000009,3646231.3900000006,88849.630000000354,2.4367523751694854E-2]
[null,"Oneri sociali su retribuzione",13933652,13961363.859999999,-27711.859999999404,-1.9848963380572908E-3]
[null,"Altri oneri per il personale",305060.93000000005,362465.13,-57404.199999999953,-0.15837164805342779]
["BA2210","Costo del personale comparto ruolo sanitario - tempo determinato",{"$f":"SUMIF('00 CE'!$B:$B,'Tab 66-67-68-69'!$A48,'00 CE'!G:G)","v":1912519.63},{"$f":"SUMIF('00 CE'!$B:$B,'Tab 66-67-68-69'!$A48,'00 CE'!F:F)","v":1734965.7400000002},{"$f":"C48-D48","v":177553.88999999966},0.10233855684089742,null,{"$f":"C48-(C49+C50+C51+C52+C53+C54)","v":0},{"$f":"IF(H48=0,\"OK\",\" CTRL\")","v":"OK"},{"$f":"D48-(D49+D50+D51+D52+D53+D54)","v":0},{"$f":"IF(J48=0,\"OK\",\" CTRL\")","v":"OK"}]
[null,"Voci di costo a carattere stipendiale",1344267.6600000001,1210322.56,{"$f":"C49-D49","v":133945.10000000009},0.11066892779392634]
[null,"Straordinario e indennità personale",19502.18,0,19502.18,""]
[null,"Retribuzione per produttività personale",0,10,-10,""]
[null,"Altro trattamento accessorio",125440.94999999998,112816.03,12624.919999999984,0.1119071465287334]
[null,"Oneri sociali su retribuzione",415250.17,405094.45999999996,10155.710000000021,2.5069979974547223E-2]
[null,"Altri oneri per il personale",8058.67,6722.69,1335.9800000000005,0.1987269976750379]
["BA2220","Costo del personale comparto ruolo sanitario - altro",{"$f":"SUMIF('00 CE'!$B:$B,'Tab 66-67-68-69'!$A55,'00 CE'!G:G)","v":0},{"$f":"SUMIF('00 CE'!$B:$B,'Tab 66-67-68-69'!$A55,'00 CE'!F:F)","v":0},{"$f":"C55-D55","v":0},0]
[]
[]
[null,"Tab. 67 – Costi del personale – ruolo professionale"]
["CODICE MOD. CE","COSTI DEL PERSONALE","Valore CE 2019","Valore CE 2018","Variazioni\nimporto","%"]
[null,null,null,null,null,null,null,"Diff 2015","Ctrl","Diff 2014","Ctrl"]
["BA2230","PERSONALE DEL RUOLO PROFESSIONALE",{"$f":"C62+C78","v":445202.98},{"$f":"D62+D78","v":438861.05999999994},{"$f":"C61-D61","v":6341.9200000000419},{"$f":"IF(AND(C61=0,D61=0),0,IF(C61=0,\"\",IF(D61=0,\"\",E61/D61)))","v":1.4450860598112857E-2}]
["BA2240","Costo del personale dirigente ruolo professionale",{"$f":"C63+C70+C77","v":443600.1},{"$f":"D63+D70+D77","v":437281.32999999996},{"$f":"C62-D62","v":6318.7700000000186},{"$f":"IF(AND(C62=0,D62=0),0,IF(C62=0,\"\",IF(D62=0,\"\",E62/D62)))","v":1.4450125277473016E-2}]
["BA2250","Costo del personale dirigente ruolo professionale - tempo indeterminato",{"$f":"SUMIF('00 CE'!$B:$B,'Tab 66-67-68-69'!$A63,'00 CE'!G:G)","v":368506.20999999996},{"$f":"SUMIF('00 CE'!$B:$B,'Tab 66-67-68-69'!$A63,'00 CE'!F:F)","v":367654.11},{"$f":"C63-D63","v":852.09999999997672},2.3176675489904814E-3,null,{"$f":"C63-(C64+C65+C66+C67+C68+C69)","v":0},{"$f":"IF(H63=0,\"OK\",\" CTRL\")","v":"OK"},{"$f":"D63-(D64+D65+D66+D67+D68+D69)","v":3.7946821539662778E-3},{"$f":"IF(J63=0,\"OK\",\" CTRL\")","v":" CTRL"}]
[null,"Voci di costo a carattere stipendiale",131523.26733333324,130908.1,{"$f":"C64-D64","v":615.16733333322918},4.6992304779706461E-3]
[null,"Retribuzione di posizione",119054,92096.56,26957.440000000002,0.29270843558109017]
[null,"Indennità di risultato",17155.68266666666,51857.936205317834,-34702.253538651174,-0.66917922458882173]
[null,"Altro trattamento accessorio",26164.66,18544.88,7619.7799999999988,0.41088321951934975]
[null,"Oneri sociali su retribuzione",74608.600000000006,74246.63,361.97000000000116,4.8752381084501903E-3]
[null,"Altri oneri per il personale",0,0,0,0]
["BA2260","Costo del personale dirigente ruolo professionale - tempo determinato",{"$f":"SUMIF('00 CE'!$B:$B,'Tab 66-67-68-69'!$A70,'00 CE'!G:G)","v":75093.89},{"$f":"SUMIF('00 CE'!$B:$B,'Tab 66-67-68-69'!$A70,'00 CE'!F:F)","v":69627.22},{"$f":"C70-D70","v":5466.6699999999983},7.8513403235114063E-2,null,{"$f":"C70-(C71+C72+C73+C74+C75+C76)","v":0},{"$f":"IF(H70=0,\"OK\",\" CTRL\")","v":"OK"},{"$f":"D70-(D71+D72+D73+D74+D75+D76)","v":0},{"$f":"IF(J70=0,\"OK\",\" CTRL\")","v":"OK"}]
[null,"Voci di costo a carattere stipendiale",43840.829999999987,43635.979999999996,{"$f":"C71-D71","v":204.84999999999127},4.6945204393253294E-3]
[null,"Retribuzione di posizione",12086.62,7689.57,4397.0500000000011,0.5718200107418232]
[null,"Indennità di risultato",0,0,0,0]
[null,"Altro trattamento accessorio",2929.37,3170.77,-241.40000000000009,-7.6132926702346782E-2]
[null,"Oneri sociali su retribuzione",16237.07,15130.9,1106.17,7.3106688961000338E-2]
[null,"Altri oneri per il personale",0,0,0,0]
["BA2270","Costo del personale dirigente ruolo professionale - altro",{"$f":"SUMIF('00 CE'!$B:$B,'Tab 66-67-68-69'!$A77,'00 CE'!G:G)","v":0},{"$f":"SUMIF('00 CE'!$B:$B,'Tab 66-67-68-69'!$A77,'00 CE'!F:F)","v":0},{"$f":"C77-D77","v":0},0]
["BA2280","Costo del personale comparto ruolo professionale",{"$f":"C79+C86+C93","v":1602.88},{"$f":"D79+D86+D93","v":1579.73},{"$f":"C78-D78","v":23.150000000000091},1.4654402967595785E-2]
["BA2290","Costo del personale comparto ruolo professionale - tempo indeterminato",{"$f":"SUMIF('00 CE'!$B:$B,'Tab 66-67-68-69'!$A79,'00 CE'!G:G)","v":1602.88},{"$f":"SUMIF('00 CE'!$B:$B,'Tab 66-67-68-69'!$A79,'00 CE'!F:F)","v":1579.73},{"$f":"C79-D79","v":23.150000000000091},1.4654402967595785E-2,null,{"$f":"C79-(C80+C81+C82+C83+C84+C85)","v":0},{"$f":"IF(H79=0,\"OK\",\" CTRL\")","v":"OK"},{"$f":"D79-(D80+D81+D82+D83+D84+D85)","v":0},{"$f":"IF(J79=0,\"OK\",\" CTRL\")","v":"OK"}]
[null,"Voci di costo a carattere stipendiale",{"$f":"1276+23.15","v":1299.1500000000001},1276,{"$f":"C80-D80","v":23.150000000000091},1.8142633228840195E-2]
[null,"Straordinario e indennità personale",0,0,0,0]
[null,"Indennità di risultato",0,0,0,0]
[null,"Altro trattamento accessorio",0,0,0,0]
[null,"Oneri sociali su retribuzione",303.73,303.73,0,0]
[null,"Altri oneri per il personale",0,0,0,0]
["BA2300","Costo del personale comparto ruolo professionale - tempo determinato",{"$f":"SUMIF('00 CE'!$B:$B,'Tab 66-67-68-69'!$A86,'00 CE'!G:G)","v":0},{"$f":"SUMIF('00 CE'!$B:$B,'Tab 66-67-68-69'!$A86,'00 CE'!F:F)","v":0},{"$f":"C86-D86","v":0},0,null,{"$f":"C86-(C87+C88+C89+C90+C91+C92)","v":0},{"$f":"IF(H86=0,\"OK\",\" CTRL\")","v":"OK"},{"$f":"D86-(D87+D88+D89+D90+D91+D92)","v":0},{"$f":"IF(J86=0,\"OK\",\" CTRL\")","v":"OK"}]
[null,"Voci di costo a carattere stipendiale",0,0,{"$f":"C87-D87","v":0},0]
[null,"Straordinario e indennità personale",0,0,0,0]
[null,"Indennità di risultato",0,0,0,0]
[null,"Altro trattamento accessorio",0,0,0,0]
[null,"Oneri sociali su retribuzione",0,0,0,0]
[null,"Altri oneri per il personale",0,0,0,0]
["BA2310","Costo del personale comparto ruolo professionale - altro",{"$f":"SUMIF('00 CE'!$B:$B,'Tab 66-67-68-69'!$A93,'00 CE'!G:G)","v":0},{"$f":"SUMIF('00 CE'!$B:$B,'Tab 66-67-68-69'!$A93,'00 CE'!F:F)","v":0},{"$f":"C93-D93","v":0},0]
[]
[]
[null,"Tab. 68 – Costi del personale – ruolo tecnico"]
["CODICE MOD. CE","COSTI DEL PERSONALE","Valore CE 2019","Valore CE 2018","Variazioni\nimporto","%"]
[null,null,null,null,null,null,null,"Diff 2015","Ctrl","Diff 2014","Ctrl"]
["BA2320","PERSONALE DEL RUOLO TECNICO",{"$f":"C100+C116","v":18400611.440000001},{"$f":"D100+D116","v":17518842.809999999},{"$f":"C99-D99","v":881768.63000000268},{"$f":"IF(AND(C99=0,D99=0),0,IF(C99=0,\"\",IF(D99=0,\"\",E99/D99)))","v":5.033258415314263E-2}]
["BA2330","Costo del personale dirigente ruolo tecnico",{"$f":"C101+C108+C115","v":315254.98},{"$f":"D101+D108+D115","v":345702.9},{"$f":"C100-D100","v":-30447.920000000042},{"$f":"IF(AND(C100=0,D100=0),0,IF(C100=0,\"\",IF(D100=0,\"\",E100/D100)))","v":-8.8075396532687575E-2}]
["BA2340","Costo del personale dirigente ruolo tecnico - tempo indeterminato",{"$f":"SUMIF('00 CE'!$B:$B,'Tab 66-67-68-69'!$A101,'00 CE'!G:G)","v":315254.98},{"$f":"SUMIF('00 CE'!$B:$B,'Tab 66-67-68-69'!$A101,'00 CE'!F:F)","v":345702.9},{"$f":"C101-D101","v":-30447.920000000042},-8.8075396532687575E-2,null,{"$f":"C101-(C102+C103+C104+C105+C106+C107)","v":0},{"$f":"IF(H101=0,\"OK\",\" CTRL\")","v":"OK"},{"$f":"D101-(D102+D103+D104+D105+D106+D107)","v":-2.5664723943918943E-4},{"$f":"IF(J101=0,\"OK\",\" CTRL\")","v":" CTRL"}]
[null,"Voci di costo a carattere stipendiale",131942.32666666663,131325.37999999998,{"$f":"C102-D102","v":616.9466666666558},4.6978479458171449E-3]
[null,"Retribuzione di posizione",97902.35,79767.320000000007,18135.03,0.22734911991527354]
[null,"Indennità di risultato",21444.603333333322,64822.420256647289,-43377.816923313963,-0.66917922458882173]
[null,"Altro trattamento accessorio",0,0,0,0]
[null,"Oneri sociali su retribuzione",63965.7,69787.78,-5822.0800000000017,-8.3425493689582936E-2]
[null,"Altri oneri per il personale",0,0,0,0]
["BA2350","Costo del personale dirigente ruolo tecnico - tempo determinato",{"$f":"SUMIF('00 CE'!$B:$B,'Tab 66-67-68-69'!$A108,'00 CE'!G:G)","v":0},{"$f":"SUMIF('00 CE'!$B:$B,'Tab 66-67-68-69'!$A108,'00 CE'!F:F)","v":0},{"$f":"C108-D108","v":0},0,null,{"$f":"C108-(C109+C110+C111+C112+C113+C114)","v":0},{"$f":"IF(H108=0,\"OK\",\" CTRL\")","v":"OK"},{"$f":"D108-(D109+D110+D111+D112+D113+D114)","v":0},{"$f":"IF(J108=0,\"OK\",\" CTRL\")","v":"OK"}]
[null,"Voci di costo a carattere stipendiale",0,0,{"$f":"C109-D109","v":0},0]
[null,"Retribuzione di posizione",0,0,0,0]
[null,"Indennità di risultato",0,0,0,0]
[null,"Altro trattamento accessorio",0,0,0,0]
[null,"Oneri sociali su retribuzione",0,0,0,0]
[null,"Altri oneri per il personale",0,0,0,0]
["BA2360","Costo del personale dirigente ruolo tecnico - altro",{"$f":"SUMIF('00 CE'!$B:$B,'Tab 66-67-68-69'!$A115,'00 CE'!G:G)","v":0},{"$f":"SUMIF('00 CE'!$B:$B,'Tab 66-67-68-69'!$A115,'00 CE'!F:F)","v":0},{"$f":"C115-D115","v":0},0]
["BA2370","Costo del personale comparto ruolo tecnico",{"$f":"C117+C124+C131","v":18085356.460000001},{"$f":"D117+D124+D131","v":17173139.91},{"$f":"C116-D116","v":912216.55000000075},5.3118798005530293E-2]
["BA2380","Costo del personale comparto ruolo tecnico - tempo indeterminato",{"$f":"SUMIF('00 CE'!$B:$B,'Tab 66-67-68-69'!$A117,'00 CE'!G:G)","v":17604653.789999999},{"$f":"SUMIF('00 CE'!$B:$B,'Tab 66-67-68-69'!$A117,'00 CE'!F:F)","v":16881837.510000002},{"$f":"C117-D117","v":722816.27999999747},4.2816208814463193E-2,null,{"$f":"C117-(C118+C119+C120+C121+C122+C123)","v":0},{"$f":"IF(H117=0,\"OK\",\" CTRL\")","v":"OK"},{"$f":"D117-(D118+D119+D120+D121+D122+D123)","v":0},{"$f":"IF(J117=0,\"OK\",\" CTRL\")","v":"OK"}]
[null,"Voci di costo a carattere stipendiale",11926740.706432607,11798314.085909091,{"$f":"C118-D118","v":128426.62052351609},1.0885167116961057E-2]
[null,"Straordinario",292268.84000000003,0,292268.84000000003,""]
[null,"Indennità di risultato",708816.97356739349,675914.77293944161,32902.200627951883,4.8678031528835583E-2]
[null,"Altro trattamento accessorio",899157.97,754755.58000000007,144402.3899999999,0.19132338180262262]
[null,"Oneri sociali su retribuzione",3653998.32,3531050.0611514691,122948.25884853071,3.4819177502240652E-2]
[null,"Altri oneri per il personale",123670.98000000003,121803.01,1867.9700000000303,1.5335992107256054E-2]
["BA2390","Costo del personale comparto ruolo tecnico - tempo determinato",{"$f":"SUMIF('00 CE'!$B:$B,'Tab 66-67-68-69'!$A124,'00 CE'!G:G)","v":480702.67000000004},{"$f":"SUMIF('00 CE'!$B:$B,'Tab 66-67-68-69'!$A124,'00 CE'!F:F)","v":291302.39999999997},{"$f":"C124-D124","v":189400.27000000008},0.65018437884480218,null,{"$f":"C124-(C125+C126+C127+C128+C129+C130)","v":0},{"$f":"IF(H124=0,\"OK\",\" CTRL\")","v":"OK"},{"$f":"D124-(D125+D126+D127+D128+D129+D130)","v":0},{"$f":"IF(J124=0,\"OK\",\" CTRL\")","v":"OK"}]
[null,"Voci di costo a carattere stipendiale",369052.57000000007,179552.4,{"$f":"C125-D125","v":189500.17000000007},1.0554031580753032]
[null,"Straordinario",{"$f":"918.31+1139.49","v":2057.8000000000002},0,2057.8000000000002,""]
[null,"Indennità di risultato",0,0,0,0]
[null,"Altro trattamento accessorio",4658.97,0,4658.97,""]
[null,"Oneri sociali su retribuzione",104933.33,111750,-6816.6699999999983,-6.0999284116331078E-2]
[null,"Altri oneri per il personale",null,0,0,0]
["BA2400","Costo del personale comparto ruolo tecnico - altro",{"$f":"SUMIF('00 CE'!$B:$B,'Tab 66-67-68-69'!$A131,'00 CE'!G:G)","v":0},{"$f":"SUMIF('00 CE'!$B:$B,'Tab 66-67-68-69'!$A131,'00 CE'!F:F)","v":0},{"$f":"C131-D131","v":0},0]
[]
[]
[null,"Tab. 69 – Costi del personale – ruolo amministrativo"]
["CODICE MOD. CE","COSTI DEL PERSONALE","Valore CE 2019","Valore CE 2018","Variazioni\nimporto","%"]
[null,null,null,null,null,null,null,"Diff 2015","Ctrl","Diff 2014","Ctrl"]
["BA2410","PERSONALE DEL RUOLO AMMINISTRATIVO",{"$f":"C138+C154","v":10034327.719999999},{"$f":"D138+D154","v":10097306.58},{"$f":"C137-D137","v":-62978.860000001267},{"$f":"IF(AND(C137=0,D137=0),0,IF(C137=0,\"\",IF(D137=0,\"\",E137/D137)))","v":-6.2371939983227953E-3}]
["BA2420","Costo del personale dirigente ruolo amministrativo",{"$f":"C139+C146+C153","v":1110242.93},{"$f":"D139+D146+D153","v":938060.23},{"$f":"C138-D138","v":172182.69999999995},{"$f":"IF(AND(C138=0,D138=0),0,IF(C138=0,\"\",IF(D138=0,\"\",E138/D138)))","v":0.18355185999090906}]
["BA2430","Costo del personale dirigente ruolo amministrativo - tempo indeterminato",{"$f":"SUMIF('00 CE'!$B:$B,'Tab 66-67-68-69'!$A139,'00 CE'!G:G)","v":1058085.3999999999},{"$f":"SUMIF('00 CE'!$B:$B,'Tab 66-67-68-69'!$A139,'00 CE'!F:F)","v":922464.95},{"$f":"C139-D139","v":135620.44999999995},0.14701962388923281,null,{"$f":"C139-(C140+C141+C142+C143+C144+C145)","v":0},{"$f":"IF(H139=0,\"OK\",\" CTRL\")","v":"OK"},{"$f":"D139-(D140+D141+D142+D143+D144+D145)","v":0},{"$f":"IF(J139=0,\"OK\",\" CTRL\")","v":"OK"}]
[null,"Voci di costo a carattere stipendiale",395299.89600000007,330402.86,{"$f":"C140-D140","v":64897.03600000008},0.19641790025667477]
[null,"Retribuzione di posizione",297087.29999999993,227556.87000000002,69530.429999999906,0.30555188248106901]
[null,"Indennità di risultato",25733.52399999999,77786.904307976758,-52053.380307976768,-0.66917922458882173]
[null,"Altro trattamento accessorio",124307.81999999999,83931.01,40376.81,0.48107141806109566]
[null,"Oneri sociali su retribuzione",215656.86,202787.30569202331,12869.554307976679,6.3463313268345811E-2]
[null,"Altri oneri per il personale",0,0,0,0]
["BA2440","Costo del personale dirigente ruolo amministrativo - tempo determinato",{"$f":"SUMIF('00 CE'!$B:$B,'Tab 66-67-68-69'!$A146,'00 CE'!G:G)","v":52157.53},{"$f":"SUMIF('00 CE'!$B:$B,'Tab 66-67-68-69'!$A146,'00 CE'!F:F)","v":15595.28},{"$f":"C146-D146","v":36562.25},2.3444433187477234,null,{"$f":"C146-(C147+C148+C149+C150+C151+C152)","v":0},{"$f":"IF(H146=0,\"OK\",\" CTRL\")","v":"OK"},{"$f":"D146-(D147+D148+D149+D150+D151+D152)","v":0},{"$f":"IF(J146=0,\"OK\",\" CTRL\")","v":"OK"}]
[null,"Voci di costo a carattere stipendiale",40378.229999999996,11944.62,{"$f":"C147-D147","v":28433.609999999993},2.3804532919423131]
[null,"Retribuzione di posizione",667.93,220,447.92999999999995,2.0360454545454543]
[null,"Indennità di risultato",0,0,0,0]
[null,"Altro trattamento accessorio",38.46,0,38.46,""]
[null,"Oneri sociali su retribuzione",10955.41,3430.66,7524.75,2.1933826144240469]
[null,"Altri oneri per il personale",117.5,0,117.5,""]
["BA2450","Costo del personale dirigente ruolo amministrativo - altro",{"$f":"SUMIF('00 CE'!$B:$B,'Tab 66-67-68-69'!$A153,'00 CE'!G:G)","v":0},{"$f":"SUMIF('00 CE'!$B:$B,'Tab 66-67-68-69'!$A153,'00 CE'!F:F)","v":0},{"$f":"C153-D153","v":0},0]
["BA2460","Costo del personale comparto ruolo amministrativo",{"$f":"C155+C162+C169","v":8924084.7899999991},{"$f":"D155+D162+D169","v":9159246.3499999996},{"$f":"C154-D154","v":-235161.56000000052},-2.5674771811329274E-2]
["BA2470","Costo del personale comparto ruolo amministrativo - tempo indeterminato",{"$f":"SUMIF('00 CE'!$B:$B,'Tab 66-67-68-69'!$A155,'00 CE'!G:G)","v":8820511.5299999993},{"$f":"SUMIF('00 CE'!$B:$B,'Tab 66-67-68-69'!$A155,'00 CE'!F:F)","v":9121759.0600000005},{"$f":"C155-D155","v":-301247.53000000119},-3.3025157540173086E-2,null,{"$f":"C155-(C156+C157+C158+C159+C160+C161)","v":0},{"$f":"IF(H155=0,\"OK\",\" CTRL\")","v":"OK"},{"$f":"D155-(D156+D157+D158+D159+D160+D161)","v":0},{"$f":"IF(J155=0,\"OK\",\" CTRL\")","v":"OK"}]
[null,"Voci di costo a carattere stipendiale",6166631.6063270438,6472652.2790909084,{"$f":"C156-D156","v":-306020.67276386451},-4.72790225040245E-2]
[null,"Straordinario",105300.34999999999,0,105300.34999999999,""]
[null,"Indennità di risultato",456048.70367295586,430177.25748515414,25871.446187801717,6.0141362049328156E-2]
[null,"Altro trattamento accessorio",188628.54,204106.56999999998,-15478.02999999997,-7.583308072836642E-2]
[null,"Oneri sociali su retribuzione",1851312.29,1949356.3934239373,-98044.103423937224,-5.0295627702909754E-2]
[null,"Altri oneri per il personale",52590.040000000008,65466.560000000012,-12876.520000000004,-0.19668850784278266]
["BA2480","Costo del personale comparto ruolo amministrativo - tempo determinato",{"$f":"SUMIF('00 CE'!$B:$B,'Tab 66-67-68-69'!$A162,'00 CE'!G:G)","v":103573.26},{"$f":"SUMIF('00 CE'!$B:$B,'Tab 66-67-68-69'!$A162,'00 CE'!F:F)","v":37487.29},{"$f":"C162-D162","v":66085.97},1.7628900355293755,null,{"$f":"C162-(C163+C164+C165+C166+C167+C168)","v":0},{"$f":"IF(H162=0,\"OK\",\" CTRL\")","v":"OK"},{"$f":"D162-(D163+D164+D165+D166+D167+D168)","v":0},{"$f":"IF(J162=0,\"OK\",\" CTRL\")","v":"OK"}]
[null,"Voci di costo a carattere stipendiale",79862.75,32025.060000000012,{"$f":"C163-D163","v":47837.689999999988},1.4937580132558681]
[null,"Straordinario",0,0,0,0]
[null,"Indennità di risultato",375.09,0,375.09,""]
[null,"Altro trattamento accessorio",340.56,6000.0199999999995,-5659.4599999999991,-0.94324018919936925]
[null,"Oneri sociali su retribuzione",22576.49,-795.67000000000735,23372.160000000011,-29.374187791420809]
[null,"Altri oneri per il personale",418.37,257.88,160.49,0.62234372576392127]
["BA2490","Costo del personale comparto ruolo amministrativo - altro",{"$f":"SUMIF('00 CE'!$B:$B,'Tab 66-67-68-69'!$A169,'00 CE'!G:G)","v":0},{"$f":"SUMIF('00 CE'!$B:$B,'Tab 66-67-68-69'!$A169,'00 CE'!F:F)","v":0},{"$f":"C169-D169","v":0},0]
[]
[]
[]
["CP01 - Costi del personale"]
["CP01 - SI","Il costo del personale per l'anno 2019 si attesta ad €/000 171.974"]

{"sheet":"Tab 70","index":29,"n_rows":20,"n_cols":11,"rows_kept":20,"cut":false,"hidden":false,"merged":[[1,1,1,10],[19,1,19,10]]}
[]
[null,"Tab. 70  -  Consistenza e movimentazione dei fondi del personale "]
[null,null,"IMPORTO FONDO  AL 31/12/2010","IMPORTO FONDO  AL 01/01/2019","PERSONALE PRESENTE AL 01/01/2019","PERSONALE ASSUNTO NELL'ANNO 2019","PERSONALE CESSATO NELL'ANNO 2019","PERSONALE PRESENTE AL 31/12/2019","IMPORTO FONDO  AL 31/12/2019","VARIAZIONE FONDO ANNO 2019 VS FONDO ANNO 2010","VARIAZIONE FONDO ANNO 2019 VS FONDO INZIALE ANNO 2019"]
[null,null,"(1)","(2)","(3)","(4)","(5)","(6)=(3)+(4)-(5)","(7)","(8)=(7)-(1)","(9)=(7)-(2)"]
[null,"MEDICI E VETERINARI"]
[null,"- Fondo specificità medica, retribuzione di posizione, equiparazione, specifico trattamento",11626812,12534757.885355037,607,35,29,613,11862426.51338187,235614.51338187046,-672331.37197316624]
[null,"- Fondo trattamento accessorio condizioni di lavoro",2596715,2814790.3173840092,607,35,29,613,2812880.9678859329,216165.96788593289,-1909.3494980763644]
[null,"-Fondo retribuzione di risultato e qualità prestazioni individuale",339252,448289.18,607,35,29,613,448039.73023529409,108787.73023529409,-249.44976470590336]
[null,"DIRIGENTI  NON MEDICI SPTA"]
[null,"- Fondo specificità medica, retribuzione di posizione, equiparazione, specifico trattamento",1330689,1328227.7141865517,76,1,6,71,1166114.6733498401,-164574.3266501599,-162113.04083671165]
[null,"- Fondo trattamento accessorio condizioni di lavoro",74746,101895.58142107548,76,1,6,71,92065.144005523078,17319.144005523078,-9830.4374155523983]
[null,"-Fondo retribuzione di risultato e qualità prestazioni individuale",93699,109383.47314811757,76,1,6,71,97392.043172926351,3693.043172926351,-11991.429975191219]
[null,"PERSONALE NON DIRIGENTE"]
[null,"- Fondo fasce, posizioni organizzative, ex indennità di qualificazione professionale e indennità professionale specifica",8864277,null,null,null,null,null,null,-8864277]
[null,"- Fondo lavoro straordinario e remunerazione di particolari condizioni di disagio pericolo o danno",6037257,9326857.0203196499,2393,141,126,2408,9195333.047829818,3158076.047829818,-131523.97248983197]
[null,"-Fondo della produttività collettiva per il  miglioramento dei servizi e premio della qualità delle prestazioni individuali",1523723,8647041.1164390799,2393,141,126,2408,8615208.4498571623,7091485.4498571623,-31832.666581917554]
[null,"TOTALE",32487170,35311242.288253523,null,null,null,null,34289460.569718368]
[]
[]
[null,"Si precisa che la determinazione dei fondi è stata effettuata in conformità alle disposizioni di cui all’art.23 comma 2 del D. Lgs. n. 75/2017 e che pertanto le dinamiche del personale rilevate nell'anno 2019 ed indicate nella suddetta tabella non costituiscono ai sensi della predetta norma riferimento esclusivo ai fini della riduzione operata sui fondi contrattuali."]

{"sheet":"Personale in Comando","index":30,"n_rows":39,"n_cols":5,"rows_kept":39,"cut":false,"hidden":false,"merged":[[0,0,0,4],[2,0,2,3]]}
["Dati sull'occupazione al 31.12.2019"]
[]
["PERSONALE DIPENDENTE (*) (Conto Annuale)"]
[null,"T1A","T1C","T1A","T1C"]
["Tipologia di personale","Personale in comando al 31/12/2018 ad altri enti","Personale in comando al 31/12/2018 da altri enti","Personale in comando al 31/12/2019  ad altri enti","Personale in comando al 31/12/2019 da altri enti"]
["RUOLO SANITARIO"]
["Dirigenza"]
["- Medico veterinaria",null,null,1]
["- Sanitaria"]
["Comparto"]
["- Categoria Ds"]
["- Categoria D",4,3,1,2]
["- Categoria C"]
["- Categoria Bs"]
["RUOLO PROFESSIONALE"]
["Dirigenza"]
["Livello dirigenziale"]
["Comparto"]
["- Categoria D"]
["RUOLO TECNICO"]
["Dirigenza"]
["Livello dirigenziale"]
["Comparto"]
["- Categoria Ds"]
["- Categoria D"]
["- Categoria C",null,null,null,2]
["- Categoria Bs",null,2]
["- Categoria B"]
["- Categoria A"]
["RUOLO AMMINISTRATIVO"]
["Dirigenza"]
["Livello dirigenziale"]
["Comparto"]
["- Categoria Ds"]
["- Categoria D",null,null,null,1]
["- Categoria C"]
["- Categoria Bs"]
["- Categoria B",null,null,null,1]
["- Categoria A"]

{"sheet":"Personale Universitario","index":31,"n_rows":17,"n_cols":5,"rows_kept":17,"cut":false,"hidden":false,"merged":[[0,0,0,4],[2,0,2,3]]}
["Dati sull'occupazione al 31.12.2019"]
[]
["PERSONALE UNIVERSITARIO (Conto Annuale T1B)"]
[]
["Tipologia di personale","Personale al 31/12/2018","di cui a tempo parziale al 31/12/2018","Personale al 31/12/2019","di cui a tempo parziale al 31/12/2019"]
["RUOLO SANITARIO"]
["Dirigenza",11,0,13,0]
["Comparto"]
["RUOLO PROFESSIONALE"]
["Dirigenza"]
["Comparto"]
["RUOLO TECNICO"]
["Dirigenza"]
["Comparto"]
["RUOLO AMMINISTRATIVO"]
["Dirigenza"]
["Comparto"]

{"sheet":"Altro Contratto","index":32,"n_rows":58,"n_cols":3,"rows_kept":58,"cut":false,"hidden":false,"merged":[[50,0,50,2],[0,0,0,2],[2,0,2,2],[18,0,18,2],[34,0,34,2]]}
["Dati sull'occupazione al 31.12.2019"]
[]
["PERSONALE CON ALTRO CONTRATTO - FORMAZIONE LAVORO (Conto Annuale T2)"]
[]
["Tipologia di personale","Uomini/Anno al 31/12/2018","Uomini/Anno al 31/12/2019"]
["RUOLO SANITARIO"]
["Dirigenza"]
["Comparto"]
["RUOLO PROFESSIONALE"]
["Dirigenza"]
["Comparto"]
["RUOLO TECNICO"]
["Dirigenza"]
["Comparto"]
["RUOLO AMMINISTRATIVO"]
["Dirigenza"]
["Comparto"]
[]
["PERSONALE CON ALTRO CONTRATTO - CONTRATTO DI SOMMINISTRAZIONE (Conto Annuale T2)"]
[]
["Tipologia di personale","Uomini/Anno al 31/12/2018","Uomini/Anno al 31/12/2019"]
["RUOLO SANITARIO"]
["Dirigenza"]
["Comparto",31,32]
["RUOLO PROFESSIONALE"]
["Dirigenza"]
["Comparto"]
["RUOLO TECNICO"]
["Dirigenza"]
["Comparto",40,34]
["RUOLO AMMINISTRATIVO"]
["Dirigenza"]
["Comparto",null,3]
[]
["PERSONALE CON ALTRO CONTRATTO - CONTRATTO LSU (Conto Annuale T2)"]
[]
["Tipologia di personale","Uomini/Anno al 31/12/2018","Uomini/Anno al 31/12/2019"]
["RUOLO SANITARIO"]
["Dirigenza"]
["Comparto"]
["RUOLO PROFESSIONALE"]
["Dirigenza"]
["Comparto"]
["RUOLO TECNICO"]
["Dirigenza"]
["Comparto"]
["RUOLO AMMINISTRATIVO"]
["Dirigenza"]
["Comparto"]
[]
["PERSONALE IN CONVENZIONE  (FLS 12 quadro E per MMG e PLS)"]
[]
["Tipologia di personale","Uomini/Anno al 31/12/2018","Uomini/Anno al 31/12/2019"]
["MEDICINA DI BASE"]
["MMG",269,278]
["PLS",47,44]
["Continuità assistenziale",127,136]
["Altro",10,14]

{"sheet":"Personale - Conto annuale","index":33,"n_rows":41,"n_cols":9,"rows_kept":41,"cut":false,"hidden":false,"merged":[[0,1,0,8],[2,1,2,4],[3,1,3,5],[40,1,40,8]]}
[null,"Dati sull'occupazione al 31.12.2019"]
[]
[null,"PERSONALE DIPENDENTE (*) (Conto Annuale)"]
[null,"T1",null,null,null,null,"T12","T12","T13"]
[null,"Tipologia di personale","Personale al 31/12/2018","di cui Personale Part Time","Personale al 31/12/2019","di cui Personale Part Time","Numero Mensilità","Totale spese a carattere stipendiale","Totale spese accessorie"]
[null,"RUOLO SANITARIO",2274,39,2281,39,39153,75949355.063050002,31058903.136950001]
[null,"Dirigenza",668,3,669,3,11769,31009290.523362245,23133457.136637762]
["01DIME","- Medico veterinaria",607,3,613,3,11088,28471549.048497237,21871429.521502767]
["01S","- Sanitaria",61,0,56,0,681,2537741.4748650072,1262027.6151349936]
[null,"Comparto",1606,36,1612,36,27384,44940064.53968776,7925446.000312238]
["01COMPDS","- Categoria Ds",38,0,30,0,503,1050918.3299999984,208083.17834327649]
["01COMPD","- Categoria D",1527,36,1556,36,26343,42928889.029687762,7566204.2087381221]
["01COMPC","- Categoria C",41,0,26,0,538,960257.17999999854,151158.61323083966]
[null,"- Categoria Bs",null,null,null,null,0]
[null,"RUOLO PROFESSIONALE",3,0,3,0,22,134221.94800000006,159675.66199999995]
[null,"Dirigenza",3,0,3,0,22,134221.94800000006,159675.66199999995]
["02PTA","Livello dirigenziale",3,0,3,0,22,134221.94800000006,159675.66199999995]
[null,"Comparto",0,0,0,0,0,0,0]
["02COMPD","- Categoria D",0,0,0,0,0,-8.0000000000000071E-2,0]
[null,"RUOLO TECNICO",535,7,561,7,6284,12096852.786815062,2105091.9631849411]
[null,"Dirigenza",3,0,3,0,34,151796.68999999994,99492.590000000026]
["03PTA","Livello dirigenziale",3,0,3,0,34,151796.68999999994,99492.590000000026]
[null,"Comparto",532,7,558,7,6250,11945056.096815063,2005599.373184941]
["03COMPDS","- Categoria Ds",4,0,3,0,42,108987.57999999997,13605.668834327636]
["03COMPD","- Categoria D",31,0,29,0,383,944228.21681538795,105392.58206516711]
["03COMPC","- Categoria C",10,0,13,0,123,290417.78999999951,50090.131615419734]
["03COMPBS","- Categoria Bs",255,2,280,1,3072,5851612.0199997863,1135613.1378705804]
["03COMPB","- Categoria B",161,4,165,5,1864,3364898.2699999064,542695.58588801965]
["03COMPA","- Categoria A",71,1,68,1,766,1384912.219999982,158202.26691142638]
[null,"RUOLO AMMINISTRATIVO",264,1,247,1,3029,6630307.2598100053,1181320.5201899922]
[null,"Dirigenza",9,0,9,0,99,377665.91399999993,464762.62599999999]
["04PTA","Livello dirigenziale",9,null,9,null,99,377665.91399999993,464762.62599999999]
[null,"Comparto",255,1,238,1,2930,6252641.3458100054,716557.89418999222]
["04COMPDS","- Categoria Ds",18,0,20,0,224,569915.54999999912,127144.08556218428]
["04COMPD","- Categoria D",66,0,61,0,797,1922731.0958099971,239578.63296466201]
["04COMPC","- Categoria C",57,0,53,0,574,1399372.9600000009,124788.21273978817]
["04COMPBS","- Categoria Bs",0,0,0,0,0,0,0]
["04COMPB","- Categoria B",97,1,88,1,1127,2022486.3600000083,190527.8324736105]
["04COMPA","- Categoria A",17,0,16,0,208,338135.38000000105,34519.130449747376]
[]
[null,"(+) E' necessario comprendere anche il personale dipendente del comparto a tempo determinato che però è rilevato nella Tabella 2 del conto annuale con diverso criterio (uomini - anno)"]

{"sheet":"Tabella 2 Consuntivo ","index":34,"n_rows":36,"n_cols":9,"rows_kept":36,"cut":false,"hidden":false,"merged":[[33,6,33,7],[34,6,34,7],[35,6,35,7],[2,1,2,3],[3,1,3,3],[4,1,4,3],[17,1,17,7],[31,6,31,7],[32,6,32,7]]}
["Tabella 2"]
[]
["Denominazione regione","Abruzzo"]
["Denominazione azienda/ente","ASL Pescara"]
["Periodo di rilevazione","1/01/2019-31/12/2019"]
["(valori in migliaia di euro)","Totale presenti al 31.12.2019\n(1)","Spese per competenze fisse e accessorie\n(2)","IRAP\n(3)","Spese per contibuti a carico dell'azienda\n(4)","Altre voci di spesa\n(5)","Totale\n(6) = (2)+(3)+(4) + (5)","di cui  derivante dai rinnovi contrattuali intervenuti successivamente all'anno 2004\n(7) ","Totale al netto dei rinnovi\n(8) = (6) - (7)"]
["Personale dipendente a tempo indeterminato",3094,128869682.34000002,10953922.998900002,35207243,1375762.62,176406610.95890003,-32605198.585735679,143801412.37316436]
[]
["Personale a tempo determinato",142,5744585,470950,1625166,29541,7870242,-1526912.3403994031,6343329.6596005969]
[]
["Restante personale ",69,2555445,0,0,0,2555445,0,2555445]
[]
["Totale",3305,137169712.34000003,11424872.998900002,36832409,1405303.62,186832297.95890003,-34132110.926135078,152700187.03276497]
[]
[]
["(valori in migliaia di euro)",null,null,null,null,null,"Totale rimborsi","di cui  derivante dai rinnovi contrattuali intervenuti successivamente all'anno 2004","Totale rimborsi al netto dei rinnovi"]
["Indennità De Maria",13,null,null,null,null,253677,-51704.866242038232,201972.13375796177]
["Spesa complessiva personale",null,null,null,null,null,null,null,152902159.16652292]
[]
[]
["DI CUI PERSONALE ESCLUSO DALLA BASE DI CALCOLO PER LA RIDUZIONE DELL'1,4% (Circolare RGS n. 9 del 17.02.2006):"]
["(valori in migliaia di euro)","Unità presenti al 31.12.2019\n(1)","Spese per competenze fisse e accessorie\n(2)","IRAP\n(3)","Spese per contributi a carico dell'azienda\n(4)","Altre voci di spesa\n(5)","Totale\n(6) = (2)+(3)+(4)+(5)","di cui  derivante dai rinnovi contrattuali intervenuti successivamente all'anno 2004\n(7)","Totale al netto dei rinnovi\n(8) = (6) - (7)"]
["Personale classificato ex legge n. 68/1999 (disabili e categorie protette)",172,4036553.86,343949.22,1074762.54,50121.13,5505386.75,-951716.98159636091,4553669.7684036391]
["Personale della sanità penitenziaria (incluse le REMS)",17,647764.54,54494.079999999994,171975.93,0,874234.55,-151129.04958643508,723105.50041356497]
["Personale finanziato con contributi provenienti da privato"]
["Personale finanziato con contributi provenienti dall’Unione Europea"]
["Personale finanziato con fondi destinati alla ricerca"]
["Spese per la formazione e le missioni (indennità e rimborsi)",null,null,null,null,580000,580000,null,580000]
["Personale a tempo determinato assunto per emergenza sisma - art. 1 - comma 873 legge n. 145/2018"]
["TOTALE",189,4684318.4000000004,398443.3,1246738.47,630121.13,6959621.2999999998,-1102846.031182796,5856775.2688172041]
[]
[null,null,null,null,null,null,"Spesa complessiva  personale 2019",null,152902159.16652292]
[null,null,null,null,null,null,"Spesa personale escluso",null,5856775.2688172041]
[null,null,null,null,null,null,"Spesa personale 2019",null,147045383.8977057]
[null,null,null,null,null,null,"Tetto di spesa 2004",null,154817000]
[null,null,null,null,null,null,"Differenza",null,-7771616.102294296]

{"sheet":"Riconciliazione Tabella 2 vs CE","index":35,"n_rows":23,"n_cols":3,"rows_kept":23,"cut":false,"hidden":false,"merged":[]}
["Riconciliazione Tabella 2 e CE consuntivo 2019"]
[]
[]
["Voce CE","Descrizione Voce CE","Importo"]
["BA2080","Totale Costo del personale",171973635]
["YA0020","Y.1.A) IRAP relativa a personale dipendente",11424873]
[null,"TOTALE CE da riconciliare",{"$f":"SUM(C5:C6)","v":183398508}]
[]
[]
[null,"Spesa del personale indicata nel totale della tabella 2 come da Piano di Rientro",180126354]
[null,"Costi presenti in Tabella 2 e non presenti nel CE"]
[null,"Restante Personale (COCOCO, Locatio Operis, Barellieri)",-2555445]
[null,"Indennità De Maria",-253677]
[null,"Trattenuta a dipendenti - Mensa aziendale",-298345]
[null,"Costi presenti nel CE e non presenti in Tabella 2"]
[null,"Categorie Protette",5505387]
[null,"Medicina Penitenziaria da Tabella 2",874235]
[null,"Differenze nella valorizzazione deI FondI CCNL"]
[null,"Stima Residuo Fondi da CE",-8922351.1400000006]
[null,"Voci di fondo pagate da CE",-34350092.859999985]
[null,"Fondo 2018 periodicizzato da Tabella 2",43347344.090000004]
[null,"totale",{"$f":"SUM(C10:C21)","v":183473409.09000003}]
[null,"costo complesivo del pesonale da CE",{"$f":"C7","v":183398508}]

{"sheet":"Quota 2019_Rin. Contr. Dirig","index":36,"n_rows":18,"n_cols":5,"rows_kept":18,"cut":false,"hidden":false,"merged":[[5,2,6,2]]}
["Indicare quota 2019 dei rinnovi contrattuali dirigenza medica e non medica (3,48%) "]
[]
["AZIENDA:","ASL PESCARA"]
["PERIODO DI RILEVAZIONE:","Anno 2019"]
[]
["Voce CE","Descrizione Voce CE","Costo totale rilevato a\n CE Consuntivo 2019",null,"di cui"]
[null,"Importo in Euro",null,null,"la SOLA quota  2019 dei rinnovi contrattuali  iscritta tra le voci di costo del personale della dirigenza medica e non medica (3,48%), a seguito della stipula del contratto della dirigenza sanitaria medica e non medica 2016-2018 "]
[]
["BA2120","B.5.A.1.1) Costo del personale dirigente medico - tempo indeterminato",64754869.079999998,null,1949968.5437976108]
["BA2130","B.5.A.1.2) Costo del personale dirigente medico - tempo determinato",4081366.97,null,84378.104602386011]
["BA2140","B.5.A.1.3) Costo del personale dirigente medico - altro",0]
["BA2110","B.5.A.1) Costo del personale dirigente medico",68836236.049999997,null,2034346.6483999968]
[]
[]
["BA2160","B.5.A.2.1) Costo del personale dirigente non medico - tempo indeterminato",4801927.3800000008,null,191880.48508398488]
["BA2170","B.5.A.2.2) Costo del personale dirigente non medico - tempo determinato",743647.2200000002,null,20687.020516015051]
["BA2180","B.5.A.2.3) Costo del personale dirigente non medico - altro",0]
["BA2150","B.5.A.2) Costo del personale dirigente non medico",5545574.6000000015,null,212567.50559999992]

{"sheet":"Fondi CCNL - Consistenza","index":37,"n_rows":19,"n_cols":10,"rows_kept":19,"cut":false,"hidden":false,"merged":[[0,0,0,9],[18,0,18,9]]}
["Consistenza e movimentazione dei fondi del personale "]
[null,"IMPORTO FONDO  AL 31/12/2010","IMPORTO FONDO  AL 01/01/2019","PERSONALE PRESENTE AL 01/01/2019","PERSONALE ASSUNTO NELL'ANNO 2019","PERSONALE CESSATO NELL'ANNO 2019","PERSONALE PRESENTE AL 31/12/2019","IMPORTO FONDO  AL 31/12/2019","VARIAZIONE FONDO ANNO 2019 VS FONDO ANNO 2010","VARIAZIONE FONDO ANNO 2019 VS FONDO INZIALE ANNO 2019"]
[null,"(1)","(2)","(3)","(4)","(5)","(6)=(3)+(4)-(5)","(7)","(8)=(7)-(1)","(9)=(7)-(2)"]
["MEDICI E VETERINARI"]
["- Fondo specificità medica, retribuzione di posizione, equiparazione, specifico trattamento",11626812,12534757.885355037,607,35,29,613,11862426.51338187,235614.51338187046,-672331.37197316624]
["- Fondo trattamento accessorio condizioni di lavoro",2596715,2814790.3173840092,607,35,29,613,2812880.9678859329,216165.96788593289,-1909.3494980763644]
["-Fondo retribuzione di risultato e qualità prestazioni individuale",339252,448289.18,607,35,29,613,448039.73023529409,108787.73023529409,-249.44976470590336]
["DIRIGENTI  NON MEDICI SPTA"]
["- Fondo specificità medica, retribuzione di posizione, equiparazione, specifico trattamento",1330689,1328227.7141865517,76,1,6,71,1166114.6733498401,-164574.3266501599,-162113.04083671165]
["- Fondo trattamento accessorio condizioni di lavoro",74746,101895.58142107548,76,1,6,71,92065.144005523078,17319.144005523078,-9830.4374155523983]
["-Fondo retribuzione di risultato e qualità prestazioni individuale",93699,109383.47314811757,76,1,6,71,97392.043172926351,3693.043172926351,-11991.429975191219]
["PERSONALE NON DIRIGENTE"]
["- Fondo fasce, posizioni organizzative, ex indennità di qualificazione professionale e indennità professionale specifica",8864277,null,null,null,null,null,null,-8864277]
["- Fondo lavoro straordinario e remunerazione di particolari condizioni di disagio pericolo o danno",6037257,9326857.0203196499,2393,141,126,2408,9195333.047829818,3158076.047829818,-131523.97248983197]
["-Fondo della produttività collettiva per il  miglioramento dei servizi e premio della qualità delle prestazioni individuali",1523723,8647041.1164390799,2393,141,126,2408,8615208.4498571623,7091485.4498571623,-31832.666581917554]
["TOTALE",32487170,35311242.288253523,null,null,null,null,34289460.569718368]
[]
[]
["Si precisa che la determinazione dei fondi è stata effettuata in conformità alle disposizioni di cui all’art.23 comma 2 del D. Lgs. n. 75/2017 e che pertanto le dinamiche del personale rilevate nell'anno 2019 ed indicate nella suddetta tabella non costituiscono ai sensi della predetta norma riferimento esclusivo ai fini della riduzione operata sui fondi contrattuali."]

{"sheet":"Fondi CCNL - Serie Storica","index":38,"n_rows":29,"n_cols":5,"rows_kept":29,"cut":false,"hidden":false,"merged":[[17,0,17,1],[18,0,18,1],[26,0,26,5],[27,0,27,5],[28,0,28,5],[19,0,19,1],[21,0,21,1],[22,0,22,1],[23,0,23,1],[25,0,25,5],[20,0,20,1],[12,0,12,1],[16,0,16,1],[8,0,8,1],[0,0,0,4],[2,0,2,4],[3,0,3,1],[5,0,5,1],[6,0,6,1],[7,0,7,1],[9,0,9,1],[10,0,10,1],[11,0,11,1],[13,0,13,1],[14,0,14,1],[15,0,15,1]]}
[" Serie storica dei fondi del personale "]
[]
["Dettaglio PERSONALE"]
["FONDI",null,2017,2018,2019]
["AREA DIRIGENZA MEDICO - VETERINARIA"]
["FONDO PER LA RETRIBUZIONE DI RISULTATO E PER LA QUALITA' DELLA PRESTAZIONE INDIVIDUALE ",null,339002.23023529409,339002.23023529409,448039.73023529409]
["FONDO PER IL TRATTAMENTO ACCESSORIO LEGATO ALLE CONDIZIONI DI LAVORO",null,2594805.9678859329,2594805.9678859329,2812880.9678859329]
["FONDO PER L'INDENNITA' DI SPECIFICITA' MEDICA, RETRIBUZIONE DI POSIZIONE, EQUIPARAZIONE, SPECIFICO TRATTAMENTO E INDENNITA' DI DIREZIONE DI STRUTTURA COMPLESSA",null,11695817.21338187,11695817.21338187,11862426.51338187]
["AREA DIRIGENZA SANITARIA NON MEDICA"]
["FONDO PER LA RETRIBUZIONE DI RISULTATO E PER LA QUALITÀ DELLA PRESTAZIONE INDIVIDUALE",null,73604.292708354755,73604.292708354755,83841.792708354755]
["FONDO PER IL TRATTAMENTO ACCESSORIO LEGATO ALLE CONDIZIONI DI LAVORO",null,70704.001139337852,70704.001139337852,91179.001139337852]
["FONDO PER LA RETRIBUZIONE DI POSIZIONE, EQUIPARAZIONE, SPECIFICO TRATTAMENTO E INDENNITA' DI DIREZIONE DI STRUTTURA COMPLESSA",null,485190.40488432813,485190.40488432813,500833.30488432816]
["AREA DIRIGENZA PROFESSIONI SANITARIE"]
["FONDO PER LA RETRIBUZIONE DI RISULTATO E PER LA QUALITÀ DELLA PRESTAZIONE INDIVIDUALE",null,575.03353678401947,575.03353678401947,737.53353678401947]
["FONDO PER IL TRATTAMENTO ACCESSORIO LEGATO ALLE CONDIZIONI DI LAVORO",null,561.14286618521965,561.14286618521965,886.14286618521965]
["FONDO PER LA RETRIBUZIONE DI POSIZIONE, EQUIPARAZIONE, SPECIFICO TRATTAMENTO E INDENNITA' DI DIREZIONE DI STRUTTURA COMPLESSA",null,6862.2100000000009,6862.2100000000009,7110.5100000000011]
["AREA DIRIGENZA PROFESSIONALE TECNICA ED AMMINISTRATIVA (P.T.A.)"]
["FONDO PER LA RETRIBUZIONE DI RISULTATO E PER LA QUALITÀ DELLA PRESTAZIONE INDIVIDUALE",null,12812.716927787573,12812.716927787573,12812.716927787573]
["FONDO PER IL TRATTAMENTO ACCESSORIO LEGATO ALLE CONDIZIONI DI LAVORO"]
["FONDO PER LA RETRIBUZIONE DI POSIZIONE, EQUIPARAZIONE, SPECIFICO TRATTAMENTO E INDENNITA' DI DIREZIONE DI STRUTTURA COMPLESSA",null,658170.85846551193,658170.85846551193,658170.85846551193]
["AREA COMPARTO"]
["FONDO DELLA PREMIALITA' E FASCE",null,1482187.5757397155,7698270.3498571618,8615208.4498571623]
["FONDO CONDIZIONI LAVORO E INCARICHI",null,5872687.1078298166,8969636.0944051594,9195333.047829818]
["FONDO PER IL FINANZIAMENTO FASCE RETRIBUTIVE, POSIZIONI ORGANIZZATIVE, VALORE COMUNE DELLE EX INDENNITA' DI QUALIFICAZIONE PROFESSIONALE E INDENNITA' PROFESSIONALE SPECIFICA",null,8691009.5141174477]
[]
["I riferimenti dei provvedimenti adottati dall'azienda in ordine alla costituzione dei Fondi Contrattuali sono i seguenti: "]
["Deliberazione DG N. 517 del 06/05/2020: Adozione Fondi Contrattuali Aree Dirigenza consuntivi anno 2019 e preventivi anno 2020"]
["Deliberazione DG  N. 515 del 06/05/2020: Adozione Fondi Contrattuali Consuntivi Anno 2019 e Preventivi Anno 2020 ai sensi degli articoli 80 e 81 Capo II CCNL Comparto Sanità stipulato il 21 Maggio 2018"]
["I provvedimenti sopra elencati sono allegati al presente bilancio."]

{"sheet":"Tab 71","index":39,"n_rows":24,"n_cols":6,"rows_kept":24,"cut":false,"hidden":false,"merged":[[22,0,22,1],[22,2,22,3],[23,0,23,1],[22,4,22,9],[23,4,23,9],[0,0,0,5],[3,0,4,0],[3,1,4,1],[3,2,4,2],[3,3,4,3],[3,4,4,4],[2,1,2,5],[3,5,4,5]]}
["22.     Oneri diversi di gestione"]
[]
[null,"Tab. 71 – Dettaglio oneri diversi di gestione"]
["CODICE MOD. CE","DETTAGLIO ONERI DIVERSI DI GESTIONE",{"$f":"\"Valore CE \" &'00 Aggregatore'!$F$2","v":"Valore CE 2019"},{"$f":"\"Valore CE \" &'00 Aggregatore'!$F$2-1","v":"Valore CE 2018"},"Variazioni\nimporto","%"]
[]
["BA2510","Imposte e tasse (escluso IRAP e IRES)",{"$f":"SUMIF('00 CE'!$B:$B,'Tab 71'!$A6,'00 CE'!G:G)","v":1146250.02},{"$f":"SUMIF('00 CE'!$B:$B,'Tab 71'!$A6,'00 CE'!F:F)","v":1247157.1599999999},{"$f":"C6-D6","v":-100907.1399999999},{"$f":"IF(AND(C6=0,D6=0),0,IF(C6=0,\"\",IF(D6=0,\"\",E6/D6)))","v":-8.0909722716902735E-2}]
["BA2520","Perdite su crediti",{"$f":"SUMIF('00 CE'!$B:$B,'Tab 71'!$A7,'00 CE'!G:G)","v":0},{"$f":"SUMIF('00 CE'!$B:$B,'Tab 71'!$A7,'00 CE'!F:F)","v":0},{"$f":"C7-D7","v":0},{"$f":"IF(AND(C7=0,D7=0),0,IF(C7=0,\"\",IF(D7=0,\"\",E7/D7)))","v":0}]
["BA2540","Indennità, rimborso spese e oneri sociali per gli Organi Direttivi e Collegio Sindacale",{"$f":"SUMIF('00 CE'!$B:$B,'Tab 71'!$A8,'00 CE'!G:G)","v":1360331.84},{"$f":"SUMIF('00 CE'!$B:$B,'Tab 71'!$A8,'00 CE'!F:F)","v":1338906.02},{"$f":"C8-D8","v":21425.820000000065},1.6002482384835395E-2]
["0709030101","Indennità, rimborso spese e oneri sociali per il Direttore Generale",109116.17,137594.71,{"$f":"C9-D9","v":-28478.539999999994},-0.20697409079171716]
["0709030102","Indennità, rimborso spese e oneri sociali per il Direttore Amministrativo",133605.47,119782.98,13822.490000000005,0.11539611053256486]
["0709030103","Indennità, rimborso spese e oneri sociali per il Direttore Sanitario",169690.4,162687.92000000001,7002.4799999999814,4.3042409049178214E-2]
["0709030104","Indennità, rimborso spese e oneri sociali per i membri del Collegio Sindacale",40517.21,42315.360000000001,-1798.1500000000015,-4.2494025810013228E-2]
["0709030105","Indennità, rimborso spese e oneri sociali per i membri delle Commissioni varie",907402.59,876525.05,30877.539999999921,3.5227219119407849E-2]
["BA2550","Altri oneri diversi di gestione",{"$f":"SUMIF('00 CE'!$B:$B,'Tab 71'!$A14,'00 CE'!G:G)","v":339768.47},{"$f":"SUMIF('00 CE'!$B:$B,'Tab 71'!$A14,'00 CE'!F:F)","v":251935.31999999998},{"$f":"C14-D14","v":87833.15},0.34863372868877618]
["0709030201","Oneri diversi da decreti ingiuntivi, liti, arbitraggi e risarcimenti",2899.93,565.77,{"$f":"C15-D15","v":2334.16},"N/A"]
["0709030202","Oneri diversi derivanti da transazioni",0,0,{"$f":"C16-D16","v":0},"N/A"]
["0709030203","Altri oneri diversi di gestione",336868.54,251369.55,{"$f":"C17-D17","v":85498.989999999991},0.34013264534228588]
["BA2551","B.9.C.3)  Altri oneri diversi di gestione da Aziende sanitarie pubbliche della Regione",{"$f":"SUMIF('00 CE'!$B:$B,'Tab 71'!$A18,'00 CE'!G:G)","v":0},{"$f":"SUMIF('00 CE'!$B:$B,'Tab 71'!$A18,'00 CE'!F:F)","v":0},{"$f":"C18-D18","v":0},0]
["BA2552","B.9.C.4)  Altri oneri diversi di gestione - per Autoassicurazione",{"$f":"SUMIF('00 CE'!$B:$B,'Tab 71'!$A25,'00 CE'!G:G)","v":0},{"$f":"SUMIF('00 CE'!$B:$B,'Tab 71'!$A25,'00 CE'!F:F)","v":0},0,0]
["BA2500","TOTALE",{"$f":"C6+C7+C8+C14","v":2846350.33},{"$f":"D6+D7+D8+D14","v":2837998.4999999995},{"$f":"C20-D20","v":8351.8300000005402},2.942859201652341E-3]
[]
["Altre informazioni relative agli oneri diversi di gestione"]
["Informazione",null,"Caso presente in azienda?",null,"Se sì, illustrare"]
["OG01. Sono state rilevate significative variazioni rispetto all'esercizio precedente? ",null,null,"NO"]

{"sheet":"Punto 23","index":40,"n_rows":38,"n_cols":6,"rows_kept":38,"cut":false,"hidden":false,"merged":[[5,5,6,5],[5,0,6,0],[5,1,6,1],[5,2,6,2],[5,3,6,3],[5,4,6,4],[36,0,36,1],[36,2,36,3],[36,4,36,8],[37,4,37,8],[37,0,37,1]]}
[]
["23.     Accantonamenti"]
[]
["Tab. 72 – Dettaglio accantonamenti"]
[]
["CODICE MOD. CE","DETTAGLIO ACCANTONAMENTI",{"$f":"\"Valore CE \" &'00 Aggregatore'!$F$2","v":"Valore CE 2019"},{"$f":"\"Valore CE \" &'00 Aggregatore'!$F$2-1","v":"Valore CE 2018"},"Variazioni\nimporto","%"]
[]
[null,"Accantonamenti per rischi:",{"$f":"SUM(C9:C14)","v":13911512.709999999},{"$f":"SUM(D9:D14)","v":3927713.96},{"$f":"C8-D8","v":9983798.75},{"$f":"IF(AND(C8=0,D8=0),0,IF(C8=0,\"\",IF(D8=0,\"\",E8/D8)))","v":2.5418853948315525}]
["BA2710","Accantonamenti per cause civili ed oneri processuali",{"$f":"SUMIF('00 CE'!$B:$B,'Punto 23'!$A9,'00 CE'!G:G)","v":6378882.71},{"$f":"SUMIF('00 CE'!$B:$B,'Punto 23'!$A9,'00 CE'!F:F)","v":1357811.38},5021071.33,{"$f":"IF(AND(C9=0,D9=0),0,IF(C9=0,\"\",IF(D9=0,\"\",E9/D9)))","v":3.6979151920202646}]
["BA2720","Accantonamenti per contenzioso personale dipendente",{"$f":"SUMIF('00 CE'!$B:$B,'Punto 23'!$A10,'00 CE'!G:G)","v":811978.17},{"$f":"SUMIF('00 CE'!$B:$B,'Punto 23'!$A10,'00 CE'!F:F)","v":0},{"$f":"C10-D10","v":811978.17},""]
["BA2730","Accantonamenti per rischi connessi all'acquisto di prestazioni sanitarie da privato",{"$f":"SUMIF('00 CE'!$B:$B,'Punto 23'!$A11,'00 CE'!G:G)","v":1823614},{"$f":"SUMIF('00 CE'!$B:$B,'Punto 23'!$A11,'00 CE'!F:F)","v":272176.8},1551437.2,5.7001081649868759]
["BA2740","Accantonamenti per copertura diretta dei rischi (autoassicurazione)",{"$f":"SUMIF('00 CE'!$B:$B,'Punto 23'!$A12,'00 CE'!G:G)","v":0},{"$f":"SUMIF('00 CE'!$B:$B,'Punto 23'!$A12,'00 CE'!F:F)","v":2297725.7799999998},-2297725.7799999998,""]
["BA2741","Accantonamenti per franchigia assicurativa",{"$f":"SUMIF('00 CE'!$B:$B,'Punto 23'!$A13,'00 CE'!G:G)","v":4897037.83},{"$f":"SUMIF('00 CE'!$B:$B,'Punto 23'!$A13,'00 CE'!F:F)","v":0},4897037.83,0]
["BA2750","Altri accantonamenti per rischi",{"$f":"SUMIF('00 CE'!$B:$B,'Punto 23'!$A14,'00 CE'!G:G)","v":0},{"$f":"SUMIF('00 CE'!$B:$B,'Punto 23'!$A14,'00 CE'!F:F)","v":0},0,0]
["BA2751","Accantonamenti per interessi di mora",{"$f":"SUMIF('00 CE'!$B:$B,'Punto 23'!$A15,'00 CE'!G:G)","v":0},{"$f":"SUMIF('00 CE'!$B:$B,'Punto 23'!$A15,'00 CE'!F:F)","v":0},0,0]
["BA2760","Accantonamenti per premio di operosità (SUMAI)",{"$f":"SUMIF('00 CE'!$B:$B,'Punto 23'!$A16,'00 CE'!G:G)","v":277851.92},{"$f":"SUMIF('00 CE'!$B:$B,'Punto 23'!$A16,'00 CE'!F:F)","v":264664.11},13187.809999999998,4.9828478821703472E-2]
[null,"Accantonamenti per quote inutilizzate di contributi vincolati:",{"$f":"C18+C19+C20+C21","v":5204388.66},{"$f":"D18+D19+D20+D21","v":7269835.4900000002},-2065446.83,-0.28411190773726847]
["BA2780","Accantonamenti per quote inutilizzate contributi da Regione e Prov. Aut. per quota F.S. vincolato",{"$f":"SUMIF('00 CE'!$B:$B,'Punto 23'!$A18,'00 CE'!G:G)","v":5204388.66},{"$f":"SUMIF('00 CE'!$B:$B,'Punto 23'!$A18,'00 CE'!F:F)","v":7216729.6299999999},{"$f":"C18-D18","v":-2012340.9699999997},-0.27884389095507789]
["BA2790","Accantonamenti per quote inutilizzate contributi da soggetti pubblici (extra fondo) vincolati",{"$f":"SUMIF('00 CE'!$B:$B,'Punto 23'!$A19,'00 CE'!G:G)","v":0},{"$f":"SUMIF('00 CE'!$B:$B,'Punto 23'!$A19,'00 CE'!F:F)","v":53105.86},{"$f":"C19-D19","v":-53105.86},""]
["BA2800","Accantonamenti per quote inutilizzate contributi da soggetti pubblici per ricerca",{"$f":"SUMIF('00 CE'!$B:$B,'Punto 23'!$A20,'00 CE'!G:G)","v":0},{"$f":"SUMIF('00 CE'!$B:$B,'Punto 23'!$A20,'00 CE'!F:F)","v":0},{"$f":"C20-D20","v":0},0]
["BA2810","Accantonamenti per quote inutilizzate contributi vincolati da privati",{"$f":"SUMIF('00 CE'!$B:$B,'Punto 23'!$A21,'00 CE'!G:G)","v":0},{"$f":"SUMIF('00 CE'!$B:$B,'Punto 23'!$A21,'00 CE'!F:F)","v":0},{"$f":"C21-D21","v":0},0]
[null,"Altri accantonamenti:",{"$f":"SUM(C23:C32)","v":3072479.55},{"$f":"SUM(D23:D32)","v":6766827},-3694347.45,-0.54594974128938134]
["BA2840","Acc. Rinnovi convenzioni MMG/PLS/MCA",{"$f":"SUMIF('00 CE'!$B:$B,'Punto 23'!$A23,'00 CE'!G:G)","v":1990220},{"$f":"SUMIF('00 CE'!$B:$B,'Punto 23'!$A23,'00 CE'!F:F)","v":1507157},483063,0.32051272694218319]
["BA2850","Acc. Rinnovi convenzioni Medici Sumai",{"$f":"SUMIF('00 CE'!$B:$B,'Punto 23'!$A24,'00 CE'!G:G)","v":261948},{"$f":"SUMIF('00 CE'!$B:$B,'Punto 23'!$A24,'00 CE'!F:F)","v":200998},60950,0.30323684812784207]
["BA2860","Acc. Rinnovi contratt.: dirigenza medica",{"$f":"SUMIF('00 CE'!$B:$B,'Punto 23'!$A25,'00 CE'!G:G)","v":579101.55000000005},{"$f":"SUMIF('00 CE'!$B:$B,'Punto 23'!$A25,'00 CE'!F:F)","v":2419388},-1840286.45,-0.76064130680982134]
["BA2870","Acc. Rinnovi contratt.: dirigenza non medica",{"$f":"SUMIF('00 CE'!$B:$B,'Punto 23'!$A26,'00 CE'!G:G)","v":119552},{"$f":"SUMIF('00 CE'!$B:$B,'Punto 23'!$A26,'00 CE'!F:F)","v":239284},-119732,-0.50037612209759119]
["BA2880","Acc. Rinnovi contratt.: comparto",{"$f":"SUMIF('00 CE'!$B:$B,'Punto 23'!$A27,'00 CE'!G:G)","v":121658},{"$f":"SUMIF('00 CE'!$B:$B,'Punto 23'!$A27,'00 CE'!F:F)","v":0},121658,""]
["BA2881","Acc. per Trattamento di fine rapporto dipendenti",{"$f":"SUMIF('00 CE'!$B:$B,'Punto 23'!$A28,'00 CE'!G:G)","v":0},{"$f":"SUMIF('00 CE'!$B:$B,'Punto 23'!$A28,'00 CE'!F:F)","v":0},{"$f":"C28-D28","v":0}]
["BA2882","Acc. per Trattamenti di quiescenza e simili",{"$f":"SUMIF('00 CE'!$B:$B,'Punto 23'!$A29,'00 CE'!G:G)","v":0},{"$f":"SUMIF('00 CE'!$B:$B,'Punto 23'!$A29,'00 CE'!F:F)","v":0},0]
["BA2883","Acc. per Fondi integrativi pensione",{"$f":"SUMIF('00 CE'!$B:$B,'Punto 23'!$A30,'00 CE'!G:G)","v":0},{"$f":"SUMIF('00 CE'!$B:$B,'Punto 23'!$A30,'00 CE'!F:F)","v":0},0]
["BA2884","Acc. Incentivi funzioni tecniche art. 113 D.lgs 50/2016",{"$f":"SUMIF('00 CE'!$B:$B,'Punto 23'!$A31,'00 CE'!G:G)","v":0},{"$f":"SUMIF('00 CE'!$B:$B,'Punto 23'!$A31,'00 CE'!F:F)","v":0},0]
["BA2890","Altri accantonamenti",{"$f":"SUMIF('00 CE'!$B:$B,'Punto 23'!$A32,'00 CE'!G:G)","v":0},{"$f":"SUMIF('00 CE'!$B:$B,'Punto 23'!$A32,'00 CE'!F:F)","v":2400000},-2400000,""]
[null,"TOTALE",{"$f":"SUM(C22,C17,C16,C8)","v":22466232.84},{"$f":"SUM(D22,D17,D16,D8)","v":18229040.559999999},4237192.2799999993,1.7616522246266062]
[]
["AC01 - Altri accantonamenti"]
[]
["Informazione",null,"Caso presente in azienda?",null,"Se sì, illustrare"]
["AC01. La voce \"Altri accantonamenti\" è stata movimentata? Se sì, a fronte di quali rischi? ",null,null,"si"," Nella voce \"Altri accantonamenti\" sono stati contabilizzati, ai sensi dell'art. 9, comma 1, decreto legge n. 203/2005, gli accantonamenti per rinnovi contrattuali sia con riferimento al personale dipendente (per €/000 820), sia a favore del personale convenzionato (per €/000 2.252). Quanto sopra in base alle disposizioni regionali, contenute nelle Linee Guida alla redazione del Bilancio al 31/12/2019, trasmesse con nota prot. n. RA/0145029/DPF012 del 18/05/2020."]

{"sheet":"Commento Accantonamenti","index":41,"n_rows":11,"n_cols":1,"rows_kept":11,"cut":false,"hidden":false,"merged":[[0,0,0,6],[1,0,1,6],[5,0,5,6],[10,0,10,6],[3,0,3,6],[4,0,4,6],[8,0,9,6],[6,0,6,6],[7,0,7,6]]}
[]
["NOTE  ACCANTONAMENTO  CONSUNTIVO 2019"]
[]
["Con riferimento alle somme accantonate al 31/12/2019 si evidenzia quanto segue:"]
["• L'accantonamento al Fondo per cause civili ed oneri processuali (€/000 6.378) deriva dalla stima effettuata dall’Ufficio Affari Legali per passività potenziali connesse al contenzioso giudiziario in corso al 31/12/2019, comunicata con nota prot.  n. 0067185/20 del 19/05/2020 ed allegata al presente Bilancio. Rispetto al precedente esercizio, l'accantonamento per cause civili ed oneri processuali  è aumentato 5.021.071  che si è  reso necessario per far fronte alle cause di lavoro promosse dai medici convenzionati e alle cause promosse da alcuni privati accreditati).   "]
["• Al 31/12/2019  sono stati effettuati accantonamenti al Fondo per contenzioso personale dipendente di €/000 0,8, atteso che l'ammontare del fondo non è risultato congruo in base alla stima effettuata dall’Ufficio Affari Legali, comunicata con nota prot. n. 0067185/20 del 19/05/2020"]
["• Per l'esercizio 2019 , la voce \"accantonamenti per rischi connessi  all'acquisto di prestazioni sanitarie da privato” di €/000 1.824. rappresenta l'accantonamento 2019  per compensare passività potenziale a fronte del rischio  per il mancato ricevimento delle richieste note credito  da parte del servizio competente con nota n.  0071635/2020 del 28/05/2020 , ed iscritte nel bilancio 2019  a titolo di  extra budget  2019 su prestazioni ospedaliere, Psico-geriatiche in RS.A, ambulatoriali, riabilitazione ex.art.26, in R.S.A,pur in presenza  di fattue rese  per prestazioni in extrabudget  da privato accreditato, "]
["•  La somma di 4,8 mln di €, accantonata nel 2019 come da comunicazione dell’Ufficio Affari Legali aziendale con nota prot. 0067185/20 del 19/05/2020 e successiva nota prot. 0101722/20 del 28/07/2020, per franchigia assicurativa. Trattasi di somme che restano a carico dell’Azienda in virtù dell’applicazione dei meccanismi di franchigie inseriti nelle polizze e calcolati in base all’ammontare di tutti gli indennizzi complessivamente liquidati nel medesimo periodo assicurativo"]
["• la somma di €/000 5.204, contabilizzata nella voce “Accantonamenti per quote inutilizzate di contributi vincolati”, corrisponde alle quote non utilizzate di contributi da Regione o Prov. Aut. per quota F.S. vincolato anno 2019 (€/000 6.405) , contabilizzate a fondo come da specifiche istruzioni regionali contenute nelle Linee guida alla redazione del bilancio di esercizio 2019, trasmesse con nota prot. n. RA/0145029/DPF012 del 18/05/2020."]
[]
["• Nella voce \"Altri accantonamenti\" sono stati contabilizzati, ai sensi dell'art. 9, comma 1, decreto legge n. 203/2005, gli accantonamenti per rinnovi contrattuali sia con riferimento al personale dipendente (per €/000 820), sia a favore del personale convenzionato (per €/000 2.252). Quanto sopra in base alle disposizioni regionali, contenute nelle Linee Guida alla redazione del Bilancio al 31/12/2019, trasmesse con nota prot. n. RA/0145029/DPF012 del 18/05/2020."]

{"sheet":"Punti 24-25","index":42,"n_rows":20,"n_cols":5,"rows_kept":20,"cut":false,"hidden":false,"merged":[[0,0,0,3],[2,0,2,1],[2,2,2,3],[2,4,2,7],[3,0,3,1],[3,4,3,7],[4,13,12,19],[19,0,19,1],[19,4,19,5],[4,0,4,1],[4,4,4,7],[15,0,15,1],[18,0,18,1],[18,2,18,3],[18,4,18,5],[9,0,9,1]]}
["24.  Proventi e oneri finanziari"]
[]
["Informazione",null,"Caso presente in azienda?",null,"Se sì, illustrare"]
["OF01. Sono state rilevate significative variazioni rispetto all'esercizio precedente? ",null,"NO"]
["OF02. Nell'esercizio sono stati sostenuti oneri finanziari? Se sì, da quale operazione derivano? ",null,"SI",null,"Gli oneri finanziari contabilizzati nel 2019 sono principalmente rappresentati da interessi di mora su debiti commerciali."]
[]
["Proventi finanziari"]
["Cod. Conto","Descrizione","Importo"]
["0401020101","Interessi attivi su c/c postali",0]
["TOTALE",null,{"$f":"SUM(C9:C9)","v":0}]
["Oneri finanziari"]
["Cod. Conto","Descrizione","Importo"]
["0801030101","Interessi moratori",367752.63]
["0801030102","Altri interessi passivi",0]
["0802010101","Altri oneri finanziari",187.16]
["TOTALE",null,{"$f":"SUM(C13:C15)","v":367939.79}]
[]
["25. Rettifiche di valore di attività finanziarie"]
["Informazione",null,"Caso presente in azienda?",null,"Se sì, illustrare"]
["RF01. Nell'esercizio sono state rilevate rettifiche di valore di attività finanziarie? ",null,null,"NO"]

{"sheet":"Punto 26","index":43,"n_rows":21,"n_cols":5,"rows_kept":21,"cut":false,"hidden":false,"merged":[[12,3,14,6],[11,3,11,6],[20,0,21,8],[1,0,1,3],[7,0,7,1],[7,2,7,3],[8,0,8,1],[8,4,8,8],[7,4,7,8]]}
[]
["26. Proventi e oneri straordinari"]
[]
["PS01 - Plusvalenze/Minusvalenze"]
[]
[]
[]
["Informazione",null,"Caso presente in azienda?",null,"Se sì, illustrare"]
["PS01. Nell'esercizio sono state rilevate plusvalenze/minusvalenze? ",null,"si",null,"Nel corso del 2019 non sono state rilevate plusvalenze. Sono state rilevate minusvalenze per €/000 16, come di seguito dettagliate. "]
[]
[]
[null,"Tipologia beni dismessi","Importo minusvalenza","Riferimento Delibera"]
[null,"Computer",0,"Delibera del DG n. 1254 del 21/10/2019"]
[null,"Attrezzature",15224.7]
[null,"Mobili e arredi",652.79999999999995]
[null,"TOTALE",{"$f":"SUM(C13:C15)","v":15877.5}]
[]
[]
[]
[]
["Nel corso dell'esercizio 2019 non sono stati ceduti beni acquistati con contributi in c/capitale. "]

{"sheet":"PS02-03-04-05","index":44,"n_rows":96,"n_cols":10,"rows_kept":96,"cut":false,"hidden":false,"merged":[[48,0,48,9],[49,0,49,9],[66,0,66,1],[33,0,33,9],[34,0,34,9],[35,0,35,9],[44,0,44,1],[47,0,47,9],[11,0,11,1],[18,0,18,9],[25,0,25,9],[26,0,26,9],[27,0,27,9],[14,0,14,9],[15,0,15,9],[16,0,16,9],[19,0,19,9],[20,0,20,9],[21,0,21,9],[24,0,24,9],[22,0,22,9],[23,0,23,9],[17,0,17,9],[93,0,94,9],[95,0,95,9],[76,0,76,9],[78,0,78,9],[90,0,90,1],[80,0,80,9],[81,0,81,9],[82,0,82,9],[79,0,79,9],[92,0,92,9],[77,0,77,9],[28,0,28,9],[32,0,32,9],[46,0,46,9],[29,0,29,9],[30,0,30,9],[31,0,31,9],[75,0,75,9],[68,0,68,9],[73,0,73,9],[74,0,74,9],[71,0,71,9],[69,0,69,9],[70,0,70,9],[72,0,72,9]]}
[]
["PS02 - Sopravvenienze attive"]
[]
["Conto","Descrizione Conto","Anni 2012 e precedenti","Anno 2013","Anno 2014","Anno 2015","Anno 2016","Anno 2017","Anno 2018","Valore al 31/12/2019"]
["0601020201","Sopravvenienze attive v/Aziende sanitarie pubbliche della Regione relative alla mobilità intraregionale",0,0,0,0,0,0,1348470.59,{"$f":"SUM(C5:I5)","v":1348470.59}]
["0601020202","Altre sopravvenienze attive v/Aziende sanitarie pubbliche della Regione",0,0,0,0,2559.5300000000002,10584,{"$f":"8130.95+29029.67","v":37160.619999999995},{"$f":"SUM(C6:I6)","v":50304.149999999994}]
["0601020204"," Sopravvenienze attive v/terzi relative al personale",null,null,null,null,445,null,null,445]
["0601020206"," Sopravvenienze attive v/terzi relative alle convenzioni per la specialistica",null,null,null,null,null,null,1157.96,1157.96]
["0601020207","Sopravvenienze attive v/terzi relative all'acquisto prestazioni sanitarie da operatori accreditati",8096.25,null,null,null,367813.62,{"$f":"377146.24+14105","v":391251.24},{"$f":"272176.8+45414+123078.41+30526.28+7931.82+7114.35+5667.44+5385.6+136081.18","v":633375.87999999989},{"$f":"SUM(C9:I9)","v":1400536.9899999998}]
["0601020208","Sopravvenienze attive v/terzi relative all'acquisto di beni e servizi",0,0,52834.59,115802,96802,231878.86,{"$f":"1057087.51+285000","v":1342087.51},1839404.96]
["0601020210","Altre sopravvenienze attive v/terzi",0,0,637431,53077.83,170898.56,31516.68,{"$f":"617765.93+304552","v":922317.93},1815242]
["TOTALE SOPRAVVENIENZE ATTIVE",null,{"$f":"SUM(C5:C11)","v":8096.25},0,690265.59,168879.83000000002,638518.71,665230.78,4284570.4899999993,{"$f":"SUM(C12:I12)","v":6455561.6499999994}]
[]
[]
["Sopravvenienze attive v/ASL della Regione relative alla mobilità intraregionale: l’importo di €/000 1.348 è dato dalla differenza tra i valori di mobilità   attiva  intraregionale da pubblico presenti nel Ce consuntivo 2018 e quelli effettivi 2018,  come da comunicazione regionale nota n. 0145029/20/DPF012 del 18/05/2020, recante: “Linee guida ai bilanci d’esercizio 2019”"]
["Altre sopravvenienze attive v/ASL della Regione: la voce, che ammonta a €/000 50 accoglie  le sopravvenienze attive relative a fatture emesse nei confronti delle  Aziende Sanitarie Regionali per prestazioni rese prevalentemente negli esercizi 2016/2017 e 2018. "]
["Sopravvenienze attive v/terzi relative al personale:Trattasi di arretrati 2016 liquidati da INPS relativi a personale in comando."]
[" Sopravvenienze attive v/terzi relative alle convenzioni per la specialistica: trattasi di competenze stipendiali non erogate relative all'esercizio 2018."]
["Sopravvenienze attive v/terzi relative all'acquisto prestazioni sanitarie da operatori accreditati: il saldo (€/000 1.401) accoglie note di credito emesse da strutture convenzionate per extra budget e per decurtazioni a seguito di verbali di verifica per prestazioni di riabilitazione ex art. 26. Inoltre, accoglie la rilevazione di quota fissa e ticket per prestazioni rese a dicembre 2018 da strutture convenzionate. Il saldo è così composto: "]
["• Nota di credito di €/000 367 emessa dalla struttura Villa Serena  per prestazioni in extra budget  rese in RSA psicogeriatrica Azzurra anno 2016;"]
["• Nota di credito di €/000 377  eemessa dalla struttura Villa Serena  per prestazioni in extra budget  rese in RSA psicogeriatrica Azzurra anno 2017;"]
["• Nota di credito di €/000 272 emessa dalla struttura Villa Serena  per prestazioni in extra budget  rese in RSA psicogeriatrica Azzurra anno 2018;"]
["• Nota di credito di €/000 123  emessa dalla struttura Prov.Rel Ss apostoli Pietro e Paolo   per prestazioni in extra budget  di riabilitazione ex art 26  anno 2018;"]
["• Note di credito per complessive  €/000 124  emessa da Laboratoti privati  per  prestazioni in extra budget a anno 2016-2018;"]
["•Inoltre, la voce ccoglie la rilevazione di quota fissa e ticket per prestazioni rese nell'esercizio 2018 da strutture convenzionate."]
["Sopravvenienze attive verso terzi – relative all’acquisto di beni e servizi: la voce (€/000 1.839) accoglie prevalentemente note di credito emesse da ditte varie a storno di forniture avvenute in esercizi precedenti. Gli importi più significativi sono i seguenti:  "]
["• €/000 455, Fatture attive emesse alla Ditta Dussmann srl per richieste di rimborso consumi gas, acqua ed energia elettrica  relativi agli anni 2015/2018"]
["• €/000 546, Nota credito emessa da ACA Spa per storno fattura 2018 ;"]
["• €/000 122, relative a note di credito emesse dalla ditta Bioh Filtrazione Srl per storno fatture anni 2016 e 2017 a seguito di accordo transattivo"]
["• €/000 88, Nota credito emessa da Università D'Annunzio di Chieti per storno fattura 2018 "]
["• €/000 558, relative a note di credito emesse da  ditte diverse  per storno fatture anni 2018 e precedenti;"]
["Sopravvenienze attive verso terzi – altre sopravvenienze attive: la voce accoglie tutte le altre sopravvenienze attive (per €/000 1.815, diverse da quelle classificate nelle restanti voci. In particolare, vi sono contabilizzate: "]
["• €/000 502 , Quote a destinazione vincolata per Extracomunitari irregolari ex art. 35 c. 6 D.Lgs. 286/98 - Debito pregresso per anni antecedenti al 01/01/2017-DPF015/80 del 23/12/2019;"]
["• €/000 285, Contributo Piano Regionale Prevenzione 2014-2018 Azione 2 Programma 12 -DPF010/04 del 05/02/2019;"]
["• €/000 637  Credito IRAP a seguito del ricalcolo dell'IRAP anno 2014 sostituendo al metodo retributivo  il metodo misto vedi allegata D.G. n 1542/2019 "]
["• €/000 305 credito   da compensazione IRAP per disabili Modello Unico 2018 ;"]
[]
["PS03 - Insussistenze attive"]
[]
["Conto","Descrizione Conto","Anni 2012 e precedenti","Anno 2013","Anno 2014","Anno 2015","Anno 2016","Anno 2017","Anno 2018","Valore al 31/12/2019"]
["0601020303","Insussistenze attive verso terzi - relative al personale ",null,null,null,null,null,null,686937,{"$f":"SUM(C41:I41)","v":686937}]
["0601020306","Insussistenze attive verso terzi - relative all' acquisto di prestazioni sanitarie da operatori accreditati",0,0,0,0,0,2694,32280,{"$f":"SUM(C42:I42)","v":34974}]
["0601020307","Insussistenze attive verso terzi - relative all' acquisto di beni e servizi",null,null,null,null,null,null,77558.910999999993,{"$f":"SUM(C43:I43)","v":77558.910999999993}]
["0601020308"," Altre insussistenze attive v/terzi",0,0,0,0,0,0,18799.61,{"$f":"SUM(C44:I44)","v":18799.61}]
["TOTALE INSUSSISTENZE ATTIVE",null,{"$f":"SUM(C42:C44)","v":0},{"$f":"SUM(D42:D44)","v":0},0,0,0,2694,128638.52099999999,{"$f":"SUM(J41:J44)","v":818269.52099999995}]
[]
["Insussistenze attive verso terzi – relative al personale: La voce accoglie per €/000 687 la rilevazione dell'insussistenza a seguito dello storno dal Fondo rinnovi contrattuali personale dipendente delle quote accantonate, presenti nel bilancio 2018, corrisposte al personale nell'anno 2020  per il periodo 2016-2018, in relazione alla sottoscrizione del CCNL 2016-2018 della dirigenza sanitaria medica e non medica  avvenuta in data 19/12/2019,  come richiesto dalla Regione con DPF012/24 del 23/07/2020  trasmessa con nota prot. RA/0225090/20/DPF012 del 24/07/2020."]
["Insussistenze attive verso terzi – relative all’acquisto di prestazioni sanitarie da operatori accreditati: La voce accoglie per  €/000 35 la rilevazione dell'insussistenza di debiti verso strutture con contratti negoziali per la chiusura di fatture anno 2017 relativamente alla quota fissa."]
["Insussistenze attive verso terzi – relative all’acquisto di beni e servizi: la voce, che ammonta ad €/000 78, accoglie le insussistenze attive derivanti dalla chiusura di debiti v/fornitori per l'acquisto di beni e servizi che risultano insussistenti. "]
["Insussistenze attive verso terzi – altre insussistenze attive verso terzi: la voce ammonta a €/000 19 ed accoglie altre insussistenze attive di debiti non dovuti a vario titolo. Il saldo si compone di importi di rilevanza non significativa."]
[]
[]
["PS04 - Sopravvenienze passive"]
[]
[]
["Conto","Descrizione Conto","Anni 2012 e precedenti","Anno 2013","Anno 2014","Anno 2015","Anno 2016","Anno 2017","Anno 2018","Valore al 31/12/2019"]
[1001020301,"Sopravvenienze passive v/Aziende sanitarie pubbliche relative alla mobilità intraregionale",0,0,0,0,0,0,1777259.44,{"$f":"SUM(C57:I57)","v":1777259.44}]
[1001020302,"Altre sopravvenienze passive v/Aziende sanitarie pubbliche della Regione",0,0,0,0,0,0,241065.45,{"$f":"SUM(C58:I58)","v":241065.45}]
[1001020304,"Sopravvenienze passive v/terzi relative al personale - dirigenza medica",0,0,0,0,0,0,34724.99,34724.99]
["1001020305","Sopravvenienze passive v/terzi relative al personale - dirigenza non medica",0,0,0,0,0,0,0,0]
[1001020306,"Sopravvenienze passive v/terzi relative al personale - comparto",0,0,0,0,0,0,18778.349999999999,18778.349999999999]
[1001020307,"Sopravvenienze passive v/terzi relative alle convenzioni con medici di base",0,0,0,0,0,0,107401.09,107401.09]
[1001020308,"Sopravvenienze passive v/terzi relative alle convenzioni con la specialistica",0,0,0,0,0,0,110856.75,110856.75]
[1001020309,"Sopravvenienze passive v/terzi relative all'acquisto prestazioni sanitarie da operatori accreditati",{"$f":"82763.89+126010.21+118127.92+53995.7+1918626.26","v":2299523.98},{"$f":"11414.07+506053.58","v":517467.65},404490.03,266667.94,463350.72,45311.29,20052,4016863.6100000003]
["1001020310","Sopravvenienze passive v/terzi relative all'acquisto di beni e servizi",0,null,null,null,328000,327665,{"$f":"95000+328000+305000+413259+455335","v":1596594},2252259]
["1001020312","Altre sopravvenienze passive v/terzi",0,0,0,4,0,0,{"$f":"410000+198872.64+92066+100948","v":801886.64},801890.64]
["TOTALE SOPRAVVENIENZE PASSIVE",null,{"$f":"SUM(C57:C66)","v":2299523.98},517467.65,404490.03,266671.94,791350.72,372976.29,4708618.71,{"$f":"SUM(C67:I67)","v":9361099.3200000003}]
[]
["Sopravvenienze passive v/ASL  relative alla mobilità intraregionale: l’importo di €/000 1.777 è dato dalla differenza tra i valori di mobilità   passiva  intraregionale da pubblico presenti nel Ce consuntivo 2018 e quella effettivi  2018,  come da comunicazione regionale nota n. 0145029/20/DPF012 del 18/05/2020, recante: “Linee guida ai bilanci d’esercizio 2019”"]
["Sopravvenienze passive v/Aziende sanitarie pubbliche della Regione: la voce, che ammonta a €/000 241 accoglie  le sopravvenienze passive relative a fatture emesse dalle AASSLL regionali, riferite a prestazioni specialistiche erogate nel precedente esercizio, non registrate nel periodo di competenza in quanto pervenute nel 2019, dopo la data di predisposizione del bilancio al 31/12/2018."]
["Sopravvenienze passive v/terzi relative al personale – dirigenza medica: la voce, di importo pari a €/000 35 accoglie la sopravvenienza passiva per autoliquidazione premio INAIL saldo 2018,  non rilevato nell'esercizio di competenza. "]
["Sopravvenienze passive v/terzi relative al personale – personale comparto: la voce, di importo pari a €/000 19,  L accoglie le sopravvenienze passive per arretrati spettanti al personale del comparto,  non rilevati nell'esercizio di competenza."]
["Sopravvenienze passive verso terzi - relative alle convenzioni con medici di base: l'importo (€/000 107) accoglie la rilevazione di somme relative ad esercizi precedenti liquidate a medici di base."]
["Sopravvenienze passive verso terzi - relative alle convenzioni con la specialistica: L'importo (€/000 111) accoglie le sopravvenienze passive per arretrati spettanti ai medici specialisti, non rilevati nell'esercizio di competenza."]
[" Sopravvenienze passive v/terzi relative all’acquisto di prestazioni sanitarie da operatori accreditati: la voce accoglie le fatture emesse da operatori sanitari accreditati relative a prestazioni sanitarie di varia natura erogate negli anni precedenti, non registrate negli esercizi di competenza. Il saldo si compone prevalentemente delle seguenti voci:"]
["• €/000 3.943:  In maggio la struttura privata accreditata Synergo Srl ha emesso note per  interessi moratori relativi a prestazioni fatturate negli  anni 2006-2017  per €/000 3.605 e per costi integrativi per illegittima applicazione dello sconto riferito alla legge finanziaria 2017 (cass. Sentenza 10582 del 04/05/2018), anni 2010-2013  per €/000 338. L’importo complessivo  richiesto ammonta a 3,943 mln di €. Va precisato che, poiché trattasi di oneri  imprevisti  e pertanto  incompatibili con gli obiettivi programmatici, l’Azienda non dispone di risorse proprie per la loro copertura economica  come rappresentato  alla Direzione Politiche della Salute con nota n.0100787/19 del 26/07/2019.  Si fa presente inoltre che a fine luglio u.s. sono state emesse dalla Synergo  SpA nei confronti della ASL di Pescara ulteriori fatture per complessivi € 17.361.052.72 a titolo di prestazioni aggiuntive di assistenza ospedaliera riferite agli anni 2006-2015. Anche se tali costi non sono rappresentati nel Bilancio D'Esercizio 2019, si è ritenuto opportuno darne ugualmente evidenza in considerazione dell’ingente importo. Anche se tali costi non sono rappresentati nel CE IV trimestre, si è ritenuto opportuno darne ugualmente evidenza in considerazione dell’ingente importo. Anche di tale fatture la Direzione Generale  aziendale ne ha dato comunicazione alla Regione, Dipartimento per la Salute ed il Welfare,  ai sensi dell’art. 6, comma 2, dell’Intesa Stato regioni 23/03/2005, con nota n. 0120941/19 dell’11/09/2019"]
["• €/000 54,liquidazione alla struttura Villa Letizia delle prestazioni di assistenza ospedaliera anno 2007 in esecuzione sentenza n. 1091/2018 emessa dalla Corte d'Appello dell'Aquila; "]
["• €/000 20,altro; "]
["Sopravvenienze passive V/terzi relative all'acquisto di beni e servizi di €/000 2.252  L'importo accoglie  le fatture pervenute nell'esercizio, emesse da ditte varie a fronte di forniture di beni e servizi avvenute negli anni  precedenti: Gli importi più significativi sono:"]
["- €/000 783, relativi ai conguagli 2017 e 2018 fatturato da Servizi Ospedalieri SPA  per la gestione del servizio appaltato del lavanolo; "]
["- €/000 511,  relativi al conguaglio prestazioni ADI rese da Medicasa Italia SPA nell'esercizio 2018"]
["- €/000 305  relativi al servizio di tesoreria anno 2018 fatturato dalla Banca popolare di Bari"]
["la voce \"Altre sopravvenienze passive \"  accoglie  altre sopravvenienze passive, diverse da quelle classificate nelle precedenti voci. Gli importi più rilevanti sono: €/000 199 relativi a prestazioni erogate nel 2018 dalla Casa Famiglia \"Il Samaritano\" della Fondazione Caritas onlus;  €/000 92 relativi alla TARI Comune di Penne anno 2016; €/000 10 relativi a prestazioni sanitarie rese nel 2018 dall'Az. Ospedaliero-Universitaria Meyer;  €/000 7 relativi alla liquidazione di differenze contributive INPS calcolate sulle retribuzioni del personale dipendente riferite agli anni compresi tra 2011 e 2018; €/000 4 per rimborso forniture sanitarie rese  dalla ASL di Alessandria nell'anno 2015. Inoltre sono stati liquidati  €/000 110  ed €/000 300 a seguito della definizione di un contenzioso per il riconoscimento del danno il cui rischio di soccombenza non è stato previsto nel fono rischi."]
[]
[]
["PS05 - Insussistenze passive"]
[]
["Conto","Descrizione Conto","Anni 2012 e precedenti","Anno 2013","Anno 2014","Anno 2015","Anno 2016","Anno 2017","Anno 2018","Valore al 31/12/2019"]
["1001020407","Insussistenze passive v/terzi relative all'acquisto di beni e servizi",0,0,0,0,0,0,71630.8,{"$f":"SUM(C89:I89)","v":71630.8}]
["1001020408","Altre insussistenze passive v/terzi",null,null,null,null,0,0,73906.539999999994,73906.539999999994]
["TOTALE INSUSSISTENZE PASSIVE",null,{"$f":"SUM(C89:C90)","v":0},0,0,0,0,0,145537.34,145537.34]
[]
[" Le insussitenze passive v/s terzi relativa all'acquisto di beni e servizi,  accoglie la rilevazione della chiusura di note di credito, emesse a storno di fatture la cui chiusura ha determinato la rilevazione di una insussistenza attiva di pari importo (voce EA0230)"]
[]
[]
["Insussistenze passive v/terzi – altre insussistenze passive: La voce accoglie la rilevazione della chiusura di documenti di modesto importo dichiarati insussistenti ."]

{"sheet":"PS06","index":45,"n_rows":29,"n_cols":7,"rows_kept":29,"cut":false,"hidden":false,"merged":[[0,0,0,5],[2,0,2,3],[2,4,2,5],[6,0,6,4],[3,0,4,3],[3,4,4,4],[3,5,4,5],[2,6,2,10],[21,4,25,4],[25,0,25,1],[20,3,20,4],[8,3,8,4],[9,4,13,4],[13,0,13,1],[18,0,18,4],[3,6,4,10]]}
["Altre informazioni"]
[]
["Informazione",null,null,null,"Caso presente in azienda?",null,"Se sì, illustrare"]
["PS06. Esistono altre informazioni che si ritiene necessario fornire per soddisfare la regola generale secondo cui \"Se le informazioni richieste da specifiche disposizioni di legge non sono sufficienti a dare una rappresentazione veritiera e corretta, si devono fornire le informazioni complementari necessarie allo scopo\" (art. 2423 CC)? ",null,null,null,null,"NO"]
[]
[]
["TABELLA DI RACCORDO - DETTAGLIO PROVENTI STRAORDINARI"]
[]
["Voce CE","Descrizione","Valore","Voce CE IV Dir."]
["EA0050","Totale sopravvenienze attive",6455561.7599999998,"a","E 1) b)"]
["EA0150","Totale insussistenze attive",818270.79,"b"]
["EA0040","Proventi da donazioni e liberalità diverse",0]
["EA0250","Altri proventi straordinari",0]
["TOTALE Altri proventi straordinari",null,{"$f":"SUM(C10:C13)","v":7273832.5499999998}]
[]
["a","Totale Tabella PS 02 Nota Integrativa"]
["b","Totale Tabella PS 03 Nota Integrativa"]
[]
["TABELLA DI RACCORDO - DETTAGLIO ONERI STRAORDINARI"]
[]
["Voce CE","Descrizione","Valore","Voce CE IV Dir."]
["EA0310","Totale sopravvenienze passive",9361099.4199999999,"c","E 2) b)"]
["EA0460","Totale insussistenze passive",145537.35,"d"]
["EA0300","Oneri da cause civili ed oneri processuali",0]
["EA0560","Altri oneri straordinari",0]
["TOTALE Altri oneri straordinari",null,{"$f":"SUM(C22:C25)","v":9506636.7699999996}]
[]
["c","Totale Tabella PS 04 Nota Integrativa"]
["d","Totale Tabella PS 05 Nota Integrativa"]